BEGIN:VCALENDAR
VERSION:2.0
PRODID:-//Catalunya Turisme - ECPv6.5.1.5//NONSGML v1.0//EN
CALSCALE:GREGORIAN
METHOD:PUBLISH
X-WR-CALNAME:Catalunya Turisme
X-ORIGINAL-URL:https://staging.catalunyaturisme.cat/es/
X-WR-CALDESC:Events for Catalunya Turisme
REFRESH-INTERVAL;VALUE=DURATION:PT1H
X-Robots-Tag:noindex
X-PUBLISHED-TTL:PT1H
BEGIN:VTIMEZONE
TZID:Europe/Madrid
BEGIN:DAYLIGHT
TZOFFSETFROM:+0100
TZOFFSETTO:+0200
TZNAME:CEST
DTSTART:20240331T010000
END:DAYLIGHT
BEGIN:STANDARD
TZOFFSETFROM:+0200
TZOFFSETTO:+0100
TZNAME:CET
DTSTART:20241027T010000
END:STANDARD
END:VTIMEZONE
BEGIN:VEVENT
DTSTART;VALUE=DATE:20240601
DTEND;VALUE=DATE:20240602
DTSTAMP:20260422T235031
CREATED:20240418T081751Z
LAST-MODIFIED:20240722T103119Z
UID:10002767-1717200000-1717286399@staging.catalunyaturisme.cat
SUMMARY:La Primavera del Cava
DESCRIPTION:Desde el 4 hasta el 26 de mayo\, la comarca del Penedès\, junto con el Alt Camp\, Alella y la Conca de Barberà\, se visten de gala para celebrar la séptima edición de La Primavera del Cava. Este festival enoturístico\, que coincide con el estallido de la primavera y los primeros brotes en los viñedos\, ofrece una escapada idílica para los amantes del cava y la naturaleza. \nDurante los fines de semana de mayo\, 16 bodegas de renombre abren sus puertas para revelar los secretos del cava a través de actividades que fusionan cultura\, gastronomía y paisaje. Los asistentes podréis disfrutar de conciertos en vivo\, sesiones de yoga entre viñedos\, talleres de cocina local\, y maridajes exquisitos que destacan la sinergia entre los cavas y productos como quesos y embutidos tradicionales. \nCada bodega participa con propuestas únicas: desde caminatas nórdicas que exploran los entornos pintorescos\, hasta brunchs al aire libre que prometen delicias culinarias con vistas espectaculares. Esta iniciativa de enoturismo puro no solo busca celebrar la estación\, sino también potenciar la conexión de los visitantes con el terruño y la tradición vitivinícola catalana. \nReservas anticipadas son esenciales para garantizar una experiencia personalizada e íntima\, dado que el aforo es limitado. Para más información y reservas\, visitad su web.
URL:https://staging.catalunyaturisme.cat/es/esdeveniment/la-primavera-del-cava/2024-06-01/
ATTACH;FMTTYPE=image/jpeg:https://staging.catalunyaturisme.cat/wp-content/uploads/LPDC-3-min-scaled.jpg
END:VEVENT
BEGIN:VEVENT
DTSTART;VALUE=DATE:20240607
DTEND;VALUE=DATE:20240608
DTSTAMP:20260422T235031
CREATED:20240418T081751Z
LAST-MODIFIED:20240722T103119Z
UID:10002768-1717718400-1717804799@staging.catalunyaturisme.cat
SUMMARY:La Primavera del Cava
DESCRIPTION:Desde el 4 hasta el 26 de mayo\, la comarca del Penedès\, junto con el Alt Camp\, Alella y la Conca de Barberà\, se visten de gala para celebrar la séptima edición de La Primavera del Cava. Este festival enoturístico\, que coincide con el estallido de la primavera y los primeros brotes en los viñedos\, ofrece una escapada idílica para los amantes del cava y la naturaleza. \nDurante los fines de semana de mayo\, 16 bodegas de renombre abren sus puertas para revelar los secretos del cava a través de actividades que fusionan cultura\, gastronomía y paisaje. Los asistentes podréis disfrutar de conciertos en vivo\, sesiones de yoga entre viñedos\, talleres de cocina local\, y maridajes exquisitos que destacan la sinergia entre los cavas y productos como quesos y embutidos tradicionales. \nCada bodega participa con propuestas únicas: desde caminatas nórdicas que exploran los entornos pintorescos\, hasta brunchs al aire libre que prometen delicias culinarias con vistas espectaculares. Esta iniciativa de enoturismo puro no solo busca celebrar la estación\, sino también potenciar la conexión de los visitantes con el terruño y la tradición vitivinícola catalana. \nReservas anticipadas son esenciales para garantizar una experiencia personalizada e íntima\, dado que el aforo es limitado. Para más información y reservas\, visitad su web.
URL:https://staging.catalunyaturisme.cat/es/esdeveniment/la-primavera-del-cava/2024-06-07/
ATTACH;FMTTYPE=image/jpeg:https://staging.catalunyaturisme.cat/wp-content/uploads/LPDC-3-min-scaled.jpg
END:VEVENT
BEGIN:VEVENT
DTSTART;VALUE=DATE:20240608
DTEND;VALUE=DATE:20240609
DTSTAMP:20260422T235031
CREATED:20240418T081751Z
LAST-MODIFIED:20240722T103119Z
UID:10002769-1717804800-1717891199@staging.catalunyaturisme.cat
SUMMARY:La Primavera del Cava
DESCRIPTION:Desde el 4 hasta el 26 de mayo\, la comarca del Penedès\, junto con el Alt Camp\, Alella y la Conca de Barberà\, se visten de gala para celebrar la séptima edición de La Primavera del Cava. Este festival enoturístico\, que coincide con el estallido de la primavera y los primeros brotes en los viñedos\, ofrece una escapada idílica para los amantes del cava y la naturaleza. \nDurante los fines de semana de mayo\, 16 bodegas de renombre abren sus puertas para revelar los secretos del cava a través de actividades que fusionan cultura\, gastronomía y paisaje. Los asistentes podréis disfrutar de conciertos en vivo\, sesiones de yoga entre viñedos\, talleres de cocina local\, y maridajes exquisitos que destacan la sinergia entre los cavas y productos como quesos y embutidos tradicionales. \nCada bodega participa con propuestas únicas: desde caminatas nórdicas que exploran los entornos pintorescos\, hasta brunchs al aire libre que prometen delicias culinarias con vistas espectaculares. Esta iniciativa de enoturismo puro no solo busca celebrar la estación\, sino también potenciar la conexión de los visitantes con el terruño y la tradición vitivinícola catalana. \nReservas anticipadas son esenciales para garantizar una experiencia personalizada e íntima\, dado que el aforo es limitado. Para más información y reservas\, visitad su web.
URL:https://staging.catalunyaturisme.cat/es/esdeveniment/la-primavera-del-cava/2024-06-08/
ATTACH;FMTTYPE=image/jpeg:https://staging.catalunyaturisme.cat/wp-content/uploads/LPDC-3-min-scaled.jpg
END:VEVENT
BEGIN:VEVENT
DTSTART;VALUE=DATE:20240613
DTEND;VALUE=DATE:20240614
DTSTAMP:20260422T235031
CREATED:20231230T153147Z
LAST-MODIFIED:20231230T153613Z
UID:10000106-1718265600-1718298000@staging.catalunyaturisme.cat
SUMMARY:Ciclo 'La ciencia del vino' a Reus
DESCRIPTION:Ciclo de conferencias ‘La ciencia del vino’ ofrece un recorrido para conocer el vino desde diferentes ámbitos de la investigación\, desde el cultivo más ancestral de la viña hasta el proceso tecnológico más innovador en la bodega. En cada trago de vino se esconde no sólo mucha investigación histórica\, también otras disciplinas científicas que lo convierten en un producto vivo\, único y en evolución constante. \nCada charla estará en el Castillo del Camarero de Reus e irá acompañada de dos catas de vinos DO Montsant. \nDe la mano de investigadoras\, investigadores y docentes de la Universidad Rovira i Virgili\, este ciclo pretende descubrir todo lo que rodea al mundo del vino a través de un paseo con la ciencia como compañera de viaje. Éste es el programa: \n19 de octubre: “El vino\, un placer para los sentidos”\, a cargo de Toni Sánchez\, investigador del Departamento de Bioquímica y Biotecnología de la URV. \n23 de noviembre: “La comunicación\, inevitable para sentir el vino”\, a cargo de Ruth Troyano\, periodista y autora de la colección de libros Retrats de Vi (URV). \n14 de diciembre: “El marketing del vino”\, a cargo de Jaume Gené\, investigador del Departamento de Gestión de Empresas de la URV. \n18 de enero: “De la viña a la bodega”\, a cargo de Míriam Lampreave\, investigadora del Departamento de Bioquímica y Biotecnología de la URV. \n22 de febrero: “Los orígenes de la producción y el consumo en la Península Ibérica”\, a cargo de Jordi Diloli\, investigador del Departamento de Historia e Historia del Arte de la URV. \n21 de marzo: “El vino y la salud: mitos y realidades”\, a cargo de Anna Borrull\, investigadora del Departamento de Bioquímica y Biotecnología de la URV. \n18 de abril: “Las catedrales del vino”\, a cargo de Ramon Arnabat\, investigador del Departamento de Historia e Historia del Arte de la URV\, y Celia Mallafré\, profesora de la Escuela Técnica Superior de Arquitectura de la URV. \n16 de mayo: “Vinos y maridajes”\, a cargo de Sumpta Mateos\, investigadora del Departamento de Bioquímica y Biotecnología de la URV.”Vinos y maridajes”\, “Vinos y maridajes”. \n13 de junio: “¿Qué hemos heredado de griegos y romanos?”\, a cargo de Joaquín Ruiz de Arbulo\, investigador del Departamento de Historia e Historia del Arte de la URV.
URL:https://staging.catalunyaturisme.cat/es/esdeveniment/ciclo-la-ciencia-del-vino-a-reus/2024-06-13/
LOCATION:URV Reus
CATEGORIES:Gastronomia
ATTACH;FMTTYPE=image/jpeg:https://staging.catalunyaturisme.cat/wp-content/uploads/la-ciencia-del-vi.jpg
END:VEVENT
BEGIN:VEVENT
DTSTART;VALUE=DATE:20240614
DTEND;VALUE=DATE:20240615
DTSTAMP:20260422T235031
CREATED:20240418T081751Z
LAST-MODIFIED:20240722T103119Z
UID:10002770-1718323200-1718409599@staging.catalunyaturisme.cat
SUMMARY:La Primavera del Cava
DESCRIPTION:Desde el 4 hasta el 26 de mayo\, la comarca del Penedès\, junto con el Alt Camp\, Alella y la Conca de Barberà\, se visten de gala para celebrar la séptima edición de La Primavera del Cava. Este festival enoturístico\, que coincide con el estallido de la primavera y los primeros brotes en los viñedos\, ofrece una escapada idílica para los amantes del cava y la naturaleza. \nDurante los fines de semana de mayo\, 16 bodegas de renombre abren sus puertas para revelar los secretos del cava a través de actividades que fusionan cultura\, gastronomía y paisaje. Los asistentes podréis disfrutar de conciertos en vivo\, sesiones de yoga entre viñedos\, talleres de cocina local\, y maridajes exquisitos que destacan la sinergia entre los cavas y productos como quesos y embutidos tradicionales. \nCada bodega participa con propuestas únicas: desde caminatas nórdicas que exploran los entornos pintorescos\, hasta brunchs al aire libre que prometen delicias culinarias con vistas espectaculares. Esta iniciativa de enoturismo puro no solo busca celebrar la estación\, sino también potenciar la conexión de los visitantes con el terruño y la tradición vitivinícola catalana. \nReservas anticipadas son esenciales para garantizar una experiencia personalizada e íntima\, dado que el aforo es limitado. Para más información y reservas\, visitad su web.
URL:https://staging.catalunyaturisme.cat/es/esdeveniment/la-primavera-del-cava/2024-06-14/
ATTACH;FMTTYPE=image/jpeg:https://staging.catalunyaturisme.cat/wp-content/uploads/LPDC-3-min-scaled.jpg
END:VEVENT
BEGIN:VEVENT
DTSTART;VALUE=DATE:20240615
DTEND;VALUE=DATE:20240616
DTSTAMP:20260422T235031
CREATED:20240418T081751Z
LAST-MODIFIED:20240722T103119Z
UID:10002771-1718409600-1718495999@staging.catalunyaturisme.cat
SUMMARY:La Primavera del Cava
DESCRIPTION:Desde el 4 hasta el 26 de mayo\, la comarca del Penedès\, junto con el Alt Camp\, Alella y la Conca de Barberà\, se visten de gala para celebrar la séptima edición de La Primavera del Cava. Este festival enoturístico\, que coincide con el estallido de la primavera y los primeros brotes en los viñedos\, ofrece una escapada idílica para los amantes del cava y la naturaleza. \nDurante los fines de semana de mayo\, 16 bodegas de renombre abren sus puertas para revelar los secretos del cava a través de actividades que fusionan cultura\, gastronomía y paisaje. Los asistentes podréis disfrutar de conciertos en vivo\, sesiones de yoga entre viñedos\, talleres de cocina local\, y maridajes exquisitos que destacan la sinergia entre los cavas y productos como quesos y embutidos tradicionales. \nCada bodega participa con propuestas únicas: desde caminatas nórdicas que exploran los entornos pintorescos\, hasta brunchs al aire libre que prometen delicias culinarias con vistas espectaculares. Esta iniciativa de enoturismo puro no solo busca celebrar la estación\, sino también potenciar la conexión de los visitantes con el terruño y la tradición vitivinícola catalana. \nReservas anticipadas son esenciales para garantizar una experiencia personalizada e íntima\, dado que el aforo es limitado. Para más información y reservas\, visitad su web.
URL:https://staging.catalunyaturisme.cat/es/esdeveniment/la-primavera-del-cava/2024-06-15/
ATTACH;FMTTYPE=image/jpeg:https://staging.catalunyaturisme.cat/wp-content/uploads/LPDC-3-min-scaled.jpg
END:VEVENT
BEGIN:VEVENT
DTSTART;VALUE=DATE:20240621
DTEND;VALUE=DATE:20240622
DTSTAMP:20260422T235031
CREATED:20240418T081751Z
LAST-MODIFIED:20240722T103119Z
UID:10002772-1718928000-1719014399@staging.catalunyaturisme.cat
SUMMARY:La Primavera del Cava
DESCRIPTION:Desde el 4 hasta el 26 de mayo\, la comarca del Penedès\, junto con el Alt Camp\, Alella y la Conca de Barberà\, se visten de gala para celebrar la séptima edición de La Primavera del Cava. Este festival enoturístico\, que coincide con el estallido de la primavera y los primeros brotes en los viñedos\, ofrece una escapada idílica para los amantes del cava y la naturaleza. \nDurante los fines de semana de mayo\, 16 bodegas de renombre abren sus puertas para revelar los secretos del cava a través de actividades que fusionan cultura\, gastronomía y paisaje. Los asistentes podréis disfrutar de conciertos en vivo\, sesiones de yoga entre viñedos\, talleres de cocina local\, y maridajes exquisitos que destacan la sinergia entre los cavas y productos como quesos y embutidos tradicionales. \nCada bodega participa con propuestas únicas: desde caminatas nórdicas que exploran los entornos pintorescos\, hasta brunchs al aire libre que prometen delicias culinarias con vistas espectaculares. Esta iniciativa de enoturismo puro no solo busca celebrar la estación\, sino también potenciar la conexión de los visitantes con el terruño y la tradición vitivinícola catalana. \nReservas anticipadas son esenciales para garantizar una experiencia personalizada e íntima\, dado que el aforo es limitado. Para más información y reservas\, visitad su web.
URL:https://staging.catalunyaturisme.cat/es/esdeveniment/la-primavera-del-cava/2024-06-21/
ATTACH;FMTTYPE=image/jpeg:https://staging.catalunyaturisme.cat/wp-content/uploads/LPDC-3-min-scaled.jpg
END:VEVENT
BEGIN:VEVENT
DTSTART;VALUE=DATE:20240622
DTEND;VALUE=DATE:20240623
DTSTAMP:20260422T235031
CREATED:20240418T081751Z
LAST-MODIFIED:20240722T103119Z
UID:10002773-1719014400-1719100799@staging.catalunyaturisme.cat
SUMMARY:La Primavera del Cava
DESCRIPTION:Desde el 4 hasta el 26 de mayo\, la comarca del Penedès\, junto con el Alt Camp\, Alella y la Conca de Barberà\, se visten de gala para celebrar la séptima edición de La Primavera del Cava. Este festival enoturístico\, que coincide con el estallido de la primavera y los primeros brotes en los viñedos\, ofrece una escapada idílica para los amantes del cava y la naturaleza. \nDurante los fines de semana de mayo\, 16 bodegas de renombre abren sus puertas para revelar los secretos del cava a través de actividades que fusionan cultura\, gastronomía y paisaje. Los asistentes podréis disfrutar de conciertos en vivo\, sesiones de yoga entre viñedos\, talleres de cocina local\, y maridajes exquisitos que destacan la sinergia entre los cavas y productos como quesos y embutidos tradicionales. \nCada bodega participa con propuestas únicas: desde caminatas nórdicas que exploran los entornos pintorescos\, hasta brunchs al aire libre que prometen delicias culinarias con vistas espectaculares. Esta iniciativa de enoturismo puro no solo busca celebrar la estación\, sino también potenciar la conexión de los visitantes con el terruño y la tradición vitivinícola catalana. \nReservas anticipadas son esenciales para garantizar una experiencia personalizada e íntima\, dado que el aforo es limitado. Para más información y reservas\, visitad su web.
URL:https://staging.catalunyaturisme.cat/es/esdeveniment/la-primavera-del-cava/2024-06-22/
ATTACH;FMTTYPE=image/jpeg:https://staging.catalunyaturisme.cat/wp-content/uploads/LPDC-3-min-scaled.jpg
END:VEVENT
BEGIN:VEVENT
DTSTART;VALUE=DATE:20240628
DTEND;VALUE=DATE:20240629
DTSTAMP:20260422T235031
CREATED:20240418T081751Z
LAST-MODIFIED:20240722T103119Z
UID:10002774-1719532800-1719619199@staging.catalunyaturisme.cat
SUMMARY:La Primavera del Cava
DESCRIPTION:Desde el 4 hasta el 26 de mayo\, la comarca del Penedès\, junto con el Alt Camp\, Alella y la Conca de Barberà\, se visten de gala para celebrar la séptima edición de La Primavera del Cava. Este festival enoturístico\, que coincide con el estallido de la primavera y los primeros brotes en los viñedos\, ofrece una escapada idílica para los amantes del cava y la naturaleza. \nDurante los fines de semana de mayo\, 16 bodegas de renombre abren sus puertas para revelar los secretos del cava a través de actividades que fusionan cultura\, gastronomía y paisaje. Los asistentes podréis disfrutar de conciertos en vivo\, sesiones de yoga entre viñedos\, talleres de cocina local\, y maridajes exquisitos que destacan la sinergia entre los cavas y productos como quesos y embutidos tradicionales. \nCada bodega participa con propuestas únicas: desde caminatas nórdicas que exploran los entornos pintorescos\, hasta brunchs al aire libre que prometen delicias culinarias con vistas espectaculares. Esta iniciativa de enoturismo puro no solo busca celebrar la estación\, sino también potenciar la conexión de los visitantes con el terruño y la tradición vitivinícola catalana. \nReservas anticipadas son esenciales para garantizar una experiencia personalizada e íntima\, dado que el aforo es limitado. Para más información y reservas\, visitad su web.
URL:https://staging.catalunyaturisme.cat/es/esdeveniment/la-primavera-del-cava/2024-06-28/
ATTACH;FMTTYPE=image/jpeg:https://staging.catalunyaturisme.cat/wp-content/uploads/LPDC-3-min-scaled.jpg
END:VEVENT
BEGIN:VEVENT
DTSTART;VALUE=DATE:20240629
DTEND;VALUE=DATE:20240630
DTSTAMP:20260422T235031
CREATED:20240418T081751Z
LAST-MODIFIED:20240722T103119Z
UID:10002775-1719619200-1719705599@staging.catalunyaturisme.cat
SUMMARY:La Primavera del Cava
DESCRIPTION:Desde el 4 hasta el 26 de mayo\, la comarca del Penedès\, junto con el Alt Camp\, Alella y la Conca de Barberà\, se visten de gala para celebrar la séptima edición de La Primavera del Cava. Este festival enoturístico\, que coincide con el estallido de la primavera y los primeros brotes en los viñedos\, ofrece una escapada idílica para los amantes del cava y la naturaleza. \nDurante los fines de semana de mayo\, 16 bodegas de renombre abren sus puertas para revelar los secretos del cava a través de actividades que fusionan cultura\, gastronomía y paisaje. Los asistentes podréis disfrutar de conciertos en vivo\, sesiones de yoga entre viñedos\, talleres de cocina local\, y maridajes exquisitos que destacan la sinergia entre los cavas y productos como quesos y embutidos tradicionales. \nCada bodega participa con propuestas únicas: desde caminatas nórdicas que exploran los entornos pintorescos\, hasta brunchs al aire libre que prometen delicias culinarias con vistas espectaculares. Esta iniciativa de enoturismo puro no solo busca celebrar la estación\, sino también potenciar la conexión de los visitantes con el terruño y la tradición vitivinícola catalana. \nReservas anticipadas son esenciales para garantizar una experiencia personalizada e íntima\, dado que el aforo es limitado. Para más información y reservas\, visitad su web.
URL:https://staging.catalunyaturisme.cat/es/esdeveniment/la-primavera-del-cava/2024-06-29/
ATTACH;FMTTYPE=image/jpeg:https://staging.catalunyaturisme.cat/wp-content/uploads/LPDC-3-min-scaled.jpg
END:VEVENT
END:VCALENDAR