BEGIN:VCALENDAR
VERSION:2.0
PRODID:-//Catalunya Turisme - ECPv6.5.1.5//NONSGML v1.0//EN
CALSCALE:GREGORIAN
METHOD:PUBLISH
X-ORIGINAL-URL:https://staging.catalunyaturisme.cat/es/
X-WR-CALDESC:Events for Catalunya Turisme
REFRESH-INTERVAL;VALUE=DURATION:PT1H
X-Robots-Tag:noindex
X-PUBLISHED-TTL:PT1H
BEGIN:VTIMEZONE
TZID:Europe/Madrid
BEGIN:DAYLIGHT
TZOFFSETFROM:+0100
TZOFFSETTO:+0200
TZNAME:CEST
DTSTART:20230326T010000
END:DAYLIGHT
BEGIN:STANDARD
TZOFFSETFROM:+0200
TZOFFSETTO:+0100
TZNAME:CET
DTSTART:20231029T010000
END:STANDARD
BEGIN:DAYLIGHT
TZOFFSETFROM:+0100
TZOFFSETTO:+0200
TZNAME:CEST
DTSTART:20240331T010000
END:DAYLIGHT
BEGIN:STANDARD
TZOFFSETFROM:+0200
TZOFFSETTO:+0100
TZNAME:CET
DTSTART:20241027T010000
END:STANDARD
END:VTIMEZONE
BEGIN:VEVENT
DTSTART;VALUE=DATE:20231125
DTEND;VALUE=DATE:20240106
DTSTAMP:20260423T075456
CREATED:20231204T212458Z
LAST-MODIFIED:20231204T232212Z
UID:10000052-1700870400-1704499199@staging.catalunyaturisme.cat
SUMMARY:Mercado de Navidad de Girona
DESCRIPTION:El Mercado de Navidad de Girona da un año más el pistoletazo de salida a las fiestas navideñas. Este año durante más de un mes: de la noche del 24 de noviembre al 5 de enero\, en la icónica Plaza de la Independencia de la capital gerundense. Estará abierto de 10:30 ha 21 h\, todos los días\, excepto los festivos navideños 25 y 26 de diciembre y 1 de enero. \nLa feria cuenta con una veintena de tenderetes de madera con todo tipo de productos artesanales\, donde se priorizan que sean locales. Se pueden encontrar desde artículos de Navidad como abetos\, tions\, guirnaldas y luces de navidad\, a juguetes trabajados con madera y regalos como textiles\, prendas de joyería\, cerámicas artesanas y adornos de vidrio o madera. También hay productos de alimentación como embutidos y quesos artesanos\, y dulces en Navidad: turrones\, barquillos… \nEste mercado es el más popular y más largo de los que se organizan en la ciudad de Girona\, pero no es el único. Puede consultar todas las actividades de estas fiestas en el programa del Ayuntamiento.
URL:https://staging.catalunyaturisme.cat/es/esdeveniment/mercado-de-navidad-de-girona/
LOCATION:Girona\, Plaça de la Independència
CATEGORIES:Fires,Nadal
ATTACH;FMTTYPE=image/png:https://staging.catalunyaturisme.cat/wp-content/uploads/Captura-de-pantalla-2023-12-04-222418.png
END:VEVENT
BEGIN:VEVENT
DTSTART;TZID=Europe/Madrid:20231216T183000
DTEND;TZID=Europe/Madrid:20240104T200000
DTSTAMP:20260423T075456
CREATED:20231229T093506Z
LAST-MODIFIED:20231229T093705Z
UID:10000054-1702751400-1704398400@staging.catalunyaturisme.cat
SUMMARY:IV Mercado solidario de arte de Tortosa
DESCRIPTION:En el IV Mercado solidario de arte de Tortosa podrá ver una exposición de obras de arte y piezas de pequeño formato de artistas del territorio de diferentes disciplinas: pintura\, fotografía\, poemas manuscritos y diferentes ediciones de libros\, entre otros. Además\, una parte de los beneficios se destina a la lucha contra el cáncer.
URL:https://staging.catalunyaturisme.cat/es/esdeveniment/iv-mercat-solidari-dart-de-tortosa/
CATEGORIES:Fires
ATTACH;FMTTYPE=image/jpeg:https://staging.catalunyaturisme.cat/wp-content/uploads/mercat-dart-solidari-tortosa-400.jpg
END:VEVENT
BEGIN:VEVENT
DTSTART;VALUE=DATE:20231218
DTEND;VALUE=DATE:20240109
DTSTAMP:20260423T075456
CREATED:20231202T174212Z
LAST-MODIFIED:20231202T174708Z
UID:10000050-1702857600-1704758399@staging.catalunyaturisme.cat
SUMMARY:Belén vivente de Bàscara
DESCRIPTION:El Belén Viviente de Bàscara es uno de los más conocidos de la demarcación de Girona y uno de los más antiguos de Cataluña. Esta pequeña población medieval del Alt Empordà\, de unos 1.000 habitantes\, revive las escenas bíblicas del nacimiento de Jesús en una representación por el caso histórico y los espacios naturales de la localidad\, en la orilla del Fluvià. \nSe celebra desde 1973 y desde esa Navidad es una tradición que continúan generación tras generación donde buena parte de la población está implicada: son más de 300 actores. \nEn la primera parte\, en la plaza de la Iglesia\, el visitante permanece parado contemplando las escenas plásticas y recibe una introducción. Un espectacular preámbulo que ha ido cambiando a lo largo de los años con luces y sonido. La segunda parte es un recorrido en el que se pasea entre las representaciones vivientes de las escenas.
URL:https://staging.catalunyaturisme.cat/es/esdeveniment/pessebre-vivent-de-bascara/
CATEGORIES:Nadal
ATTACH;FMTTYPE=image/jpeg:https://staging.catalunyaturisme.cat/wp-content/uploads/cartell23.jpg
END:VEVENT
BEGIN:VEVENT
DTSTART;VALUE=DATE:20240105
DTEND;VALUE=DATE:20240106
DTSTAMP:20260423T075456
CREATED:20231229T113420Z
LAST-MODIFIED:20231229T113545Z
UID:10000070-1704412800-1704499199@staging.catalunyaturisme.cat
SUMMARY:Cabalgata de Reyes 2024
DESCRIPTION:Como cada año\, los Reyes Magos y su séquito recorrerán las calles de diversas poblaciones de Cataluña la noche del 5 de enero\, con sus magníficas carrozas\, en una propuesta llena de música\, fiesta\, espectáculos y muchísimos regalos por repartir.
URL:https://staging.catalunyaturisme.cat/es/esdeveniment/cabalgata-de-reyes-2024/
CATEGORIES:Nadal
ATTACH;FMTTYPE=image/jpeg:https://staging.catalunyaturisme.cat/wp-content/uploads/cq5dam.web_.1280.1280-2.jpeg
END:VEVENT
BEGIN:VEVENT
DTSTART;VALUE=DATE:20240106
DTEND;VALUE=DATE:20240107
DTSTAMP:20260423T075456
CREATED:20231229T140426Z
LAST-MODIFIED:20231229T140634Z
UID:10000074-1704499200-1704585599@staging.catalunyaturisme.cat
SUMMARY:Puertas Abiertas en el Museu Dalí
DESCRIPTION:El Museo Dalí de Figueres abre gratuitamente para todos el día de Reyes\, por primera vez en su historia. \nHasta ahora\, el equipamiento ofrecía la gratuidad solo a los figuerenses y figuerenses\, pero una donación reciente ha dado testimonio de la voluntad real del artista\, que ya había escogido esta fecha como jornada de puertas abiertas. \nPuedes ver el documento de Dalí en la imagen. \nLas entradas se pueden reservar a través del web.
URL:https://staging.catalunyaturisme.cat/es/esdeveniment/puertas-abiertas-en-el-museu-dali/
LOCATION:Teatre-Museu Dalí de Figueres
CATEGORIES:Art
ATTACH;FMTTYPE=image/jpeg:https://staging.catalunyaturisme.cat/wp-content/uploads/492f2fb6-9b3e-485d-9fae-bdcac9b13183-scaled.jpg
END:VEVENT
BEGIN:VEVENT
DTSTART;VALUE=DATE:20240112
DTEND;VALUE=DATE:20240324
DTSTAMP:20260423T075456
CREATED:20231229T112916Z
LAST-MODIFIED:20231229T113120Z
UID:10000068-1705017600-1711238399@staging.catalunyaturisme.cat
SUMMARY:Festival Folk Internacional Tradicionàrius
DESCRIPTION:La 37ª edición del Festival Folk Internacional Tradicionàrius\, en Barcelona\, ​​tiene como uno de sus ejes principales la misión de dar visibilidad a grupos que reivindican las lenguas y la cultura de las minorías silenciadas. \nEl festival\, organizado por el Centre Artesà Tradicionàrius reivindica la lucha por la difusión y promoción de la música de raíz tradicional. Y no sólo la música\, sino también la cultura\, la danza\, la lengua\, la tradición y todo lo que le rodea. Este 2024 tendrá lugar del 12 de enero al 23 de marzo.
URL:https://staging.catalunyaturisme.cat/es/esdeveniment/festival-folk-internacional-tradicionarius/
LOCATION:Centre Artesà Tradicionàrius
CATEGORIES:Música
ATTACH;FMTTYPE=image/jpeg:https://staging.catalunyaturisme.cat/wp-content/uploads/cq5dam.web_.1280.1280-1.jpeg
END:VEVENT
BEGIN:VEVENT
DTSTART;TZID=Europe/Madrid:20240112T200000
DTEND;TZID=Europe/Madrid:20240112T233000
DTSTAMP:20260423T075456
CREATED:20231229T100305Z
LAST-MODIFIED:20231229T103247Z
UID:10000126-1705089600-1705102200@staging.catalunyaturisme.cat
SUMMARY:Festival Neu!
DESCRIPTION:La 10ª edición del Festival Neu!\, a Girona y Salt\, sigue reafirmando su clara apuesta por el talento independiente de la escena catalana. Algunas de las propuestas musicales más destacadas son el concierto inaugural con Pau Vallvé\, la actuación de los Cala Vento\, el último concierto de Mazoni antes de una parada indefinida\, o las actuaciones de Núria Graham\, Mujeres o Carmen 113 en la Gran Noche del NEU!. \nAdemás\, después del éxito de la primera edición del NEU! PRO 2023\, vuelve a organizarse un encuentro para profesionales de industria musical.
URL:https://staging.catalunyaturisme.cat/es/esdeveniment/festival-neu/2024-01-12/
LOCATION:Girona i Salt
CATEGORIES:Música
ATTACH;FMTTYPE=image/jpeg:https://staging.catalunyaturisme.cat/wp-content/uploads/neu.jpg
END:VEVENT
BEGIN:VEVENT
DTSTART;TZID=Europe/Madrid:20240113T120000
DTEND;TZID=Europe/Madrid:20240113T170000
DTSTAMP:20260423T075456
CREATED:20231229T100305Z
LAST-MODIFIED:20231229T103247Z
UID:10000127-1705147200-1705165200@staging.catalunyaturisme.cat
SUMMARY:Festival Neu!
DESCRIPTION:La 10ª edición del Festival Neu!\, a Girona y Salt\, sigue reafirmando su clara apuesta por el talento independiente de la escena catalana. Algunas de las propuestas musicales más destacadas son el concierto inaugural con Pau Vallvé\, la actuación de los Cala Vento\, el último concierto de Mazoni antes de una parada indefinida\, o las actuaciones de Núria Graham\, Mujeres o Carmen 113 en la Gran Noche del NEU!. \nAdemás\, después del éxito de la primera edición del NEU! PRO 2023\, vuelve a organizarse un encuentro para profesionales de industria musical.
URL:https://staging.catalunyaturisme.cat/es/esdeveniment/festival-neu/2024-01-13/
LOCATION:Girona i Salt
CATEGORIES:Música
ATTACH;FMTTYPE=image/jpeg:https://staging.catalunyaturisme.cat/wp-content/uploads/neu.jpg
END:VEVENT
BEGIN:VEVENT
DTSTART;TZID=Europe/Madrid:20240113T190000
DTEND;TZID=Europe/Madrid:20240113T210000
DTSTAMP:20260423T075456
CREATED:20240112T100332Z
LAST-MODIFIED:20240112T102510Z
UID:10000086-1705172400-1705179600@staging.catalunyaturisme.cat
SUMMARY:JazzConcabella
DESCRIPTION:Un año más se celebra el Festival de Jazz del Castillo de Concabella\, en Els Plans de Sió. Este festival de jazz\, que se celebra de enero a marzo\, ofrece un concierto mensual en un entorno único: el Castillo de Concabella. Además\, este año cuenta con participación de referentes del jazz. \nEl JazzConcabella es un festival acogedor y familiar\, que busca combinar la pasión por el jazz con la belleza de la naturaleza. Los conciertos tienen lugar a las 7 de la tarde y las entradas se pueden comprar a través de la web del festival.
URL:https://staging.catalunyaturisme.cat/es/esdeveniment/jazzconcabella/2024-01-13/
LOCATION:Castell de Concabella
CATEGORIES:Música
ATTACH;FMTTYPE=image/jpeg:https://staging.catalunyaturisme.cat/wp-content/uploads/festival-de-jazz-de-concabella_page-0001-scaled.jpg
END:VEVENT
BEGIN:VEVENT
DTSTART;TZID=Europe/Madrid:20240114T180000
DTEND;TZID=Europe/Madrid:20240114T190000
DTSTAMP:20260423T075456
CREATED:20231229T100305Z
LAST-MODIFIED:20231229T103247Z
UID:10000128-1705255200-1705258800@staging.catalunyaturisme.cat
SUMMARY:Festival Neu!
DESCRIPTION:La 10ª edición del Festival Neu!\, a Girona y Salt\, sigue reafirmando su clara apuesta por el talento independiente de la escena catalana. Algunas de las propuestas musicales más destacadas son el concierto inaugural con Pau Vallvé\, la actuación de los Cala Vento\, el último concierto de Mazoni antes de una parada indefinida\, o las actuaciones de Núria Graham\, Mujeres o Carmen 113 en la Gran Noche del NEU!. \nAdemás\, después del éxito de la primera edición del NEU! PRO 2023\, vuelve a organizarse un encuentro para profesionales de industria musical.
URL:https://staging.catalunyaturisme.cat/es/esdeveniment/festival-neu/2024-01-14/
LOCATION:Girona i Salt
CATEGORIES:Música
ATTACH;FMTTYPE=image/jpeg:https://staging.catalunyaturisme.cat/wp-content/uploads/neu.jpg
END:VEVENT
BEGIN:VEVENT
DTSTART;VALUE=DATE:20240118
DTEND;VALUE=DATE:20240119
DTSTAMP:20260423T075456
CREATED:20231230T153147Z
LAST-MODIFIED:20231230T153613Z
UID:10000101-1705564800-1705597200@staging.catalunyaturisme.cat
SUMMARY:Ciclo 'La ciencia del vino' a Reus
DESCRIPTION:Ciclo de conferencias ‘La ciencia del vino’ ofrece un recorrido para conocer el vino desde diferentes ámbitos de la investigación\, desde el cultivo más ancestral de la viña hasta el proceso tecnológico más innovador en la bodega. En cada trago de vino se esconde no sólo mucha investigación histórica\, también otras disciplinas científicas que lo convierten en un producto vivo\, único y en evolución constante. \nCada charla estará en el Castillo del Camarero de Reus e irá acompañada de dos catas de vinos DO Montsant. \nDe la mano de investigadoras\, investigadores y docentes de la Universidad Rovira i Virgili\, este ciclo pretende descubrir todo lo que rodea al mundo del vino a través de un paseo con la ciencia como compañera de viaje. Éste es el programa: \n19 de octubre: “El vino\, un placer para los sentidos”\, a cargo de Toni Sánchez\, investigador del Departamento de Bioquímica y Biotecnología de la URV. \n23 de noviembre: “La comunicación\, inevitable para sentir el vino”\, a cargo de Ruth Troyano\, periodista y autora de la colección de libros Retrats de Vi (URV). \n14 de diciembre: “El marketing del vino”\, a cargo de Jaume Gené\, investigador del Departamento de Gestión de Empresas de la URV. \n18 de enero: “De la viña a la bodega”\, a cargo de Míriam Lampreave\, investigadora del Departamento de Bioquímica y Biotecnología de la URV. \n22 de febrero: “Los orígenes de la producción y el consumo en la Península Ibérica”\, a cargo de Jordi Diloli\, investigador del Departamento de Historia e Historia del Arte de la URV. \n21 de marzo: “El vino y la salud: mitos y realidades”\, a cargo de Anna Borrull\, investigadora del Departamento de Bioquímica y Biotecnología de la URV. \n18 de abril: “Las catedrales del vino”\, a cargo de Ramon Arnabat\, investigador del Departamento de Historia e Historia del Arte de la URV\, y Celia Mallafré\, profesora de la Escuela Técnica Superior de Arquitectura de la URV. \n16 de mayo: “Vinos y maridajes”\, a cargo de Sumpta Mateos\, investigadora del Departamento de Bioquímica y Biotecnología de la URV.”Vinos y maridajes”\, “Vinos y maridajes”. \n13 de junio: “¿Qué hemos heredado de griegos y romanos?”\, a cargo de Joaquín Ruiz de Arbulo\, investigador del Departamento de Historia e Historia del Arte de la URV.
URL:https://staging.catalunyaturisme.cat/es/esdeveniment/ciclo-la-ciencia-del-vino-a-reus/2024-01-18/
LOCATION:URV Reus
CATEGORIES:Gastronomia
ATTACH;FMTTYPE=image/jpeg:https://staging.catalunyaturisme.cat/wp-content/uploads/la-ciencia-del-vi.jpg
END:VEVENT
BEGIN:VEVENT
DTSTART;VALUE=DATE:20240119
DTEND;VALUE=DATE:20240122
DTSTAMP:20260423T075456
CREATED:20240119T224709Z
LAST-MODIFIED:20240119T230659Z
UID:10000164-1705622400-1705881599@staging.catalunyaturisme.cat
SUMMARY:Feria del Aceite a Les Borges Blanques y Les Garrigues
DESCRIPTION:Les Borges Blanques será el punto de encuentro de expositores de productos agroalimentarios en la nueva 61ª edición de la Feria del Aceite Calidad Virgen Extra en Les Borges Blanques y Les Garrigues. Esta incluye\, además del espacio del expositor\, de jornadas técnicas y actividades que brindarán a los asistentes mayor conocimiento del producto que se produce en la comarca de Les Garrigues. Se ha organizado un programa en el que también son protagonistas los frutos secos\, que representan uno de los pilares de la agricultura de la zona.
URL:https://staging.catalunyaturisme.cat/es/esdeveniment/27a-fira-de-loli/
LOCATION:Pavelló de l’oli
CATEGORIES:Fires
ATTACH;FMTTYPE=image/jpeg:https://staging.catalunyaturisme.cat/wp-content/uploads/fira-oli-garrigues.jpeg
END:VEVENT
BEGIN:VEVENT
DTSTART;VALUE=DATE:20240119
DTEND;VALUE=DATE:20240128
DTSTAMP:20260423T075456
CREATED:20240119T223523Z
LAST-MODIFIED:20240119T224151Z
UID:10000162-1705622400-1706399999@staging.catalunyaturisme.cat
SUMMARY:XXIII Muestra de Montaña y Aventura de Figueres
DESCRIPTION:La XXIII Muestra de Montaña y Aventura de Figueres reúne proyecciones\, presentaciones y conferencias con el objetivo de conocer y profundizar en el mundo de la aventura y la montaña. Habrá ponentes reconocidos y pases de películas de renombre.
URL:https://staging.catalunyaturisme.cat/es/esdeveniment/xxiii-mostra-de-muntanya-i-aventura-de-figueres/
LOCATION:Sala La Cate\, CatCinemes i Cercle Sport Figuerenc
CATEGORIES:Fires
ATTACH;FMTTYPE=image/jpeg:https://staging.catalunyaturisme.cat/wp-content/uploads/1a5lamostra2024final.jpg-600x600-1.jpg
END:VEVENT
BEGIN:VEVENT
DTSTART;TZID=Europe/Madrid:20240120T180000
DTEND;TZID=Europe/Madrid:20240120T193000
DTSTAMP:20260423T075456
CREATED:20231229T100305Z
LAST-MODIFIED:20231229T103247Z
UID:10000129-1705773600-1705779000@staging.catalunyaturisme.cat
SUMMARY:Festival Neu!
DESCRIPTION:La 10ª edición del Festival Neu!\, a Girona y Salt\, sigue reafirmando su clara apuesta por el talento independiente de la escena catalana. Algunas de las propuestas musicales más destacadas son el concierto inaugural con Pau Vallvé\, la actuación de los Cala Vento\, el último concierto de Mazoni antes de una parada indefinida\, o las actuaciones de Núria Graham\, Mujeres o Carmen 113 en la Gran Noche del NEU!. \nAdemás\, después del éxito de la primera edición del NEU! PRO 2023\, vuelve a organizarse un encuentro para profesionales de industria musical.
URL:https://staging.catalunyaturisme.cat/es/esdeveniment/festival-neu/2024-01-20/
LOCATION:Girona i Salt
CATEGORIES:Música
ATTACH;FMTTYPE=image/jpeg:https://staging.catalunyaturisme.cat/wp-content/uploads/neu.jpg
END:VEVENT
BEGIN:VEVENT
DTSTART;VALUE=DATE:20240121
DTEND;VALUE=DATE:20240122
DTSTAMP:20260423T075456
CREATED:20231229T104234Z
LAST-MODIFIED:20231229T104534Z
UID:10000060-1705795200-1705881599@staging.catalunyaturisme.cat
SUMMARY:La Feria del Fesol en Santa Pau
DESCRIPTION:La Feria del Fesol o Feria de San Antonio en Santa Pau\, la Garrotxa\, tendrá lugar este 2024 el sábado 21 de enero. \nLa feria reúne puestos de artesanía\, espectáculos populares\, actividades familiares\, la entrega del Fesol de Oro 2024 y la popular Fesolada\, una degustación de diferentes platos elaborados con frijoles de Santa Pau\, en la plaza mayor. \nHay actividades programadas también para la noche del viernes 20 de enero\, víspera de la feria\, con una cena y actuación musical (15€).
URL:https://staging.catalunyaturisme.cat/es/esdeveniment/feria-del-fesol/
LOCATION:Santa Pau
CATEGORIES:Fires
ATTACH;FMTTYPE=image/jpeg:https://staging.catalunyaturisme.cat/wp-content/uploads/FiraFesol2024_Cartell_page-0001.jpg
END:VEVENT
BEGIN:VEVENT
DTSTART;VALUE=DATE:20240121
DTEND;VALUE=DATE:20240122
DTSTAMP:20260423T075456
CREATED:20231229T105423Z
LAST-MODIFIED:20231229T105640Z
UID:10000062-1705795200-1705881599@staging.catalunyaturisme.cat
SUMMARY:XXVII Feria del Aceite y el Olivo de Espolla
DESCRIPTION:La XXVII Feria del Aceite y el Olivo de Espolla reúne diferentes actividades en esta localidad del Alt Empordà. Entre ellas: la muestra y venta de plantel\, productos\, herramientas y maquinaria referentes al aceite y el olivo\, feria de artesanos y elaboradores de productos del paraje de la Albera. \nExisten también actividades programadas para el sábado 20 de enero.
URL:https://staging.catalunyaturisme.cat/es/esdeveniment/xxvii-feria-del-aceite-y-el-olivo-de-espolla/
LOCATION:Espolla
CATEGORIES:Fires
ATTACH;FMTTYPE=image/jpeg:https://staging.catalunyaturisme.cat/wp-content/uploads/Portada_27aFira-WEB.jpg
END:VEVENT
BEGIN:VEVENT
DTSTART;VALUE=DATE:20240126
DTEND;VALUE=DATE:20240520
DTSTAMP:20260423T075456
CREATED:20231229T114500Z
LAST-MODIFIED:20231229T114638Z
UID:10000072-1706227200-1716163199@staging.catalunyaturisme.cat
SUMMARY:Barnasants. Festival de canción de autor
DESCRIPTION:Barnsants es un festival de música que ofrece canción de autor en diferentes espacios y municipios de los territorios de habla catalana. En esta edición\, su cartel conmemora el 50 aniversario de la Revolución de los Claveles y el centenario de Joan Salvat-Papasseit. \nEn el marco de este festival se realizarán más de 120 actuaciones que mezclan a autores emergentes con artistas más consolidados\, de los que destacan nombres como Marc Parrot\, Renaldo & Clara o Clara Peya. \nBarnasants también organiza actuaciones por toda Cataluña\, las Islas Baleares\, la Comunidad Valenciana\, donde destaca la presencia de Albert Pla en Ondarra\, y Alguer. Además\, desde hace unos años el festival propone un país invitado\, que en esta ocasión es Perú\, con artistas peruanos como invitados.
URL:https://staging.catalunyaturisme.cat/es/esdeveniment/barnasants-festival-de-canco-dautor/
LOCATION:Diversos espais
CATEGORIES:Música
ATTACH;FMTTYPE=image/jpeg:https://staging.catalunyaturisme.cat/wp-content/uploads/c9c7f8c7-3835-41dd-b345-ffe1980541a6.jpeg
END:VEVENT
BEGIN:VEVENT
DTSTART;TZID=Europe/Madrid:20240126T100000
DTEND;TZID=Europe/Madrid:20240126T170000
DTSTAMP:20260423T075456
CREATED:20231229T100305Z
LAST-MODIFIED:20231229T103247Z
UID:10000130-1706263200-1706288400@staging.catalunyaturisme.cat
SUMMARY:Festival Neu!
DESCRIPTION:La 10ª edición del Festival Neu!\, a Girona y Salt\, sigue reafirmando su clara apuesta por el talento independiente de la escena catalana. Algunas de las propuestas musicales más destacadas son el concierto inaugural con Pau Vallvé\, la actuación de los Cala Vento\, el último concierto de Mazoni antes de una parada indefinida\, o las actuaciones de Núria Graham\, Mujeres o Carmen 113 en la Gran Noche del NEU!. \nAdemás\, después del éxito de la primera edición del NEU! PRO 2023\, vuelve a organizarse un encuentro para profesionales de industria musical.
URL:https://staging.catalunyaturisme.cat/es/esdeveniment/festival-neu/2024-01-26/1/
LOCATION:Girona i Salt
CATEGORIES:Música
ATTACH;FMTTYPE=image/jpeg:https://staging.catalunyaturisme.cat/wp-content/uploads/neu.jpg
END:VEVENT
BEGIN:VEVENT
DTSTART;TZID=Europe/Madrid:20240126T200000
DTEND;TZID=Europe/Madrid:20240126T230000
DTSTAMP:20260423T075456
CREATED:20231229T100305Z
LAST-MODIFIED:20231229T103247Z
UID:10000131-1706299200-1706310000@staging.catalunyaturisme.cat
SUMMARY:Festival Neu!
DESCRIPTION:La 10ª edición del Festival Neu!\, a Girona y Salt\, sigue reafirmando su clara apuesta por el talento independiente de la escena catalana. Algunas de las propuestas musicales más destacadas son el concierto inaugural con Pau Vallvé\, la actuación de los Cala Vento\, el último concierto de Mazoni antes de una parada indefinida\, o las actuaciones de Núria Graham\, Mujeres o Carmen 113 en la Gran Noche del NEU!. \nAdemás\, después del éxito de la primera edición del NEU! PRO 2023\, vuelve a organizarse un encuentro para profesionales de industria musical.
URL:https://staging.catalunyaturisme.cat/es/esdeveniment/festival-neu/2024-01-26/2/
LOCATION:Girona i Salt
CATEGORIES:Música
ATTACH;FMTTYPE=image/jpeg:https://staging.catalunyaturisme.cat/wp-content/uploads/neu.jpg
END:VEVENT
BEGIN:VEVENT
DTSTART;VALUE=DATE:20240127
DTEND;VALUE=DATE:20240128
DTSTAMP:20260423T075456
CREATED:20231229T110752Z
LAST-MODIFIED:20231229T111056Z
UID:10000064-1706313600-1706399999@staging.catalunyaturisme.cat
SUMMARY:Los sabores del aceite\, el oro líquido de la Plana a Santa Bàrbara
DESCRIPTION:Tercera edición de la experiencia turística por Santa Bárbara y las llanuras del Montsià para conocer la cultura tradicional vinculada a los olivos y al aceite: los orígenes\, el proceso y la elaboración del aceite de oliva en la Plana del Montsià\, en la jornada ‘Proba la cultura del Ebro: Los sabores del aceite\, el oro líquido de la Plana’ del 18 al 17 de enero. \nEste producto ha sido uno de los elementos más importantes de Santa Bárbara y ha caracterizado\, especialmente desde el s. XVIII\, los cambios sociales\, culturales y comerciales de la localidad y las poblaciones vecinas del interior del Montsià y Baix Ebre. \nDurante el recorrido\, se podrán visitar diferentes espacios\, donde se describen las técnicas agrícolas y los campos de cultivo originados a partir de la colonización agrícola en época moderna\, hasta las instalaciones en las que se elabora y se distribuye este bien tan preciado y\, finalmente\, podrá degustar las diferentes variedades de aceite que se producen en Santa Bárbara.
URL:https://staging.catalunyaturisme.cat/es/esdeveniment/els-sabors-de-loli-lor-liquid-de-la-plana-a-santa-barbara/
LOCATION:Centre d’Interpretació de la Vida a la Plana i Cooperativa Agrícola del Camp de Santa Bàrbara
CATEGORIES:Gastronomia
ATTACH;FMTTYPE=image/jpeg:https://staging.catalunyaturisme.cat/wp-content/uploads/els-sabors-de-loli.jpg
END:VEVENT
BEGIN:VEVENT
DTSTART;TZID=Europe/Madrid:20240127T120000
DTEND;TZID=Europe/Madrid:20240127T170000
DTSTAMP:20260423T075456
CREATED:20231229T100305Z
LAST-MODIFIED:20231229T103247Z
UID:10000132-1706356800-1706374800@staging.catalunyaturisme.cat
SUMMARY:Festival Neu!
DESCRIPTION:La 10ª edición del Festival Neu!\, a Girona y Salt\, sigue reafirmando su clara apuesta por el talento independiente de la escena catalana. Algunas de las propuestas musicales más destacadas son el concierto inaugural con Pau Vallvé\, la actuación de los Cala Vento\, el último concierto de Mazoni antes de una parada indefinida\, o las actuaciones de Núria Graham\, Mujeres o Carmen 113 en la Gran Noche del NEU!. \nAdemás\, después del éxito de la primera edición del NEU! PRO 2023\, vuelve a organizarse un encuentro para profesionales de industria musical.
URL:https://staging.catalunyaturisme.cat/es/esdeveniment/festival-neu/2024-01-27/1/
LOCATION:Girona i Salt
CATEGORIES:Música
ATTACH;FMTTYPE=image/jpeg:https://staging.catalunyaturisme.cat/wp-content/uploads/neu.jpg
END:VEVENT
BEGIN:VEVENT
DTSTART;VALUE=DATE:20240127
DTEND;VALUE=DATE:20240128
DTSTAMP:20260423T075456
CREATED:20231229T112143Z
LAST-MODIFIED:20231229T112400Z
UID:10000113-1706383800-1706389200@staging.catalunyaturisme.cat
SUMMARY:Refugi Sonor
DESCRIPTION:El ciclo Refugi Sonor\, en Tarragona\, ofrece un total de cinco conciertos\, un sábado de cada mes en horario de tarde. \nEl sábado 21 de octubre\, el grupo barcelonés Ciudad presentan su disco en debut\, Brandon. \nEl sábado 18 noviembre\, Marina Hein\, una artista revelación del momento presentará un disco delicado\, donde mezcla folk\, pulpo y otros estilos. \nEl sábado 9 de diciembre es el turno de Reina\, la nueva Monarquía del Pop nacional de un grupo manacorense afincado en Barcelona. \nEl 27 de enero\, el cantante mallorquín Miquel Serra\, con 9 discos en l espalda\, presentará su décimo y trabajo\, Las Hayas Arce es el acostumbrado “disco pequeño”\, resultado de las sesiones de Una casa es pánico. \nFinalmente\, el 10 de febrero\, el ciclo Refugi Sonor cerrará\, con la joven talento\, nacida en Barcelona\, Sara Terraza. Terraza debutó como cantante solista con 17 años en el programa televisivo “Oh Happy Day”\, e inicia entonces su trayectoria profesional. Después de unos años pisando escenarios del territorio catalán\, crea el proyecto “Sara Terraza & The Black Sheep”.
URL:https://staging.catalunyaturisme.cat/es/esdeveniment/refugi-sonor/2024-01-27/
LOCATION:Capsa de Música – Espai Tabacalera
CATEGORIES:Música
ATTACH;FMTTYPE=image/jpeg:https://staging.catalunyaturisme.cat/wp-content/uploads/A3_refugi-sonor_23_24_02_oct_2023-e1696412311434.jpg
END:VEVENT
BEGIN:VEVENT
DTSTART;TZID=Europe/Madrid:20240127T200000
DTEND;TZID=Europe/Madrid:20240127T233000
DTSTAMP:20260423T075456
CREATED:20231229T100305Z
LAST-MODIFIED:20231229T103247Z
UID:10000133-1706385600-1706398200@staging.catalunyaturisme.cat
SUMMARY:Festival Neu!
DESCRIPTION:La 10ª edición del Festival Neu!\, a Girona y Salt\, sigue reafirmando su clara apuesta por el talento independiente de la escena catalana. Algunas de las propuestas musicales más destacadas son el concierto inaugural con Pau Vallvé\, la actuación de los Cala Vento\, el último concierto de Mazoni antes de una parada indefinida\, o las actuaciones de Núria Graham\, Mujeres o Carmen 113 en la Gran Noche del NEU!. \nAdemás\, después del éxito de la primera edición del NEU! PRO 2023\, vuelve a organizarse un encuentro para profesionales de industria musical.
URL:https://staging.catalunyaturisme.cat/es/esdeveniment/festival-neu/2024-01-27/2/
LOCATION:Girona i Salt
CATEGORIES:Música
ATTACH;FMTTYPE=image/jpeg:https://staging.catalunyaturisme.cat/wp-content/uploads/neu.jpg
END:VEVENT
BEGIN:VEVENT
DTSTART;TZID=Europe/Madrid:20240128T110000
DTEND;TZID=Europe/Madrid:20240128T170000
DTSTAMP:20260423T075456
CREATED:20231229T100305Z
LAST-MODIFIED:20231229T103247Z
UID:10000134-1706439600-1706461200@staging.catalunyaturisme.cat
SUMMARY:Festival Neu!
DESCRIPTION:La 10ª edición del Festival Neu!\, a Girona y Salt\, sigue reafirmando su clara apuesta por el talento independiente de la escena catalana. Algunas de las propuestas musicales más destacadas son el concierto inaugural con Pau Vallvé\, la actuación de los Cala Vento\, el último concierto de Mazoni antes de una parada indefinida\, o las actuaciones de Núria Graham\, Mujeres o Carmen 113 en la Gran Noche del NEU!. \nAdemás\, después del éxito de la primera edición del NEU! PRO 2023\, vuelve a organizarse un encuentro para profesionales de industria musical.
URL:https://staging.catalunyaturisme.cat/es/esdeveniment/festival-neu/2024-01-28/
LOCATION:Girona i Salt
CATEGORIES:Música
ATTACH;FMTTYPE=image/jpeg:https://staging.catalunyaturisme.cat/wp-content/uploads/neu.jpg
END:VEVENT
END:VCALENDAR