BEGIN:VCALENDAR
VERSION:2.0
PRODID:-//Catalunya Turisme - ECPv6.5.1.5//NONSGML v1.0//EN
CALSCALE:GREGORIAN
METHOD:PUBLISH
X-WR-CALNAME:Catalunya Turisme
X-ORIGINAL-URL:https://staging.catalunyaturisme.cat/es/
X-WR-CALDESC:Events for Catalunya Turisme
REFRESH-INTERVAL;VALUE=DURATION:PT1H
X-Robots-Tag:noindex
X-PUBLISHED-TTL:PT1H
BEGIN:VTIMEZONE
TZID:Europe/Madrid
BEGIN:DAYLIGHT
TZOFFSETFROM:+0100
TZOFFSETTO:+0200
TZNAME:CEST
DTSTART:20230326T010000
END:DAYLIGHT
BEGIN:STANDARD
TZOFFSETFROM:+0200
TZOFFSETTO:+0100
TZNAME:CET
DTSTART:20231029T010000
END:STANDARD
BEGIN:DAYLIGHT
TZOFFSETFROM:+0100
TZOFFSETTO:+0200
TZNAME:CEST
DTSTART:20240331T010000
END:DAYLIGHT
BEGIN:STANDARD
TZOFFSETFROM:+0200
TZOFFSETTO:+0100
TZNAME:CET
DTSTART:20241027T010000
END:STANDARD
END:VTIMEZONE
BEGIN:VEVENT
DTSTART;VALUE=DATE:20231104
DTEND;VALUE=DATE:20231231
DTSTAMP:20260423T111823
CREATED:20231229T095000Z
LAST-MODIFIED:20231229T095329Z
UID:10000056-1699056000-1703980799@staging.catalunyaturisme.cat
SUMMARY:Terra d'oli. Verdor que omples el cor
DESCRIPTION:Una nueva edición del Festival ‘Terra d’oli’\, dedicado al patrimonio natural\, arquitectónico\, cultural y gastronómico de este oro líquido: el aceite de oliva virgen extra\, en las tierras del Segrià. En esta época se celebra la llegada del aceite nuevo. \nÉs una bona manera de conèixer els pobles del Segrià\, així com productors locals d’oli d’oliva verge extra\, experimentar tastos\, maridatges i gaudir de molt bona gastronomia i cases de turisme rural de somni.
URL:https://staging.catalunyaturisme.cat/es/esdeveniment/terra-doli-verdor-que-omples-el-cor/
LOCATION:Seròs\, Alpicat\, Lleida\, Alfés\, Aspa\, Alcanó\, Sarroca de Lleida\, Torrebesses\, Llardecans\, Maials i Almatret
CATEGORIES:Fires
ATTACH;FMTTYPE=image/png:https://staging.catalunyaturisme.cat/wp-content/uploads/terra_oli_-_general_1.png
END:VEVENT
BEGIN:VEVENT
DTSTART;VALUE=DATE:20231104
DTEND;VALUE=DATE:20231218
DTSTAMP:20260423T111823
CREATED:20231121T070727Z
LAST-MODIFIED:20231121T084102Z
UID:10000002-1699056000-1702857599@staging.catalunyaturisme.cat
SUMMARY:29ª muestra gastronómica de Les Garrigues
DESCRIPTION:La XXIX Muestra Gastronómica de Les Garrigues se celebra del 4 de noviembre al 17 de diciembre\, con la participación de cinco restaurantes locales. El evento destaca la cocina de la región\, con énfasis en el uso del aceite de oliva virgen extra característico. Los platos\, cocinados con ilusión y profesionalidad\, buscan capturar los aromas únicos de Les Garrigues.
URL:https://staging.catalunyaturisme.cat/es/esdeveniment/29a-muestra-gastronomica-de-les-garrigues/
ATTACH;FMTTYPE=image/jpeg:https://staging.catalunyaturisme.cat/wp-content/uploads/garrigues.jpg
END:VEVENT
BEGIN:VEVENT
DTSTART;VALUE=DATE:20231118
DTEND;VALUE=DATE:20231119
DTSTAMP:20260423T111823
CREATED:20231229T112143Z
LAST-MODIFIED:20231229T112400Z
UID:10000111-1700335800-1700341200@staging.catalunyaturisme.cat
SUMMARY:Refugi Sonor
DESCRIPTION:El ciclo Refugi Sonor\, en Tarragona\, ofrece un total de cinco conciertos\, un sábado de cada mes en horario de tarde. \nEl sábado 21 de octubre\, el grupo barcelonés Ciudad presentan su disco en debut\, Brandon. \nEl sábado 18 noviembre\, Marina Hein\, una artista revelación del momento presentará un disco delicado\, donde mezcla folk\, pulpo y otros estilos. \nEl sábado 9 de diciembre es el turno de Reina\, la nueva Monarquía del Pop nacional de un grupo manacorense afincado en Barcelona. \nEl 27 de enero\, el cantante mallorquín Miquel Serra\, con 9 discos en l espalda\, presentará su décimo y trabajo\, Las Hayas Arce es el acostumbrado “disco pequeño”\, resultado de las sesiones de Una casa es pánico. \nFinalmente\, el 10 de febrero\, el ciclo Refugi Sonor cerrará\, con la joven talento\, nacida en Barcelona\, Sara Terraza. Terraza debutó como cantante solista con 17 años en el programa televisivo “Oh Happy Day”\, e inicia entonces su trayectoria profesional. Después de unos años pisando escenarios del territorio catalán\, crea el proyecto “Sara Terraza & The Black Sheep”.
URL:https://staging.catalunyaturisme.cat/es/esdeveniment/refugi-sonor/2023-11-18/
LOCATION:Capsa de Música – Espai Tabacalera
CATEGORIES:Música
ATTACH;FMTTYPE=image/jpeg:https://staging.catalunyaturisme.cat/wp-content/uploads/A3_refugi-sonor_23_24_02_oct_2023-e1696412311434.jpg
END:VEVENT
BEGIN:VEVENT
DTSTART;VALUE=DATE:20231123
DTEND;VALUE=DATE:20231124
DTSTAMP:20260423T111823
CREATED:20231230T153147Z
LAST-MODIFIED:20231230T153613Z
UID:10000099-1700726400-1700758800@staging.catalunyaturisme.cat
SUMMARY:Ciclo 'La ciencia del vino' a Reus
DESCRIPTION:Ciclo de conferencias ‘La ciencia del vino’ ofrece un recorrido para conocer el vino desde diferentes ámbitos de la investigación\, desde el cultivo más ancestral de la viña hasta el proceso tecnológico más innovador en la bodega. En cada trago de vino se esconde no sólo mucha investigación histórica\, también otras disciplinas científicas que lo convierten en un producto vivo\, único y en evolución constante. \nCada charla estará en el Castillo del Camarero de Reus e irá acompañada de dos catas de vinos DO Montsant. \nDe la mano de investigadoras\, investigadores y docentes de la Universidad Rovira i Virgili\, este ciclo pretende descubrir todo lo que rodea al mundo del vino a través de un paseo con la ciencia como compañera de viaje. Éste es el programa: \n19 de octubre: “El vino\, un placer para los sentidos”\, a cargo de Toni Sánchez\, investigador del Departamento de Bioquímica y Biotecnología de la URV. \n23 de noviembre: “La comunicación\, inevitable para sentir el vino”\, a cargo de Ruth Troyano\, periodista y autora de la colección de libros Retrats de Vi (URV). \n14 de diciembre: “El marketing del vino”\, a cargo de Jaume Gené\, investigador del Departamento de Gestión de Empresas de la URV. \n18 de enero: “De la viña a la bodega”\, a cargo de Míriam Lampreave\, investigadora del Departamento de Bioquímica y Biotecnología de la URV. \n22 de febrero: “Los orígenes de la producción y el consumo en la Península Ibérica”\, a cargo de Jordi Diloli\, investigador del Departamento de Historia e Historia del Arte de la URV. \n21 de marzo: “El vino y la salud: mitos y realidades”\, a cargo de Anna Borrull\, investigadora del Departamento de Bioquímica y Biotecnología de la URV. \n18 de abril: “Las catedrales del vino”\, a cargo de Ramon Arnabat\, investigador del Departamento de Historia e Historia del Arte de la URV\, y Celia Mallafré\, profesora de la Escuela Técnica Superior de Arquitectura de la URV. \n16 de mayo: “Vinos y maridajes”\, a cargo de Sumpta Mateos\, investigadora del Departamento de Bioquímica y Biotecnología de la URV.”Vinos y maridajes”\, “Vinos y maridajes”. \n13 de junio: “¿Qué hemos heredado de griegos y romanos?”\, a cargo de Joaquín Ruiz de Arbulo\, investigador del Departamento de Historia e Historia del Arte de la URV.
URL:https://staging.catalunyaturisme.cat/es/esdeveniment/ciclo-la-ciencia-del-vino-a-reus/2023-11-23/
LOCATION:URV Reus
CATEGORIES:Gastronomia
ATTACH;FMTTYPE=image/jpeg:https://staging.catalunyaturisme.cat/wp-content/uploads/la-ciencia-del-vi.jpg
END:VEVENT
BEGIN:VEVENT
DTSTART;VALUE=DATE:20231124
DTEND;VALUE=DATE:20231204
DTSTAMP:20260423T111823
CREATED:20231202T152915Z
LAST-MODIFIED:20231202T153302Z
UID:10000036-1700784000-1701647999@staging.catalunyaturisme.cat
SUMMARY:Semana de la Piedra Seca
DESCRIPTION:Del 24 de noviembre al 3 de diciembre\, llega la 4a edición de la Semana de la Piedra Seca. \nEn marco de este evento se organizan más de un centenar de actividades gratuitas previa inscripción de descubrimiento\, divulgación y aprendizaje en torno a esta técnica y patrimonio. \nLa celebración coincidirá con el quinto aniversario de la declaración de la técnica de piedra seca como Patrimonio Inmaterial de la Humanidad por parte de la UNESCO.
URL:https://staging.catalunyaturisme.cat/es/esdeveniment/setmana-de-la-pedra-seca/
LOCATION:Torrebesses
ATTACH;FMTTYPE=image/png:https://staging.catalunyaturisme.cat/wp-content/uploads/logo-SPS-2023.png
END:VEVENT
BEGIN:VEVENT
DTSTART;VALUE=DATE:20231124
DTEND;VALUE=DATE:20231225
DTSTAMP:20260423T111823
CREATED:20231124T235501Z
LAST-MODIFIED:20231126T072323Z
UID:10000005-1700784000-1703462399@staging.catalunyaturisme.cat
SUMMARY:Feria de Santa Llúcia de Barcelona
DESCRIPTION:La Feria de Santa Lucía es un mercado navideño muy popular que se celebra en la avenida de la Catedral de Barcelona desde 1786. Es la feria de Navidad más antigua del mundo y gira al  alrededor del mundo del pesebre y de las tradiciones navideñas. Tiene cientos de puestos con figuritas de todo tipo\, árboles de Navidad\, complementos para la casa\, artículos de regalo\, bisutería\, etc. Cada vez hay más paradas que innovan con figuras diversas de caganers del pesebre y tions.  \nSe puede visitar del 24 noviembre noche de Navidad\, al 24 diciembre.
URL:https://staging.catalunyaturisme.cat/es/esdeveniment/feria-de-santa-llucia/
ATTACH;FMTTYPE=image/jpeg:https://staging.catalunyaturisme.cat/wp-content/uploads/cartell_fira_2014.jpg
END:VEVENT
BEGIN:VEVENT
DTSTART;VALUE=DATE:20231125
DTEND;VALUE=DATE:20240106
DTSTAMP:20260423T111823
CREATED:20231204T212458Z
LAST-MODIFIED:20231204T232212Z
UID:10000052-1700870400-1704499199@staging.catalunyaturisme.cat
SUMMARY:Mercado de Navidad de Girona
DESCRIPTION:El Mercado de Navidad de Girona da un año más el pistoletazo de salida a las fiestas navideñas. Este año durante más de un mes: de la noche del 24 de noviembre al 5 de enero\, en la icónica Plaza de la Independencia de la capital gerundense. Estará abierto de 10:30 ha 21 h\, todos los días\, excepto los festivos navideños 25 y 26 de diciembre y 1 de enero. \nLa feria cuenta con una veintena de tenderetes de madera con todo tipo de productos artesanales\, donde se priorizan que sean locales. Se pueden encontrar desde artículos de Navidad como abetos\, tions\, guirnaldas y luces de navidad\, a juguetes trabajados con madera y regalos como textiles\, prendas de joyería\, cerámicas artesanas y adornos de vidrio o madera. También hay productos de alimentación como embutidos y quesos artesanos\, y dulces en Navidad: turrones\, barquillos… \nEste mercado es el más popular y más largo de los que se organizan en la ciudad de Girona\, pero no es el único. Puede consultar todas las actividades de estas fiestas en el programa del Ayuntamiento.
URL:https://staging.catalunyaturisme.cat/es/esdeveniment/mercado-de-navidad-de-girona/
LOCATION:Girona\, Plaça de la Independència
CATEGORIES:Fires,Nadal
ATTACH;FMTTYPE=image/png:https://staging.catalunyaturisme.cat/wp-content/uploads/Captura-de-pantalla-2023-12-04-222418.png
END:VEVENT
BEGIN:VEVENT
DTSTART;TZID=Europe/Madrid:20231127T000000
DTEND;TZID=Europe/Madrid:20231127T000000
DTSTAMP:20260423T111823
CREATED:20231126T155410Z
LAST-MODIFIED:20231127T085129Z
UID:10000013-1701043200-1701043200@staging.catalunyaturisme.cat
SUMMARY:Segunda Feria del Disco de Tarragona
DESCRIPTION:El fin de semana del 1 al 3 de diciembre\, el Hotel SB de Tarragona acoge la tercera edición de la segunda Feria del Disco. Se ponen a la venta miles de discos de coleccionista\, CDs\, casetes\, DVDs musicales\, con grandes oportunidades y ofertas. Los 13 expositores son de toda España\, uno de Alemania y uno de Francia. \nLos horarios son: viernes 1 de 15 a 20:30 h\, sábado 2 de 10 a 20:30 hy domingo 3 de 10 a 14:30 h.
URL:https://staging.catalunyaturisme.cat/es/esdeveniment/feria-del-disco/
ATTACH;FMTTYPE=image/jpeg:https://staging.catalunyaturisme.cat/wp-content/uploads/imatge_large.jpeg
END:VEVENT
BEGIN:VEVENT
DTSTART;VALUE=DATE:20231129
DTEND;VALUE=DATE:20231206
DTSTAMP:20260423T111823
CREATED:20231126T132035Z
LAST-MODIFIED:20231126T133112Z
UID:10000008-1701216000-1701820799@staging.catalunyaturisme.cat
SUMMARY:Dart Festival
DESCRIPTION:El Dart Festival es el primer festival de Cine Documental sobre Arte\, dedicado especialmente al arte contemporáneo en España y América Latina. Ofrece una selección de documentales sobre fotografía\, comisariado de arte\, pintura\, performance\, arquitectura\, movimientos artísticos\, prestando especial atención a los artistas\, sus procesos de creación y las historias que hay detrás de sus trabajos con el objetivo de darles los a conocer el gran público. Paralelamente\, la programación incluye charlas\, visitas a galerías de arte\, exposiciones\, coloquios y debates. \nLa séptima edición se celebra en Barcelona de forma presencial del 29 noviembre al 5 de diciembre y hasta el 31 en Filmin. Las proyecciones se llevan a cabo en los Cines Girona\, en la Sala Phenomena\, en el Disseny Hub Barcelona y en The Social Hub Poblenou.
URL:https://staging.catalunyaturisme.cat/es/esdeveniment/dart-festival/
CATEGORIES:Art,Cinema
ATTACH;FMTTYPE=image/jpeg:https://staging.catalunyaturisme.cat/wp-content/uploads/captura-de-pantalla-2023-10-02-a-las-12-40-00-1.jpg
END:VEVENT
END:VCALENDAR