BEGIN:VCALENDAR
VERSION:2.0
PRODID:-//Catalunya Turisme - ECPv6.5.1.5//NONSGML v1.0//EN
CALSCALE:GREGORIAN
METHOD:PUBLISH
X-WR-CALNAME:Catalunya Turisme
X-ORIGINAL-URL:https://staging.catalunyaturisme.cat/es/
X-WR-CALDESC:Events for Catalunya Turisme
REFRESH-INTERVAL;VALUE=DURATION:PT1H
X-Robots-Tag:noindex
X-PUBLISHED-TTL:PT1H
BEGIN:VTIMEZONE
TZID:Europe/Madrid
BEGIN:DAYLIGHT
TZOFFSETFROM:+0100
TZOFFSETTO:+0200
TZNAME:CEST
DTSTART:20240331T010000
END:DAYLIGHT
BEGIN:STANDARD
TZOFFSETFROM:+0200
TZOFFSETTO:+0100
TZNAME:CET
DTSTART:20241027T010000
END:STANDARD
END:VTIMEZONE
BEGIN:VEVENT
DTSTART;VALUE=DATE:20241127
DTEND;VALUE=DATE:20241201
DTSTAMP:20260422T152451
CREATED:20241111T175151Z
LAST-MODIFIED:20241111T175407Z
UID:10003778-1732665600-1733011199@staging.catalunyaturisme.cat
SUMMARY:Christmas Market Solidario de la Fundación Enriqueta Villavecchia
DESCRIPTION:El Christmas Market Solidario de la Fundación Enriqueta Villavecchia es mucho más que un mercado navideño: es un espacio de solidaridad que une pacientes\, familias\, voluntarios y amigos para apoyar a niños y jóvenes con enfermedades graves. Desde su creación en 1989\, la Fundación Villavecchia ha trabajado para acompañar a estos niños y a sus familias\, además de promover la investigación y la formación en colaboración con hospitales pediátricos de referencia. \nEste evento\, que se celebra anualmente desde 2011\, se ha consolidado como una cita imprescindible en la Navidad solidaria. El mercado ofrece una selección única de productos de regalo y decoración con inspiración navideña\, muchos de los cuales son elaborados a mano por niños atendidos por la Fundación\, sus familias\, escuelas\, entidades\, empresas y un gran equipo de voluntariado. Con cada compra\, los visitantes contribuyen directamente a los programas de atención de la Fundación\, ya que todos los beneficios se destinan a las actividades de apoyo a niños y jóvenes con cáncer u otras enfermedades graves. \nEl Christmas Market está organizado en varios espacios temáticos\, cada uno con una propuesta distinta: \n\nChristmas Corner: Aquí encontraréis detalles de decoración navideña\, con productos elaborados artesanalmente por voluntarios y colaboradores.\nNatural Corner: Opciones de decoración natural para embellecer el hogar en estas fiestas\, con adornos inspirados en la naturaleza.\nRegalos Solidarios: Packs y productos de calidad cedidos por reconocidas empresas\, incluyendo la especial Chocolate para cuidar la Vida y el Chocolate más dulce de la Navidad.\nEl Mundo de las Estrellas: Un espacio emotivo con artículos hechos por las familias de los niños que acompañamos\, con la estrella como símbolo de los pequeños que ya no están.\nEl Bosque Mágico: Un rincón donde los árboles de Navidad están decorados con estrellas creadas por alumnos de diversas escuelas\, que pueden adquirirse a un precio simbólico.\n\nDisfrutad de un ambiente cálido y festivo\, participando en un proyecto que hace de la solidaridad la mejor magia de la Navidad.
URL:https://staging.catalunyaturisme.cat/es/esdeveniment/christmas-market-solidario-de-la-fundacion-enriqueta-villavecchia/
CATEGORIES:Nadal
ATTACH;FMTTYPE=image/jpeg:https://staging.catalunyaturisme.cat/wp-content/uploads/christmas-market-solidari-de-la-fundacio-villavecchia.jpg
END:VEVENT
END:VCALENDAR