BEGIN:VCALENDAR
VERSION:2.0
PRODID:-//Catalunya Turisme - ECPv6.5.1.5//NONSGML v1.0//EN
CALSCALE:GREGORIAN
METHOD:PUBLISH
X-ORIGINAL-URL:https://staging.catalunyaturisme.cat/es/
X-WR-CALDESC:Events for Catalunya Turisme
REFRESH-INTERVAL;VALUE=DURATION:PT1H
X-Robots-Tag:noindex
X-PUBLISHED-TTL:PT1H
BEGIN:VTIMEZONE
TZID:Europe/Madrid
BEGIN:DAYLIGHT
TZOFFSETFROM:+0100
TZOFFSETTO:+0200
TZNAME:CEST
DTSTART:20240331T010000
END:DAYLIGHT
BEGIN:STANDARD
TZOFFSETFROM:+0200
TZOFFSETTO:+0100
TZNAME:CET
DTSTART:20241027T010000
END:STANDARD
END:VTIMEZONE
BEGIN:VEVENT
DTSTART;VALUE=DATE:20241010
DTEND;VALUE=DATE:20241011
DTSTAMP:20260420T082939
CREATED:20241009T162836Z
LAST-MODIFIED:20241009T163128Z
UID:10003693-1728547200-1728579600@staging.catalunyaturisme.cat
SUMMARY:Festival de Jazz Costa Brava en Palafrugell
DESCRIPTION:El Festival de Jazz Costa Brava en Palafrugell es una cita imprescindible para los amantes del jazz\, que tiene lugar cada año durante el puente del 12 de octubre. Este evento acoge diversas actuaciones musicales que se distribuyen entre el Teatre Municipal de Palafrugell y otros espacios del centro de la localidad\, creando un ambiente vibrante y acogedor para disfrutar de la mejor música jazz. \nEl festival se inició en 1990\, cuando el Patronat Municipal de Turisme de Palafrugell organizó una serie de conciertos de jazz en los emblemáticos Jardines de Cap Roig\, en Calella de Palafrugell. Originalmente\, las actuaciones se celebraban en los meses de verano\, julio y agosto\, con el objetivo de llevar la música jazz a un entorno natural y majestuoso. En el año 2000\, la gestión del festival pasó a la Fundació Caixa de Girona\, y en 2001 se integró en los Festivales de verano de Caixa de Girona. A partir de entonces\, el festival evolucionó hasta convertirse en el Festival Jardines de Cap Roig\, adoptando su nombre actual. \nA pesar de estos cambios\, el Festival de Jazz Costa Brava ha mantenido viva su esencia y se ha consolidado como un evento destacado en el calendario cultural del otoño en la Costa Brava.
URL:https://staging.catalunyaturisme.cat/es/esdeveniment/festival-de-jazz-costa-brava-en-palafrugell/2024-10-10/
LOCATION:Palafurgell\, Palafurgell
CATEGORIES:Música
ATTACH;FMTTYPE=image/jpeg:https://staging.catalunyaturisme.cat/wp-content/uploads/festival-de-jazz-costa-brava-a-palafrugell.jpg
END:VEVENT
BEGIN:VEVENT
DTSTART;VALUE=DATE:20241011
DTEND;VALUE=DATE:20241015
DTSTAMP:20260420T082939
CREATED:20241009T162836Z
LAST-MODIFIED:20241009T163128Z
UID:10003694-1728604800-1728950399@staging.catalunyaturisme.cat
SUMMARY:Festival de Jazz Costa Brava en Palafrugell
DESCRIPTION:El Festival de Jazz Costa Brava en Palafrugell es una cita imprescindible para los amantes del jazz\, que tiene lugar cada año durante el puente del 12 de octubre. Este evento acoge diversas actuaciones musicales que se distribuyen entre el Teatre Municipal de Palafrugell y otros espacios del centro de la localidad\, creando un ambiente vibrante y acogedor para disfrutar de la mejor música jazz. \nEl festival se inició en 1990\, cuando el Patronat Municipal de Turisme de Palafrugell organizó una serie de conciertos de jazz en los emblemáticos Jardines de Cap Roig\, en Calella de Palafrugell. Originalmente\, las actuaciones se celebraban en los meses de verano\, julio y agosto\, con el objetivo de llevar la música jazz a un entorno natural y majestuoso. En el año 2000\, la gestión del festival pasó a la Fundació Caixa de Girona\, y en 2001 se integró en los Festivales de verano de Caixa de Girona. A partir de entonces\, el festival evolucionó hasta convertirse en el Festival Jardines de Cap Roig\, adoptando su nombre actual. \nA pesar de estos cambios\, el Festival de Jazz Costa Brava ha mantenido viva su esencia y se ha consolidado como un evento destacado en el calendario cultural del otoño en la Costa Brava.
URL:https://staging.catalunyaturisme.cat/es/esdeveniment/festival-de-jazz-costa-brava-en-palafrugell/2024-10-11/
LOCATION:Palafurgell\, Palafurgell
CATEGORIES:Música
ATTACH;FMTTYPE=image/jpeg:https://staging.catalunyaturisme.cat/wp-content/uploads/festival-de-jazz-costa-brava-a-palafrugell.jpg
END:VEVENT
BEGIN:VEVENT
DTSTART;VALUE=DATE:20241012
DTEND;VALUE=DATE:20241014
DTSTAMP:20260420T082939
CREATED:20240919T185601Z
LAST-MODIFIED:20240919T185852Z
UID:10003650-1728691200-1728863999@staging.catalunyaturisme.cat
SUMMARY:Vermut Live Music
DESCRIPTION:El municipio de Vandellòs i l’Hospitalet de l’Infant se prepara para acoger una nueva edición del Vermut Live Music\, un festival que combina la mejor gastronomía local con actuaciones de música en directo. Organizado por la Concejalía de Turismo\, este evento destaca por ofrecer una experiencia única donde la música y los aperitivos son los grandes protagonistas. \nDurante el festival\, varios establecimientos de restauración del municipio participarán ofreciendo una amplia oferta de tapas y actuaciones musicales en vivo. Los bares y restaurantes se convertirán en escenarios donde podréis disfrutar de estilos musicales variados como funky\, pop-rock\, bachata\, rumba\, copla\, electrónica\, jazz y dixie\, entre otros. Las actuaciones serán simultáneas y habrá opciones para todos los gustos y edades\, con la participación de músicos de todo el mundo\, incluyendo artistas locales que aportarán su talento y estilo propio a esta cita cultural y gastronómica.
URL:https://staging.catalunyaturisme.cat/es/esdeveniment/vermut-live-music/
CATEGORIES:Gastronomia,Música
ATTACH;FMTTYPE=image/jpeg:https://staging.catalunyaturisme.cat/wp-content/uploads/vermut-live-music-a-vandellos-i-l-hospitalet-de-l-infant-1.jpg
END:VEVENT
BEGIN:VEVENT
DTSTART;VALUE=DATE:20241012
DTEND;VALUE=DATE:20241016
DTSTAMP:20260420T082939
CREATED:20241009T162836Z
LAST-MODIFIED:20241009T163128Z
UID:10003695-1728691200-1729036799@staging.catalunyaturisme.cat
SUMMARY:Festival de Jazz Costa Brava en Palafrugell
DESCRIPTION:El Festival de Jazz Costa Brava en Palafrugell es una cita imprescindible para los amantes del jazz\, que tiene lugar cada año durante el puente del 12 de octubre. Este evento acoge diversas actuaciones musicales que se distribuyen entre el Teatre Municipal de Palafrugell y otros espacios del centro de la localidad\, creando un ambiente vibrante y acogedor para disfrutar de la mejor música jazz. \nEl festival se inició en 1990\, cuando el Patronat Municipal de Turisme de Palafrugell organizó una serie de conciertos de jazz en los emblemáticos Jardines de Cap Roig\, en Calella de Palafrugell. Originalmente\, las actuaciones se celebraban en los meses de verano\, julio y agosto\, con el objetivo de llevar la música jazz a un entorno natural y majestuoso. En el año 2000\, la gestión del festival pasó a la Fundació Caixa de Girona\, y en 2001 se integró en los Festivales de verano de Caixa de Girona. A partir de entonces\, el festival evolucionó hasta convertirse en el Festival Jardines de Cap Roig\, adoptando su nombre actual. \nA pesar de estos cambios\, el Festival de Jazz Costa Brava ha mantenido viva su esencia y se ha consolidado como un evento destacado en el calendario cultural del otoño en la Costa Brava.
URL:https://staging.catalunyaturisme.cat/es/esdeveniment/festival-de-jazz-costa-brava-en-palafrugell/2024-10-12/
LOCATION:Palafurgell\, Palafurgell
CATEGORIES:Música
ATTACH;FMTTYPE=image/jpeg:https://staging.catalunyaturisme.cat/wp-content/uploads/festival-de-jazz-costa-brava-a-palafrugell.jpg
END:VEVENT
BEGIN:VEVENT
DTSTART;VALUE=DATE:20241013
DTEND;VALUE=DATE:20241017
DTSTAMP:20260420T082939
CREATED:20241009T162836Z
LAST-MODIFIED:20241009T163128Z
UID:10003696-1728777600-1729123199@staging.catalunyaturisme.cat
SUMMARY:Festival de Jazz Costa Brava en Palafrugell
DESCRIPTION:El Festival de Jazz Costa Brava en Palafrugell es una cita imprescindible para los amantes del jazz\, que tiene lugar cada año durante el puente del 12 de octubre. Este evento acoge diversas actuaciones musicales que se distribuyen entre el Teatre Municipal de Palafrugell y otros espacios del centro de la localidad\, creando un ambiente vibrante y acogedor para disfrutar de la mejor música jazz. \nEl festival se inició en 1990\, cuando el Patronat Municipal de Turisme de Palafrugell organizó una serie de conciertos de jazz en los emblemáticos Jardines de Cap Roig\, en Calella de Palafrugell. Originalmente\, las actuaciones se celebraban en los meses de verano\, julio y agosto\, con el objetivo de llevar la música jazz a un entorno natural y majestuoso. En el año 2000\, la gestión del festival pasó a la Fundació Caixa de Girona\, y en 2001 se integró en los Festivales de verano de Caixa de Girona. A partir de entonces\, el festival evolucionó hasta convertirse en el Festival Jardines de Cap Roig\, adoptando su nombre actual. \nA pesar de estos cambios\, el Festival de Jazz Costa Brava ha mantenido viva su esencia y se ha consolidado como un evento destacado en el calendario cultural del otoño en la Costa Brava.
URL:https://staging.catalunyaturisme.cat/es/esdeveniment/festival-de-jazz-costa-brava-en-palafrugell/2024-10-13/
LOCATION:Palafurgell\, Palafurgell
CATEGORIES:Música
ATTACH;FMTTYPE=image/jpeg:https://staging.catalunyaturisme.cat/wp-content/uploads/festival-de-jazz-costa-brava-a-palafrugell.jpg
END:VEVENT
BEGIN:VEVENT
DTSTART;VALUE=DATE:20241016
DTEND;VALUE=DATE:20241017
DTSTAMP:20260420T082939
CREATED:20241009T162836Z
LAST-MODIFIED:20241009T163128Z
UID:10003697-1729065600-1729098000@staging.catalunyaturisme.cat
SUMMARY:Festival de Jazz Costa Brava en Palafrugell
DESCRIPTION:El Festival de Jazz Costa Brava en Palafrugell es una cita imprescindible para los amantes del jazz\, que tiene lugar cada año durante el puente del 12 de octubre. Este evento acoge diversas actuaciones musicales que se distribuyen entre el Teatre Municipal de Palafrugell y otros espacios del centro de la localidad\, creando un ambiente vibrante y acogedor para disfrutar de la mejor música jazz. \nEl festival se inició en 1990\, cuando el Patronat Municipal de Turisme de Palafrugell organizó una serie de conciertos de jazz en los emblemáticos Jardines de Cap Roig\, en Calella de Palafrugell. Originalmente\, las actuaciones se celebraban en los meses de verano\, julio y agosto\, con el objetivo de llevar la música jazz a un entorno natural y majestuoso. En el año 2000\, la gestión del festival pasó a la Fundació Caixa de Girona\, y en 2001 se integró en los Festivales de verano de Caixa de Girona. A partir de entonces\, el festival evolucionó hasta convertirse en el Festival Jardines de Cap Roig\, adoptando su nombre actual. \nA pesar de estos cambios\, el Festival de Jazz Costa Brava ha mantenido viva su esencia y se ha consolidado como un evento destacado en el calendario cultural del otoño en la Costa Brava.
URL:https://staging.catalunyaturisme.cat/es/esdeveniment/festival-de-jazz-costa-brava-en-palafrugell/2024-10-16/
LOCATION:Palafurgell\, Palafurgell
CATEGORIES:Música
ATTACH;FMTTYPE=image/jpeg:https://staging.catalunyaturisme.cat/wp-content/uploads/festival-de-jazz-costa-brava-a-palafrugell.jpg
END:VEVENT
BEGIN:VEVENT
DTSTART;VALUE=DATE:20241018
DTEND;VALUE=DATE:20241022
DTSTAMP:20260420T082939
CREATED:20241009T162836Z
LAST-MODIFIED:20241009T163128Z
UID:10003698-1729209600-1729555199@staging.catalunyaturisme.cat
SUMMARY:Festival de Jazz Costa Brava en Palafrugell
DESCRIPTION:El Festival de Jazz Costa Brava en Palafrugell es una cita imprescindible para los amantes del jazz\, que tiene lugar cada año durante el puente del 12 de octubre. Este evento acoge diversas actuaciones musicales que se distribuyen entre el Teatre Municipal de Palafrugell y otros espacios del centro de la localidad\, creando un ambiente vibrante y acogedor para disfrutar de la mejor música jazz. \nEl festival se inició en 1990\, cuando el Patronat Municipal de Turisme de Palafrugell organizó una serie de conciertos de jazz en los emblemáticos Jardines de Cap Roig\, en Calella de Palafrugell. Originalmente\, las actuaciones se celebraban en los meses de verano\, julio y agosto\, con el objetivo de llevar la música jazz a un entorno natural y majestuoso. En el año 2000\, la gestión del festival pasó a la Fundació Caixa de Girona\, y en 2001 se integró en los Festivales de verano de Caixa de Girona. A partir de entonces\, el festival evolucionó hasta convertirse en el Festival Jardines de Cap Roig\, adoptando su nombre actual. \nA pesar de estos cambios\, el Festival de Jazz Costa Brava ha mantenido viva su esencia y se ha consolidado como un evento destacado en el calendario cultural del otoño en la Costa Brava.
URL:https://staging.catalunyaturisme.cat/es/esdeveniment/festival-de-jazz-costa-brava-en-palafrugell/2024-10-18/
LOCATION:Palafurgell\, Palafurgell
CATEGORIES:Música
ATTACH;FMTTYPE=image/jpeg:https://staging.catalunyaturisme.cat/wp-content/uploads/festival-de-jazz-costa-brava-a-palafrugell.jpg
END:VEVENT
BEGIN:VEVENT
DTSTART;VALUE=DATE:20241019
DTEND;VALUE=DATE:20241023
DTSTAMP:20260420T082939
CREATED:20241009T162836Z
LAST-MODIFIED:20241009T163128Z
UID:10003699-1729296000-1729641599@staging.catalunyaturisme.cat
SUMMARY:Festival de Jazz Costa Brava en Palafrugell
DESCRIPTION:El Festival de Jazz Costa Brava en Palafrugell es una cita imprescindible para los amantes del jazz\, que tiene lugar cada año durante el puente del 12 de octubre. Este evento acoge diversas actuaciones musicales que se distribuyen entre el Teatre Municipal de Palafrugell y otros espacios del centro de la localidad\, creando un ambiente vibrante y acogedor para disfrutar de la mejor música jazz. \nEl festival se inició en 1990\, cuando el Patronat Municipal de Turisme de Palafrugell organizó una serie de conciertos de jazz en los emblemáticos Jardines de Cap Roig\, en Calella de Palafrugell. Originalmente\, las actuaciones se celebraban en los meses de verano\, julio y agosto\, con el objetivo de llevar la música jazz a un entorno natural y majestuoso. En el año 2000\, la gestión del festival pasó a la Fundació Caixa de Girona\, y en 2001 se integró en los Festivales de verano de Caixa de Girona. A partir de entonces\, el festival evolucionó hasta convertirse en el Festival Jardines de Cap Roig\, adoptando su nombre actual. \nA pesar de estos cambios\, el Festival de Jazz Costa Brava ha mantenido viva su esencia y se ha consolidado como un evento destacado en el calendario cultural del otoño en la Costa Brava.
URL:https://staging.catalunyaturisme.cat/es/esdeveniment/festival-de-jazz-costa-brava-en-palafrugell/2024-10-19/
LOCATION:Palafurgell\, Palafurgell
CATEGORIES:Música
ATTACH;FMTTYPE=image/jpeg:https://staging.catalunyaturisme.cat/wp-content/uploads/festival-de-jazz-costa-brava-a-palafrugell.jpg
END:VEVENT
BEGIN:VEVENT
DTSTART;VALUE=DATE:20241020
DTEND;VALUE=DATE:20241024
DTSTAMP:20260420T082939
CREATED:20241009T162836Z
LAST-MODIFIED:20241009T163128Z
UID:10003700-1729382400-1729727999@staging.catalunyaturisme.cat
SUMMARY:Festival de Jazz Costa Brava en Palafrugell
DESCRIPTION:El Festival de Jazz Costa Brava en Palafrugell es una cita imprescindible para los amantes del jazz\, que tiene lugar cada año durante el puente del 12 de octubre. Este evento acoge diversas actuaciones musicales que se distribuyen entre el Teatre Municipal de Palafrugell y otros espacios del centro de la localidad\, creando un ambiente vibrante y acogedor para disfrutar de la mejor música jazz. \nEl festival se inició en 1990\, cuando el Patronat Municipal de Turisme de Palafrugell organizó una serie de conciertos de jazz en los emblemáticos Jardines de Cap Roig\, en Calella de Palafrugell. Originalmente\, las actuaciones se celebraban en los meses de verano\, julio y agosto\, con el objetivo de llevar la música jazz a un entorno natural y majestuoso. En el año 2000\, la gestión del festival pasó a la Fundació Caixa de Girona\, y en 2001 se integró en los Festivales de verano de Caixa de Girona. A partir de entonces\, el festival evolucionó hasta convertirse en el Festival Jardines de Cap Roig\, adoptando su nombre actual. \nA pesar de estos cambios\, el Festival de Jazz Costa Brava ha mantenido viva su esencia y se ha consolidado como un evento destacado en el calendario cultural del otoño en la Costa Brava.
URL:https://staging.catalunyaturisme.cat/es/esdeveniment/festival-de-jazz-costa-brava-en-palafrugell/2024-10-20/
LOCATION:Palafurgell\, Palafurgell
CATEGORIES:Música
ATTACH;FMTTYPE=image/jpeg:https://staging.catalunyaturisme.cat/wp-content/uploads/festival-de-jazz-costa-brava-a-palafrugell.jpg
END:VEVENT
END:VCALENDAR