BEGIN:VCALENDAR
VERSION:2.0
PRODID:-//Catalunya Turisme - ECPv6.5.1.5//NONSGML v1.0//EN
CALSCALE:GREGORIAN
METHOD:PUBLISH
X-ORIGINAL-URL:https://staging.catalunyaturisme.cat/es/
X-WR-CALDESC:Events for Catalunya Turisme
REFRESH-INTERVAL;VALUE=DURATION:PT1H
X-Robots-Tag:noindex
X-PUBLISHED-TTL:PT1H
BEGIN:VTIMEZONE
TZID:Europe/Madrid
BEGIN:DAYLIGHT
TZOFFSETFROM:+0100
TZOFFSETTO:+0200
TZNAME:CEST
DTSTART:20240331T010000
END:DAYLIGHT
BEGIN:STANDARD
TZOFFSETFROM:+0200
TZOFFSETTO:+0100
TZNAME:CET
DTSTART:20241027T010000
END:STANDARD
END:VTIMEZONE
BEGIN:VEVENT
DTSTART;VALUE=DATE:20240904
DTEND;VALUE=DATE:20240909
DTSTAMP:20260420T101732
CREATED:20240826T113452Z
LAST-MODIFIED:20240826T113707Z
UID:10003466-1725408000-1725839999@staging.catalunyaturisme.cat
SUMMARY:Festival Rock-a-Billy de Calafell:
DESCRIPTION:Calafell se prepara para acoger una nueva edición del Festival Rock-a-Billy\, uno de los eventos más destacados a nivel internacional dedicados al vibrante género musical del rockabilly\, que combina lo mejor del rock and roll y la música country de los años 50. Reconocido como el mejor festival de Europa en esta temática\, el Festival Rock-a-Billy atrae a miles de visitantes año tras año\, convirtiendo Calafell en un punto de encuentro para los amantes de este estilo tan característico. \nEl festival cuenta con la presencia de algunos de los mejores grupos del mundo especializados en rockabilly\, ofreciendo actuaciones en directo que harán vibrar a los asistentes con los sonidos más auténticos de este género. Pero la música no es el único atractivo del evento. Los visitantes también podrán disfrutar del tradicional mercado de coleccionistas de vinilos\, donde encontrarán auténticas joyas musicales de la época\, así como un mercado de vestuario y complementos de estética rockabilly\, perfecto para aquellos que quieren sumergirse aún más en el espíritu de los años 50. \nAdemás\, uno de los espectáculos más esperados por los amantes del rockabilly y la cultura americana es el desfile de vehículos clásicos de los años 50\, que añade un toque de autenticidad y transporta a los asistentes directamente a la época dorada de este género.
URL:https://staging.catalunyaturisme.cat/es/esdeveniment/festival-rock-a-billy-de-calafell/
LOCATION:Calafell\, Calafell\, Tarragona\, 43820
CATEGORIES:Música
ATTACH;FMTTYPE=image/jpeg:https://staging.catalunyaturisme.cat/wp-content/uploads/festival-rock-a-billy-de-calafell.jpg
END:VEVENT
BEGIN:VEVENT
DTSTART;VALUE=DATE:20240913
DTEND;VALUE=DATE:20240916
DTSTAMP:20260420T101732
CREATED:20240826T121140Z
LAST-MODIFIED:20240826T121610Z
UID:10003480-1726185600-1726444799@staging.catalunyaturisme.cat
SUMMARY:Festival Altaveu
DESCRIPTION:El Altaveu\, el Festival de la Música de Sant Boi de Llobregat\, es un evento cultural de referencia en Cataluña\, destacado por ser un festival 100% público\, de línea abierta y plural. Con más de 30 años de trayectoria\, este festival es un auténtico escaparate de la historia musical catalana\, reflejando la esencia y el amor por la música que caracteriza a Sant Boi de Llobregat. \nA lo largo de sus décadas de existencia\, el Altaveu se ha consolidado como un festival de descubrimientos\, donde la sorpresa y la curiosidad son pilares fundamentales. Cada edición presenta una programación que apuesta por la singularidad\, ofreciendo propuestas y artistas que cautivan por su autenticidad e innovación. La edición de este año no es una excepción\, ya que invita al público a hacer un viaje desde el interior hacia el exterior\, explorando nuevas formas musicales que surgen de la raíz y que están impregnadas de identidad y valores. \nSituado en Sant Boi de Llobregat\, el Altaveu transforma la ciudad en un escenario vibrante donde la música se vive con intensidad y pasión.
URL:https://staging.catalunyaturisme.cat/es/esdeveniment/festival-altaveu/
LOCATION:Sant Boi de Llobregat\, Sant Boi de Llobregat\, Barcelona\, Espanya
CATEGORIES:Música
ATTACH;FMTTYPE=image/jpeg:https://staging.catalunyaturisme.cat/wp-content/uploads/festival-altaveu-a-sant-boi-de-llobregat.jpg
END:VEVENT
BEGIN:VEVENT
DTSTART;VALUE=DATE:20240914
DTEND;VALUE=DATE:20240915
DTSTAMP:20260420T101732
CREATED:20240826T115220Z
LAST-MODIFIED:20240826T115434Z
UID:10003472-1726272000-1726358399@staging.catalunyaturisme.cat
SUMMARY:Festival Embarca't en Guissona
DESCRIPTION:Guissona se prepara para acoger el Festival Embarca’t\, una propuesta familiar que combina música en vivo\, gastronomía y tradiciones para ofrecer una experiencia inolvidable a todos los asistentes. Este festival\, con la voluntad de convertirse en un referente musical de la zona\, destaca por su oferta dirigida al público familiar\, con grupos destacados del panorama musical catalán como protagonistas del evento. \nMás allá de la música\, el Embarca’t ofrece una gran variedad de actividades paralelas\, como talleres\, exposiciones y espectáculos infantiles\, que lo convierten en un evento ideal para familias. La atmósfera relajada y festiva que se respira durante el festival hace que este se convierta en un punto de encuentro para los vecinos de Guissona\, donde la cultura\, el arte y la vida en comunidad se celebran en cada rincón. \nComo novedad\, el festival incluye una zona con hinchables\, pensada para niños de todas las edades. Esta área ofrece actividades adaptadas a diferentes edades\, creando un espacio alternativo para aquellos que quieran disfrutar del festival de una manera diferente y divertida. \nPara completar la experiencia\, el festival ofrece una amplia oferta gastronómica con una barra de bebidas y comida\, así como un directorio de restaurantes locales que ofrecerán el Menú Embarcat para quienes quieran disfrutar de una buena comida durante el día del festival.
URL:https://staging.catalunyaturisme.cat/es/esdeveniment/festival-embarcat-en-guissona/
LOCATION:Guissona\, Guissiona\, Catalunya\, Espanya
CATEGORIES:Música
ATTACH;FMTTYPE=image/jpeg:https://staging.catalunyaturisme.cat/wp-content/uploads/festival-embarca-t-a-guissona.jpg
END:VEVENT
BEGIN:VEVENT
DTSTART;VALUE=DATE:20240920
DTEND;VALUE=DATE:20240923
DTSTAMP:20260420T101732
CREATED:20240917T121505Z
LAST-MODIFIED:20240917T121702Z
UID:10003600-1726790400-1727049599@staging.catalunyaturisme.cat
SUMMARY:End Summer Festival: La Gran Fiesta de Final de Verano en Miami Platja
DESCRIPTION:Miami Platja despide el verano con el End Summer Festival\, un evento lleno de música\, gastronomía y actividades para toda la familia. La Platja Cristall\, la Punta del Riu y el Bosquet del Llastres serán los escenarios de esta celebración única en la Costa Daurada\, donde el entretenimiento está asegurado durante tres días intensos. \nEl festival cuenta con un potente cartel musical\, que incluye conciertos en vivo y sesiones de DJ’s para hacer bailar a todos bajo las estrellas. Además\, habrá espectáculos itinerantes\, actuaciones infantiles y un mercado de artesanía\, donde los visitantes podrán descubrir productos locales y creaciones originales. \nPara los amantes de la gastronomía\, el festival ofrece una variada selección de Food Trucks y espacios de restauración local de calidad\, perfectos para disfrutar de sabores de proximidad mientras se disfruta de la música y el ambiente festivo.
URL:https://staging.catalunyaturisme.cat/es/esdeveniment/end-summer-festival-la-gran-fiesta-de-final-de-verano-en-miami-platja/
LOCATION:Mont-roig del Camp\, Mont-roig del Camp\, Espanya
CATEGORIES:Gastronomia,Música
ATTACH;FMTTYPE=image/jpeg:https://staging.catalunyaturisme.cat/wp-content/uploads/end-summer-festival-miami-platja.jpg
END:VEVENT
BEGIN:VEVENT
DTSTART;VALUE=DATE:20240921
DTEND;VALUE=DATE:20240922
DTSTAMP:20260420T101732
CREATED:20240917T102731Z
LAST-MODIFIED:20240917T102953Z
UID:10003519-1726876800-1726963199@staging.catalunyaturisme.cat
SUMMARY:Festival "Nits a Dalt de Vila" a Tossa de Mar
DESCRIPTION:El Festival “Nits a Dalt de Vila” es una cita imprescindible para los amantes de la música y la cultura que se celebra en un entorno único: la histórica Vila Vella de Tossa de Mar\, el único recinto amurallado a orillas del mar que se conserva en pie desde la época medieval en Cataluña. Este festival ofrece una experiencia íntima y de calidad\, con actuaciones musicales que se desarrollan en la antigua Iglesia de Sant Vicenç\, un escenario natural elevado sobre el Mediterráneo\, perfecto para disfrutar de la magia de la música rodeados de historia. \nLa expresión “Dalt de Vila” es un término auténtico de Tossa que se refiere a la Vila Vella\, uno de los lugares más emblemáticos de la Costa Brava. Aunque el pueblo se expandió fuera de las murallas a partir del siglo XVI\, los habitantes de Tossa siguen usando esta expresión para referirse a este núcleo antiguo lleno de carácter y belleza. \nCon un formato de festival reducido y acogedor\, “Nits a Dalt de Vila” destaca por su ambiente íntimo y la calidad de sus propuestas artísticas. El público puede disfrutar de la música en un anfiteatro natural como es la iglesia medieval\, convirtiendo cada noche en una experiencia única e inolvidable.
URL:https://staging.catalunyaturisme.cat/es/esdeveniment/festival-nits-a-dalt-de-vila-a-tossa-de-mar/2024-09-21/
LOCATION:Tossa de Mar\, Tossa de Mar\, Girona\, 17320\, Espanya
CATEGORIES:Música
ATTACH;FMTTYPE=image/jpeg:https://staging.catalunyaturisme.cat/wp-content/uploads/festival-nits-a-dalt-de-vila-a-tossa-de-mar.jpg
ORGANIZER;CN="Oficina de Turisme de Tossa de Mar":MAILTO:info@visittossa.com
END:VEVENT
BEGIN:VEVENT
DTSTART;VALUE=DATE:20240926
DTEND;VALUE=DATE:20240930
DTSTAMP:20260420T101732
CREATED:20240917T154636Z
LAST-MODIFIED:20240917T154818Z
UID:10003618-1727308800-1727654399@staging.catalunyaturisme.cat
SUMMARY:Festival TNT
DESCRIPTION:El Festival TNT (Terrassa Noves Tendències) es un evento clave en Cataluña para la difusión e impulso de la creación contemporánea y multidisciplinar\, que se celebra anualmente en Terrassa desde 2007\, coincidiendo con el inicio del otoño. Con una programación innovadora y transgresora\, el TNT apuesta por las artes en vivo\, ofreciendo propuestas para todos los públicos y convirtiéndose en un referente tanto a nivel local como internacional. \nEste festival tiene como eje central los nuevos lenguajes artísticos\, y cada año presenta algunas de las propuestas más innovadoras del panorama internacional. Al mismo tiempo\, promueve el talento emergente catalán\, ofreciendo un espacio para la investigación y la creación a través de coproducciones y residencias artísticas. Los artistas participantes no solo tienen la oportunidad de desarrollar su obra\, sino que también están incentivados a realizar actividades que involucren a la ciudadanía\, fomentando la participación activa del público. \nCon un discurso colectivo articulado en cada edición\, el TNT se define como un espacio de provocación\, incomodidad y experimentación\, donde la creación artística se transforma en una herramienta para reflexionar sobre el mundo actual: incierto\, desigual y pendiente de cambios profundos. El festival ofrece\, así\, un espacio para la vulnerabilidad\, la diversión y la reflexión\, convirtiéndose en una plataforma para la transformación cultural.
URL:https://staging.catalunyaturisme.cat/es/esdeveniment/festival-tnt/
LOCATION:Terrassa\, Terrassa\, Barcelona\, Espanya
CATEGORIES:Música
ATTACH;FMTTYPE=image/jpeg:https://staging.catalunyaturisme.cat/wp-content/uploads/festival-terrassa-noves-tendencies.jpg
END:VEVENT
BEGIN:VEVENT
DTSTART;VALUE=DATE:20240928
DTEND;VALUE=DATE:20240929
DTSTAMP:20260420T101732
CREATED:20240917T102731Z
LAST-MODIFIED:20240917T102953Z
UID:10003520-1727510400-1727542800@staging.catalunyaturisme.cat
SUMMARY:Festival "Nits a Dalt de Vila" a Tossa de Mar
DESCRIPTION:El Festival “Nits a Dalt de Vila” es una cita imprescindible para los amantes de la música y la cultura que se celebra en un entorno único: la histórica Vila Vella de Tossa de Mar\, el único recinto amurallado a orillas del mar que se conserva en pie desde la época medieval en Cataluña. Este festival ofrece una experiencia íntima y de calidad\, con actuaciones musicales que se desarrollan en la antigua Iglesia de Sant Vicenç\, un escenario natural elevado sobre el Mediterráneo\, perfecto para disfrutar de la magia de la música rodeados de historia. \nLa expresión “Dalt de Vila” es un término auténtico de Tossa que se refiere a la Vila Vella\, uno de los lugares más emblemáticos de la Costa Brava. Aunque el pueblo se expandió fuera de las murallas a partir del siglo XVI\, los habitantes de Tossa siguen usando esta expresión para referirse a este núcleo antiguo lleno de carácter y belleza. \nCon un formato de festival reducido y acogedor\, “Nits a Dalt de Vila” destaca por su ambiente íntimo y la calidad de sus propuestas artísticas. El público puede disfrutar de la música en un anfiteatro natural como es la iglesia medieval\, convirtiendo cada noche en una experiencia única e inolvidable.
URL:https://staging.catalunyaturisme.cat/es/esdeveniment/festival-nits-a-dalt-de-vila-a-tossa-de-mar/2024-09-28/
LOCATION:Tossa de Mar\, Tossa de Mar\, Girona\, 17320\, Espanya
CATEGORIES:Música
ATTACH;FMTTYPE=image/jpeg:https://staging.catalunyaturisme.cat/wp-content/uploads/festival-nits-a-dalt-de-vila-a-tossa-de-mar.jpg
ORGANIZER;CN="Oficina de Turisme de Tossa de Mar":MAILTO:info@visittossa.com
END:VEVENT
END:VCALENDAR