BEGIN:VCALENDAR
VERSION:2.0
PRODID:-//Catalunya Turisme - ECPv6.5.1.5//NONSGML v1.0//EN
CALSCALE:GREGORIAN
METHOD:PUBLISH
X-ORIGINAL-URL:https://staging.catalunyaturisme.cat/es/
X-WR-CALDESC:Events for Catalunya Turisme
REFRESH-INTERVAL;VALUE=DURATION:PT1H
X-Robots-Tag:noindex
X-PUBLISHED-TTL:PT1H
BEGIN:VTIMEZONE
TZID:Europe/Madrid
BEGIN:DAYLIGHT
TZOFFSETFROM:+0100
TZOFFSETTO:+0200
TZNAME:CEST
DTSTART:20240331T010000
END:DAYLIGHT
BEGIN:STANDARD
TZOFFSETFROM:+0200
TZOFFSETTO:+0100
TZNAME:CET
DTSTART:20241027T010000
END:STANDARD
END:VTIMEZONE
BEGIN:VEVENT
DTSTART;VALUE=DATE:20240112
DTEND;VALUE=DATE:20240324
DTSTAMP:20260420T214004
CREATED:20231229T112916Z
LAST-MODIFIED:20231229T113120Z
UID:10000068-1705017600-1711238399@staging.catalunyaturisme.cat
SUMMARY:Festival Folk Internacional Tradicionàrius
DESCRIPTION:La 37ª edición del Festival Folk Internacional Tradicionàrius\, en Barcelona\, ​​tiene como uno de sus ejes principales la misión de dar visibilidad a grupos que reivindican las lenguas y la cultura de las minorías silenciadas. \nEl festival\, organizado por el Centre Artesà Tradicionàrius reivindica la lucha por la difusión y promoción de la música de raíz tradicional. Y no sólo la música\, sino también la cultura\, la danza\, la lengua\, la tradición y todo lo que le rodea. Este 2024 tendrá lugar del 12 de enero al 23 de marzo.
URL:https://staging.catalunyaturisme.cat/es/esdeveniment/festival-folk-internacional-tradicionarius/
LOCATION:Centre Artesà Tradicionàrius
CATEGORIES:Música
ATTACH;FMTTYPE=image/jpeg:https://staging.catalunyaturisme.cat/wp-content/uploads/cq5dam.web_.1280.1280-1.jpeg
END:VEVENT
BEGIN:VEVENT
DTSTART;VALUE=DATE:20240126
DTEND;VALUE=DATE:20240520
DTSTAMP:20260420T214004
CREATED:20231229T114500Z
LAST-MODIFIED:20231229T114638Z
UID:10000072-1706227200-1716163199@staging.catalunyaturisme.cat
SUMMARY:Barnasants. Festival de canción de autor
DESCRIPTION:Barnsants es un festival de música que ofrece canción de autor en diferentes espacios y municipios de los territorios de habla catalana. En esta edición\, su cartel conmemora el 50 aniversario de la Revolución de los Claveles y el centenario de Joan Salvat-Papasseit. \nEn el marco de este festival se realizarán más de 120 actuaciones que mezclan a autores emergentes con artistas más consolidados\, de los que destacan nombres como Marc Parrot\, Renaldo & Clara o Clara Peya. \nBarnasants también organiza actuaciones por toda Cataluña\, las Islas Baleares\, la Comunidad Valenciana\, donde destaca la presencia de Albert Pla en Ondarra\, y Alguer. Además\, desde hace unos años el festival propone un país invitado\, que en esta ocasión es Perú\, con artistas peruanos como invitados.
URL:https://staging.catalunyaturisme.cat/es/esdeveniment/barnasants-festival-de-canco-dautor/
LOCATION:Diversos espais
CATEGORIES:Música
ATTACH;FMTTYPE=image/jpeg:https://staging.catalunyaturisme.cat/wp-content/uploads/c9c7f8c7-3835-41dd-b345-ffe1980541a6.jpeg
END:VEVENT
BEGIN:VEVENT
DTSTART;TZID=Europe/Madrid:20240203T190000
DTEND;TZID=Europe/Madrid:20240203T210000
DTSTAMP:20260420T214004
CREATED:20240112T100332Z
LAST-MODIFIED:20240112T102510Z
UID:10000087-1706986800-1706994000@staging.catalunyaturisme.cat
SUMMARY:JazzConcabella
DESCRIPTION:Un año más se celebra el Festival de Jazz del Castillo de Concabella\, en Els Plans de Sió. Este festival de jazz\, que se celebra de enero a marzo\, ofrece un concierto mensual en un entorno único: el Castillo de Concabella. Además\, este año cuenta con participación de referentes del jazz. \nEl JazzConcabella es un festival acogedor y familiar\, que busca combinar la pasión por el jazz con la belleza de la naturaleza. Los conciertos tienen lugar a las 7 de la tarde y las entradas se pueden comprar a través de la web del festival.
URL:https://staging.catalunyaturisme.cat/es/esdeveniment/jazzconcabella/2024-02-03/
LOCATION:Castell de Concabella
CATEGORIES:Música
ATTACH;FMTTYPE=image/jpeg:https://staging.catalunyaturisme.cat/wp-content/uploads/festival-de-jazz-de-concabella_page-0001-scaled.jpg
END:VEVENT
BEGIN:VEVENT
DTSTART;VALUE=DATE:20240210
DTEND;VALUE=DATE:20240211
DTSTAMP:20260420T214004
CREATED:20231229T112143Z
LAST-MODIFIED:20231229T112400Z
UID:10000114-1707593400-1707598800@staging.catalunyaturisme.cat
SUMMARY:Refugi Sonor
DESCRIPTION:El ciclo Refugi Sonor\, en Tarragona\, ofrece un total de cinco conciertos\, un sábado de cada mes en horario de tarde. \nEl sábado 21 de octubre\, el grupo barcelonés Ciudad presentan su disco en debut\, Brandon. \nEl sábado 18 noviembre\, Marina Hein\, una artista revelación del momento presentará un disco delicado\, donde mezcla folk\, pulpo y otros estilos. \nEl sábado 9 de diciembre es el turno de Reina\, la nueva Monarquía del Pop nacional de un grupo manacorense afincado en Barcelona. \nEl 27 de enero\, el cantante mallorquín Miquel Serra\, con 9 discos en l espalda\, presentará su décimo y trabajo\, Las Hayas Arce es el acostumbrado “disco pequeño”\, resultado de las sesiones de Una casa es pánico. \nFinalmente\, el 10 de febrero\, el ciclo Refugi Sonor cerrará\, con la joven talento\, nacida en Barcelona\, Sara Terraza. Terraza debutó como cantante solista con 17 años en el programa televisivo “Oh Happy Day”\, e inicia entonces su trayectoria profesional. Después de unos años pisando escenarios del territorio catalán\, crea el proyecto “Sara Terraza & The Black Sheep”.
URL:https://staging.catalunyaturisme.cat/es/esdeveniment/refugi-sonor/2024-02-10/
LOCATION:Capsa de Música – Espai Tabacalera
CATEGORIES:Música
ATTACH;FMTTYPE=image/jpeg:https://staging.catalunyaturisme.cat/wp-content/uploads/A3_refugi-sonor_23_24_02_oct_2023-e1696412311434.jpg
END:VEVENT
END:VCALENDAR