BEGIN:VCALENDAR
VERSION:2.0
PRODID:-//Catalunya Turisme - ECPv6.5.1.5//NONSGML v1.0//EN
CALSCALE:GREGORIAN
METHOD:PUBLISH
X-WR-CALNAME:Catalunya Turisme
X-ORIGINAL-URL:https://staging.catalunyaturisme.cat/es/
X-WR-CALDESC:Events for Catalunya Turisme
REFRESH-INTERVAL;VALUE=DURATION:PT1H
X-Robots-Tag:noindex
X-PUBLISHED-TTL:PT1H
BEGIN:VTIMEZONE
TZID:Europe/Madrid
BEGIN:DAYLIGHT
TZOFFSETFROM:+0100
TZOFFSETTO:+0200
TZNAME:CEST
DTSTART:20240331T010000
END:DAYLIGHT
BEGIN:STANDARD
TZOFFSETFROM:+0200
TZOFFSETTO:+0100
TZNAME:CET
DTSTART:20241027T010000
END:STANDARD
END:VTIMEZONE
BEGIN:VEVENT
DTSTART;VALUE=DATE:20241129
DTEND;VALUE=DATE:20241202
DTSTAMP:20260420T005640
CREATED:20241111T172728Z
LAST-MODIFIED:20241111T172930Z
UID:10003774-1732838400-1733097599@staging.catalunyaturisme.cat
SUMMARY:Feria Avícola de la Raza Prat
DESCRIPTION:Bienvenidos a la Feria Avícola de la Raza Prat\, el evento donde podrás disfrutar de una experiencia única con los productos más auténticos de El Prat de Llobregat. Te esperan el famoso pollo Pota Blava y la deliciosa alcachofa Prat\, reconocidos por su calidad y sabor. Además de degustar estos productos\, tendrás la oportunidad de comprarlos para disfrutarlos en casa. \nEl Pota Blava\, criado al aire libre y con una alimentación natural\, ofrece una carne de textura y sabor incomparables. En la feria\, podrás conocer de cerca cómo se cría y descubrir los secretos de este producto local único. En el amplio espacio de la Granja de La Ricarda\, una antigua granja lechera\, los ganaderos y agricultores compartirán contigo sus conocimientos\, acercándote a los valores y tradiciones de la zona en un entorno de más de 19.000 m². \nEn la Feria\, también encontrarás actividades infantiles y familiares\, además de la presencia de entidades y asociaciones locales que presentarán sus iniciativas.
URL:https://staging.catalunyaturisme.cat/es/esdeveniment/feria-avicola-de-la-raza-prat/
CATEGORIES:Fires
ATTACH;FMTTYPE=image/jpeg:https://staging.catalunyaturisme.cat/wp-content/uploads/fira-avicola-de-la-raca-prat.jpeg
END:VEVENT
BEGIN:VEVENT
DTSTART;VALUE=DATE:20241130
DTEND;VALUE=DATE:20241202
DTSTAMP:20260420T005640
CREATED:20241111T172016Z
LAST-MODIFIED:20241111T172231Z
UID:10003772-1732924800-1733097599@staging.catalunyaturisme.cat
SUMMARY:Feria Playmobil y LEGO en Guissona
DESCRIPTION:Guissona se prepara para recibir una de las ferias más esperadas por los aficionados a los Playmobil y LEGO. La Feria Playmobil y LEGO\, que tendrá lugar en el Pabellón 11 de septiembre\, es la ocasión perfecta para disfrutar de una gran exposición de dioramas temáticos donde los pequeños detalles y la creatividad se convierten en protagonistas. Esta reunión es una oportunidad única para que coleccionistas y fans puedan admirar creaciones\, intercambiar piezas\, figuras y accesorios\, y conectar con otros apasionados de esta afición que ha conquistado a generaciones. \nDurante el evento\, el Museo de Guissona también será un punto destacado de la feria\, donde podréis descubrir un diorama romano especialmente creado para la ocasión. Además\, el museo organiza una divertida gimcana de Playmobil\, ideal para disfrutar en familia. Para completar la experiencia\, el eje comercial de Guissona guarda sorpresas: un concurso del click escondido\, en el que los visitantes podrán participar recorriendo las tiendas locales en busca de figuras ocultas. \nEsta edición de la feria trae novedades emocionantes\, ya que también se celebrará la Feria de Robótica en el espacio La Llavor\, una exhibición centrada en la inteligencia artificial y las nuevas tecnologías. Este espacio ofrece una perspectiva innovadora sobre el mundo de la robótica\, con actividades pensadas para un público amplio y especialmente atractivas para quienes tienen interés en la tecnología más avanzada.
URL:https://staging.catalunyaturisme.cat/es/esdeveniment/feria-playmobil-y-lego-en-guissona/
LOCATION:Guissona\, Guissiona\, Catalunya\, Espanya
CATEGORIES:Fires
ATTACH;FMTTYPE=image/jpeg:https://staging.catalunyaturisme.cat/wp-content/uploads/fira-playmobil-i-lego-a-guissona.jpg
END:VEVENT
BEGIN:VEVENT
DTSTART;VALUE=DATE:20241130
DTEND;VALUE=DATE:20241202
DTSTAMP:20260420T005640
CREATED:20241111T174540Z
LAST-MODIFIED:20241111T174831Z
UID:10003776-1732924800-1733097599@staging.catalunyaturisme.cat
SUMMARY:Feria de Santa Lucía de Canyelles
DESCRIPTION:Bienvenidos a la Feria de Santa Lucía de Canyelles\, uno de los eventos navideños más esperados en el Garraf\, donde podrás vivir la magia de la Navidad en cada rincón del pueblo. Esta feria es mucho más que un mercado; es una tradición viva\, creada con la ilusión de todos los vecinos y vecinas de Canyelles\, que durante estos días comparten el espíritu navideño con todos los visitantes. \nEn la feria encontrarás puestos de decoraciones\, artesanías\, regalos y productos típicos de la temporada\, además de espacios dedicados a la gastronomía local. No te pierdas la escudella caliente\, perfecta para combatir el frío mientras paseas entre las luces y los adornos que decoran las calles. La feria también ofrece una gran variedad de actividades para todos: talleres para los más pequeños\, actuaciones musicales en directo y exhibiciones tradicionales que llenan las calles de ambiente festivo. Los niños podrán disfrutar de la visita de Papá Noel\, el Paje Vibó y la emoción de dar golpes al “tió”\, una experiencia mágica que llena de alegría a los más pequeños. \nEsta feria transforma cada rincón del pueblo en un escenario navideño: árboles de Navidad\, belenes y luces brillan por todas partes\, creando una atmósfera que invita a soñar.
URL:https://staging.catalunyaturisme.cat/es/esdeveniment/feria-de-santa-lucia-de-canyelles/
LOCATION:Canyelles\, Canyelles\, Barcelona\, 08811\, Espanya
CATEGORIES:Fires
ATTACH;FMTTYPE=image/jpeg:https://staging.catalunyaturisme.cat/wp-content/uploads/fira-de-santa-llucia-de-canyelles.jpg
END:VEVENT
BEGIN:VEVENT
DTSTART;VALUE=DATE:20241206
DTEND;VALUE=DATE:20241207
DTSTAMP:20260420T005640
CREATED:20241111T193154Z
LAST-MODIFIED:20241111T193524Z
UID:10003813-1733472000-1733504400@staging.catalunyaturisme.cat
SUMMARY:La Visita de los Flamencos en MónNatura Delta de l'Ebre
DESCRIPTION:Esta experiencia única ofrece una mirada cercana a los flamencos\, las aves más emblemáticas del Delta del Ebro. Durante una hora\, podréis descubrir aspectos fascinantes de estas majestuosas aves\, como su anatomía\, hábitos alimenticios y otros detalles menos conocidos de su vida cotidiana. La actividad se realiza en el Mirador 360º\, un espacio exclusivo en el Delta equipado con telescopios para observarlos en directo y disfrutar de una experiencia inolvidable. \nCon su elegante plumaje rosa\, los flamencos son uno de los mayores atractivos del delta. Esta actividad\, ideal para todo tipo de público\, permite observar a estas bellas aves en su hábitat natural mientras se aprende sobre su alimentación y su comportamiento. Es una oportunidad perfecta para entender cómo se alimentan y se mueven en las aguas salobres del Delta\, ofreciendo una visión completa de la vida de estas aves acuáticas. \nLa visita se realiza en catalán y se recomienda hacer reserva previa y\, para grupos\, se puede solicitar en horarios convenidos a info@monnaturadelta.com.
URL:https://staging.catalunyaturisme.cat/es/esdeveniment/la-visita-de-los-flamencos-en-monnatura-delta-de-lebre/2024-12-06/
CATEGORIES:Fires
ATTACH;FMTTYPE=image/jpeg:https://staging.catalunyaturisme.cat/wp-content/uploads/la-visita-dels-flamencs-a-monnatura-delta-de-l-ebre.jpg
END:VEVENT
BEGIN:VEVENT
DTSTART;VALUE=DATE:20241207
DTEND;VALUE=DATE:20241208
DTSTAMP:20260420T005640
CREATED:20241111T193154Z
LAST-MODIFIED:20241111T193524Z
UID:10003814-1733529600-1733615999@staging.catalunyaturisme.cat
SUMMARY:La Visita de los Flamencos en MónNatura Delta de l'Ebre
DESCRIPTION:Esta experiencia única ofrece una mirada cercana a los flamencos\, las aves más emblemáticas del Delta del Ebro. Durante una hora\, podréis descubrir aspectos fascinantes de estas majestuosas aves\, como su anatomía\, hábitos alimenticios y otros detalles menos conocidos de su vida cotidiana. La actividad se realiza en el Mirador 360º\, un espacio exclusivo en el Delta equipado con telescopios para observarlos en directo y disfrutar de una experiencia inolvidable. \nCon su elegante plumaje rosa\, los flamencos son uno de los mayores atractivos del delta. Esta actividad\, ideal para todo tipo de público\, permite observar a estas bellas aves en su hábitat natural mientras se aprende sobre su alimentación y su comportamiento. Es una oportunidad perfecta para entender cómo se alimentan y se mueven en las aguas salobres del Delta\, ofreciendo una visión completa de la vida de estas aves acuáticas. \nLa visita se realiza en catalán y se recomienda hacer reserva previa y\, para grupos\, se puede solicitar en horarios convenidos a info@monnaturadelta.com.
URL:https://staging.catalunyaturisme.cat/es/esdeveniment/la-visita-de-los-flamencos-en-monnatura-delta-de-lebre/2024-12-07/
CATEGORIES:Fires
ATTACH;FMTTYPE=image/jpeg:https://staging.catalunyaturisme.cat/wp-content/uploads/la-visita-dels-flamencs-a-monnatura-delta-de-l-ebre.jpg
END:VEVENT
END:VCALENDAR