BEGIN:VCALENDAR
VERSION:2.0
PRODID:-//Catalunya Turisme - ECPv6.5.1.5//NONSGML v1.0//EN
CALSCALE:GREGORIAN
METHOD:PUBLISH
X-WR-CALNAME:Catalunya Turisme
X-ORIGINAL-URL:https://staging.catalunyaturisme.cat/es/
X-WR-CALDESC:Events for Catalunya Turisme
REFRESH-INTERVAL;VALUE=DURATION:PT1H
X-Robots-Tag:noindex
X-PUBLISHED-TTL:PT1H
BEGIN:VTIMEZONE
TZID:Europe/Madrid
BEGIN:DAYLIGHT
TZOFFSETFROM:+0100
TZOFFSETTO:+0200
TZNAME:CEST
DTSTART:20240331T010000
END:DAYLIGHT
BEGIN:STANDARD
TZOFFSETFROM:+0200
TZOFFSETTO:+0100
TZNAME:CET
DTSTART:20241027T010000
END:STANDARD
END:VTIMEZONE
BEGIN:VEVENT
DTSTART;VALUE=DATE:20240714
DTEND;VALUE=DATE:20240715
DTSTAMP:20260420T080306
CREATED:20240713T173741Z
LAST-MODIFIED:20240713T175031Z
UID:10000715-1720915200-1721001599@staging.catalunyaturisme.cat
SUMMARY:Feria de la cerveza artesana de Jafre
DESCRIPTION:Como cada año\, el pueblo de Jafre acogerá la Feria de la Cerveza Artesana. Habrá stands de artesanos de la cerveza y cerca de la Plaza del Castillo se podrán encontrar puestos con productos artesanales y locales\, como quesos\, mieles\, embutidos\, pan\, aceitunas\, té\, infusiones\, bisutería\, entre otros. \nEn esta edición de 2024 participan 15 marcas de cerveza artesana. Se elegirá la cerveza del año y para participar solo hay que asistir y esperar a que uno de los encuestadores te ofrezca una prueba. Diversión asegurada para los amantes de la buena cerveza. Además\, la feria se encuentra a solo 11 minutos en coche de Can Muní. \n¿Qué es el Jafrenc? \nEs un aperitivo creado exclusivamente para la Feria que se convierte en un excelente acompañante de las catas de cerveza artesana. Está elaborado de forma completamente artesanal por los miembros de la comisión organizadora de la Feria\, y se puede disfrutar recién salido del horno. Cada edición de la Feria premia la mejor cerveza presentada por los artesanos cerveceros. A lo largo del día\, un equipo de encuestadores circula por la Feria buscando a aquellas personas que realizan catas de cerveza y toman nota de las observaciones y gustos que los visitantes les transmiten. Con un recuento muy bien efectuado\, se selecciona la cerveza con más elogios presente en la Feria\, y seguidamente se entrega una copa serigrafiada que proclama la “Cerveza del año de Jafre”. Además\, se realiza un pedido abundante de la cerveza ganadora gracias a la colaboración de un patrocinador. \nPara más información sobre las actividades y las fechas exactas de la Feria de la Cerveza Artesana de Jafre\, visitad la página web oficial del evento.
URL:https://staging.catalunyaturisme.cat/es/esdeveniment/feria-de-la-cerveza-artesana-de-jafre/
LOCATION:Jafre\, Jafre\, Girona\, Espanya
CATEGORIES:Fires
ATTACH;FMTTYPE=image/jpeg:https://staging.catalunyaturisme.cat/wp-content/uploads/Festa-del-Segar-i-del-Batre-dAvia.jpeg
END:VEVENT
BEGIN:VEVENT
DTSTART;VALUE=DATE:20240717
DTEND;VALUE=DATE:20240718
DTSTAMP:20260420T080306
CREATED:20240713T175409Z
LAST-MODIFIED:20240713T175451Z
UID:10000718-1721174400-1721260799@staging.catalunyaturisme.cat
SUMMARY:Feria de Lutiers a Cervera
DESCRIPTION:La Feria de Luthiers en Cervera\, en Segarra\, es un evento destacado dedicado al arte de la construcción y reparación de instrumentos de cuerda. Este evento reúne a maestros luthiers de todas partes que exhiben sus instrumentos\, desde violines hasta violonchelos y guitarras. \nLa feria no solo es una oportunidad para conocer de cerca el trabajo artesanal de los luthiers\, sino también para disfrutar de conciertos\, talleres y demostraciones que ponen en valor la música y la tradición de los instrumentos de cuerda. Los visitantes podrán interactuar con los luthiers\, aprender sobre las técnicas de construcción y reparación\, e incluso participar en sesiones prácticas para descubrir los secretos de este antiguo oficio. \nEste evento es perfecto para los amantes de la música\, los profesionales del sector y cualquier persona interesada en la cultura y la tradición de los instrumentos de cuerda. La feria ofrece una experiencia enriquecedora que combina la artesanía\, la música y la educación en un ambiente festivo y cultural. \nPara más información sobre las actividades y las fechas exactas de la Feria de Luthiers en Cervera\, visitad la página web oficial del evento.
URL:https://staging.catalunyaturisme.cat/es/esdeveniment/feria-de-lutiers-a-cervera/
LOCATION:Cervera\, Cervera\, Espanya
CATEGORIES:Fires
ATTACH;FMTTYPE=image/jpeg:https://staging.catalunyaturisme.cat/wp-content/uploads/file-36.jpg
END:VEVENT
BEGIN:VEVENT
DTSTART;VALUE=DATE:20240719
DTEND;VALUE=DATE:20240721
DTSTAMP:20260420T080306
CREATED:20240713T180927Z
LAST-MODIFIED:20240713T181111Z
UID:10000723-1721347200-1721519999@staging.catalunyaturisme.cat
SUMMARY:Mercado Romano de Iesso
DESCRIPTION:El Mercado Romano de Iesso\, celebrado en Guissona\, es un evento cultural que recrea la vida y el ambiente de la antigua ciudad romana de Iesso. Este mercado es una de las fiestas más importantes de Guissona\, ubicada en la comarca de la Segarra\, en la provincia de Lleida\, Cataluña. \nEste evento ofrece una experiencia única para los visitantes\, transportándolos a la época romana con una gran variedad de actividades\, puestos y espectáculos que reflejan la vida cotidiana\, las costumbres y las tradiciones de la antigua Iesso. Los visitantes podrán disfrutar de recreaciones históricas\, exhibiciones de legionarios\, espectáculos de gladiadores\, talleres artesanales y una gran variedad de productos típicos de la época. \nEl Mercado Romano de Iesso es una oportunidad para toda la familia de vivir una experiencia inmersiva y educativa\, descubriendo la riqueza histórica y cultural de Guissona. Con su atmósfera festiva y su cuidada ambientación\, esta celebración se convierte en un evento destacado en el calendario cultural de la comarca. \nPara más información sobre las actividades y las fechas exactas del Mercado Romano de Iesso\, visitad la página web oficial del evento.
URL:https://staging.catalunyaturisme.cat/es/esdeveniment/mercado-romano-de-iesso/
LOCATION:Guissona\, Guissiona\, Catalunya\, Espanya
CATEGORIES:Fires
ATTACH;FMTTYPE=image/jpeg:https://staging.catalunyaturisme.cat/wp-content/uploads/mercat-roma-iesso-guissona-6-scaled-1.jpg
END:VEVENT
BEGIN:VEVENT
DTSTART;VALUE=DATE:20240719
DTEND;VALUE=DATE:20240722
DTSTAMP:20260420T080306
CREATED:20240713T181535Z
LAST-MODIFIED:20240713T181708Z
UID:10000725-1721347200-1721606399@staging.catalunyaturisme.cat
SUMMARY:Feria de Circo en la Calle de La Bisbal d’Empordà
DESCRIPTION:La Feria de Circo en la Calle de La Bisbal d’Empordà es un festival de circo y teatro de calle que llena de espectadores las calles de La Bisbal d’Empordà durante el tercer fin de semana de julio. La voluntad de este festival es ofrecer en un fin de semana una programación diversa y atractiva que sea interesante para todos los públicos y edades. \nLa Feria de Circo es una actividad coorganizada por la entidad Fira de Circ y el ayuntamiento de La Bisbal d’Empordà. \nEstas más de veinte ediciones que arrancan en 1996 de la mano de la entidad juvenil Nuik’s\, forman parte de una segunda etapa\, ya que la Feria de Circo vigente recogió el testimonio de la entidad bisbalense Paufila\, que a principios de los años ochenta organizó las dos primeras ediciones de la Feria de Circo. La entidad Nuik’s retomó el proyecto con el compromiso de dotarlo de una identidad propia y de nutrirse de la energía necesaria para asegurar el futuro de la Feria. Esta entidad se fue transformando a la vez que desaparecía\, dando lugar a la actual entidad organizadora Fira de Circ al Carrer de La Bisbal d’Empordà.
URL:https://staging.catalunyaturisme.cat/es/esdeveniment/feria-de-circo-en-la-calle-de-la-bisbal-demporda/
CATEGORIES:Fires
ATTACH;FMTTYPE=image/jpeg:https://staging.catalunyaturisme.cat/wp-content/uploads/Fira-de-Circ-al-carrer-a-La-Bisbal-dEmporda-foto-1.jpg
END:VEVENT
BEGIN:VEVENT
DTSTART;VALUE=DATE:20240720
DTEND;VALUE=DATE:20240721
DTSTAMP:20260420T080306
CREATED:20240713T180040Z
LAST-MODIFIED:20240713T180150Z
UID:10000721-1721433600-1721519999@staging.catalunyaturisme.cat
SUMMARY:Feria de Cerveza Artesana en Gavà
DESCRIPTION:La Feria de Cerveza Artesana en Gavà tendrá lugar de 18 a 1.30h. El Gremi de Restauració de Gavà\, con la colaboración del Ayuntamiento de Gavà\, organiza la segunda edición de este evento con el objetivo de dinamizar la restauración local y promocionar productos artesanales derivados de la cerveza. \nEsta actividad contará con la presencia de 8 marcas de cerveza artesana de la comarca\, que ofrecerán sus variedades. Los productores son pequeños elaboradores locales que apuestan por una producción sostenible y de proximidad. Además\, el Gremi de Restauració ofrecerá una selección de tapas para complementar la experiencia gastronómica. \nLa feria estará amenizada por un DJ y un concierto a partir de las 21.30h\, asegurando una velada divertida y llena de buena música para todos los asistentes. \nPara más información sobre las actividades y las fechas exactas de la Feria de Cerveza Artesana en Gavà\, visitad la página web oficial del evento.
URL:https://staging.catalunyaturisme.cat/es/esdeveniment/feria-de-cerveza-artesana-en-gava/
LOCATION:Gavà\, Gavà\, Espanya
CATEGORIES:Fires
ATTACH;FMTTYPE=image/png:https://staging.catalunyaturisme.cat/wp-content/uploads/Fira-de-Cervesa-Artesana-Gava-1.png
END:VEVENT
BEGIN:VEVENT
DTSTART;VALUE=DATE:20240720
DTEND;VALUE=DATE:20240722
DTSTAMP:20260420T080306
CREATED:20240713T184154Z
LAST-MODIFIED:20240713T184312Z
UID:10000729-1721433600-1721606399@staging.catalunyaturisme.cat
SUMMARY:Feria del Tomate del Vallès en Santa Eulàlia de Ronçana
DESCRIPTION:Redescubre el auténtico sabor de los tomates en la Feria del Tomate del Vallès Oriental\, donde encontrarás variedades antiguas\, visitas al huerto\, talleres de compostaje\, pero sobre todo catas de tomates antiguos. \nLa Feria del Tomate del Vallès Oriental da a conocer la labor de recuperación de variedades antiguas que está llevando a cabo el colectivo Llavors Orientals. Productores y restauradores de todo el Vallès Oriental quieren que puedas volver a comprar los tomates de antes. \nComo cada año\, el exterior de La Fàbrica acogerá puestos de productores de proximidad\, donde se podrán encontrar tomates así como pan\, miel o verduras y hortalizas\, entre otros. Los puestos estarán abiertos de 9 a 14 h. Además\, por cada tres tiques de compra superiores a 10 euros\, se podrá recoger de forma gratuita un delantal de la Feria (las compras deben realizarse en diferentes puestos y la promoción estará disponible hasta agotar existencias). \nEste año\, para combatir el calor\, se colocará una doble fila de carpas para que tanto productores como visitantes disfruten de sombra. También repite del año pasado la zona chill out con servicio de food truck y música. \nLa reconocida feria del Vallès incluirá diversas actividades para todos los públicos\, como talleres\, visitas guiadas o el tradicional show cooking. Además\, los visitantes obtendrán el librito “Variedades antiguas de tomates del Vallès” y podrán comprar tomates y productos locales directamente a los campesinos y productores de la comarca que cultivan y elaboran de forma artesanal.
URL:https://staging.catalunyaturisme.cat/es/esdeveniment/feria-del-tomate-del-valles-en-santa-eulalia-de-roncana/
LOCATION:Centre Cívic i Cultural La Fàbrica
CATEGORIES:Fires
ATTACH;FMTTYPE=image/png:https://staging.catalunyaturisme.cat/wp-content/uploads/Fira-del-Tomaquet-del-Valles-a-Sta-Eulalia-de-Roncana-2.png
END:VEVENT
BEGIN:VEVENT
DTSTART;TZID=Europe/Madrid:20240720T100000
DTEND;TZID=Europe/Madrid:20240720T210000
DTSTAMP:20260420T080306
CREATED:20240716T091327Z
LAST-MODIFIED:20240716T091447Z
UID:10000865-1721469600-1721509200@staging.catalunyaturisme.cat
SUMMARY:Muestra de Artesanía en Santa Maria de Palautordera
DESCRIPTION:Santa Maria de Palautordera acoge una nueva edición de la Muestra de Artesanía! La Muestra se celebrará en las calles del centro del pueblo. \nAdemás de los puestos de los artesanos y los talleres o demostraciones de oficios\, también habrá una serie de actividades complementarias para pequeños y mayores. \nLos visitantes pueden conocer una parte de la artesanía que se elabora en el municipio y adquirir productos singulares\, cercanos y con autoría. Productos con alma que nos cuentan una historia detrás de cada propuesta. \nPara más información sobre las actividades y las fechas exactas\, visitad la página web oficial del evento.
URL:https://staging.catalunyaturisme.cat/es/esdeveniment/muestra-de-artesania-en-santa-maria-de-palautordera/2024-07-20/
CATEGORIES:Fires
ATTACH;FMTTYPE=image/jpeg:https://staging.catalunyaturisme.cat/wp-content/uploads/WhatsApp_Image_2024-07-09_at_08.53.49.jpeg
END:VEVENT
BEGIN:VEVENT
DTSTART;TZID=Europe/Madrid:20240721T100000
DTEND;TZID=Europe/Madrid:20240721T200000
DTSTAMP:20260420T080306
CREATED:20240716T091327Z
LAST-MODIFIED:20240716T091447Z
UID:10000866-1721556000-1721592000@staging.catalunyaturisme.cat
SUMMARY:Muestra de Artesanía en Santa Maria de Palautordera
DESCRIPTION:Santa Maria de Palautordera acoge una nueva edición de la Muestra de Artesanía! La Muestra se celebrará en las calles del centro del pueblo. \nAdemás de los puestos de los artesanos y los talleres o demostraciones de oficios\, también habrá una serie de actividades complementarias para pequeños y mayores. \nLos visitantes pueden conocer una parte de la artesanía que se elabora en el municipio y adquirir productos singulares\, cercanos y con autoría. Productos con alma que nos cuentan una historia detrás de cada propuesta. \nPara más información sobre las actividades y las fechas exactas\, visitad la página web oficial del evento.
URL:https://staging.catalunyaturisme.cat/es/esdeveniment/muestra-de-artesania-en-santa-maria-de-palautordera/2024-07-21/
CATEGORIES:Fires
ATTACH;FMTTYPE=image/jpeg:https://staging.catalunyaturisme.cat/wp-content/uploads/WhatsApp_Image_2024-07-09_at_08.53.49.jpeg
END:VEVENT
BEGIN:VEVENT
DTSTART;VALUE=DATE:20240726
DTEND;VALUE=DATE:20240729
DTSTAMP:20260420T080306
CREATED:20240716T104720Z
LAST-MODIFIED:20240716T104808Z
UID:10000906-1721952000-1722211199@staging.catalunyaturisme.cat
SUMMARY:Los Firals de Bellvís
DESCRIPTION:Los Firals de Bellvís (Pla d’Urgell) es una fiesta popular que recrea hechos históricos y tradicionales del municipio. Durante los días que dura el evento\, las calles de Bellvís se transforman en un escenario de época\, donde se pueden ver espectáculos de recreación histórica\, mercados de artesanía y demostraciones de oficios antiguos. \nAdemás\, la fiesta incluye actuaciones musicales\, actividades para todos los públicos y una amplia oferta gastronómica que permite a los visitantes disfrutar de la cultura y la historia de Bellvís de una manera inmersiva y festiva. \nPara más información sobre las actividades y las fechas exactas\, visitad la página web oficial del evento.
URL:https://staging.catalunyaturisme.cat/es/esdeveniment/los-firals-de-bellvis/
CATEGORIES:Fires
ATTACH;FMTTYPE=image/jpeg:https://staging.catalunyaturisme.cat/wp-content/uploads/els-firals-de-bellvis-5-1.jpg
END:VEVENT
BEGIN:VEVENT
DTSTART;VALUE=DATE:20240727
DTEND;VALUE=DATE:20240729
DTSTAMP:20260420T080306
CREATED:20240715T193037Z
LAST-MODIFIED:20240715T193300Z
UID:10000857-1722038400-1722211199@staging.catalunyaturisme.cat
SUMMARY:Feria de Sant Jaume en Prats de Lluçanès
DESCRIPTION:La Feria de Sant Jaume de Prats de Lluçanès se celebra el domingo más cercano a la festividad de Sant Jaume\, el 25 de julio. Esta centenaria y tradicional feria cuenta con diversos actos durante todo el fin de semana. \nEl certamen combina propuestas culturales\, musicales\, familiares e infantiles\, con la gastronomía y las elaboraciones del territorio\, a partir de una nueva edición de la muestra gastronómica del Lluçanès\, el TastaQmarca. \nEl TastaQmarca se estrenará en los Jardines de la Farmàcia Vella y Cal Bach con tapas y bebidas de proximidad a precios de entre 1 y 4 euros. De entre todas las tapas\, podrás elegir cuál es la mejor de todas y entrarás en un sorteo de vales de 20 € para canjear en los establecimientos participantes. \nPara más información sobre las actividades y las fechas exactas\, visitad la página web oficial del evento.
URL:https://staging.catalunyaturisme.cat/es/esdeveniment/feria-de-sant-jaume-en-prats-de-llucanes/
LOCATION:Prats de Lluçanès\, Prats de Lluçanès\, 08513\, España
CATEGORIES:Fires
ATTACH;FMTTYPE=image/jpeg:https://staging.catalunyaturisme.cat/wp-content/uploads/fira-de-sant-jaume-a-prats-de-llucanes.jpg
END:VEVENT
BEGIN:VEVENT
DTSTART;TZID=Europe/Madrid:20240728T100000
DTEND;TZID=Europe/Madrid:20240728T210000
DTSTAMP:20260420T080306
CREATED:20240716T105616Z
LAST-MODIFIED:20240716T105719Z
UID:10000910-1722160800-1722200400@staging.catalunyaturisme.cat
SUMMARY:Feria de Arte de Sant Jaume en Sant Pol de Mar
DESCRIPTION:La Feria de Arte de Sant Jaume se celebra en Sant Pol de Mar\, en la calle Nou\, el día de la Fiesta Mayor de Sant Jaume. \nDurante todo el día\, en la calle Nou\, se podrá disfrutar de la Feria de Arte\, donde se mostrarán diversas disciplinas artísticas. Además\, en la plaza de la Estación\, se podrá visitar una exposición de pintura a cargo del Taller de Pintura de Sant Pol. \nLa feria\, organizada por Sandra Moncusí y Abel Pruñonosa con el apoyo de Els Amics de les Arts\, vuelve después de los años de pandemia con una nueva etapa centrada únicamente en las disciplinas artísticas. Los puestos de artesanía y gastronomía quedarán excluidos para mantener el espíritu original de la feria. \nPara más información sobre las actividades y las fechas exactas\, visitad la página web oficial del evento.
URL:https://staging.catalunyaturisme.cat/es/esdeveniment/feria-de-arte-de-sant-jaume-en-sant-pol-de-mar/
CATEGORIES:Fires
ATTACH;FMTTYPE=image/jpeg:https://staging.catalunyaturisme.cat/wp-content/uploads/fira-dart-de-sant-jaume-1-686x1024-1.jpg
END:VEVENT
END:VCALENDAR