BEGIN:VCALENDAR
VERSION:2.0
PRODID:-//Catalunya Turisme - ECPv6.5.1.5//NONSGML v1.0//EN
CALSCALE:GREGORIAN
METHOD:PUBLISH
X-ORIGINAL-URL:https://staging.catalunyaturisme.cat/es/
X-WR-CALDESC:Events for Catalunya Turisme
REFRESH-INTERVAL;VALUE=DURATION:PT1H
X-Robots-Tag:noindex
X-PUBLISHED-TTL:PT1H
BEGIN:VTIMEZONE
TZID:Europe/Madrid
BEGIN:DAYLIGHT
TZOFFSETFROM:+0100
TZOFFSETTO:+0200
TZNAME:CEST
DTSTART:20240331T010000
END:DAYLIGHT
BEGIN:STANDARD
TZOFFSETFROM:+0200
TZOFFSETTO:+0100
TZNAME:CET
DTSTART:20241027T010000
END:STANDARD
END:VTIMEZONE
BEGIN:VEVENT
DTSTART;VALUE=DATE:20240927
DTEND;VALUE=DATE:20240930
DTSTAMP:20260420T111908
CREATED:20240917T162010Z
LAST-MODIFIED:20240917T162139Z
UID:10003628-1727395200-1727654399@staging.catalunyaturisme.cat
SUMMARY:Festival Internacional de Cerámica Terrània
DESCRIPTION:El Festival Internacional de Cerámica Terrània\, nacido en 2003 en Montblanc\, es un evento pionero en Cataluña que se ha convertido en un referente en el ámbito de la cerámica artística y decorativa. Desde su primera edición\, captó el interés de cientos de visitantes gracias a la calidad de las obras expuestas y a la presencia de ceramistas reconocidos a nivel nacional e internacional. \nTerrània tiene como objetivo principal acercar la cerámica artística a un público más amplio\, ofreciendo una nueva perspectiva sobre este arte\, habitualmente asociado a la cerámica tradicional y funcional. Durante el festival\, los visitantes pueden descubrir y adquirir piezas únicas de artistas destacados\, disfrutar de exposiciones repartidas por diversos espacios del casco antiguo de Montblanc\, y presenciar demostraciones técnicas realizadas por los propios ceramistas. Además\, los talleres interactivos permiten a personas de todas las edades participar activamente en el proceso creativo\, fomentando la apreciación por este arte milenario.
URL:https://staging.catalunyaturisme.cat/es/esdeveniment/festival-internacional-de-ceramica-terrania/
LOCATION:Montblanc\, Montblanc\, Tarragona\, Espanya
CATEGORIES:Art
ATTACH;FMTTYPE=image/jpeg:https://staging.catalunyaturisme.cat/wp-content/uploads/4184-02-_MG_0167-1.jpg
END:VEVENT
BEGIN:VEVENT
DTSTART;VALUE=DATE:20240930
DTEND;VALUE=DATE:20241007
DTSTAMP:20260420T111908
CREATED:20240917T163803Z
LAST-MODIFIED:20240917T163953Z
UID:10003630-1727654400-1728259199@staging.catalunyaturisme.cat
SUMMARY:Festival Internacional de Teatro y Circo de Amposta
DESCRIPTION:Vuelve el FesticAM\, el Festival Internacional de Teatro y Circo de Amposta\, una cita anual que transforma la ciudad en un escenario al aire libre con todo tipo de espectáculos. Desde su nacimiento en 2013\, este festival se ha consolidado como un referente en las Tierras del Ebro\, ofreciendo una amplia gama de actuaciones de circo\, teatro y otras artes escénicas que toman las calles de Amposta durante varios días. \nEl FesticAM se caracteriza por su predominio de las artes escénicas de calle\, con una programación que incluye espectáculos de diferentes géneros\, así como exhibiciones y talleres de circo pensados para todo tipo de público. Desde números de clown hasta acrobacias aéreas\, pasando por teatro de pequeño formato\, cada edición ofrece un mosaico de propuestas que acercan la creatividad y el arte al espacio urbano. \nComo miembro de la Plataforma Arts de Carrer de Catalunya\, el FesticAM se sitúa entre los festivales más importantes de su categoría\, agrupando en su programación las disciplinas más innovadoras y experimentales del mundo de las artes escénicas. Su misión no es solo entretener\, sino también impulsar a Amposta como un punto neurálgico de la creación artística en el sur de Cataluña.
URL:https://staging.catalunyaturisme.cat/es/esdeveniment/festival-internacional-de-teatro-y-circo-de-amposta/
LOCATION:Amposta\, Recinte Firal 1 d’octubre situat al C. Sebastià Juan Arbó\, 1
CATEGORIES:Art
ATTACH;FMTTYPE=image/jpeg:https://staging.catalunyaturisme.cat/wp-content/uploads/festicam-damposta.jpg
ORGANIZER;CN="Ajuntament d'Amposta":MAILTO:ajuntament@amposta.cat
END:VEVENT
END:VCALENDAR