BEGIN:VCALENDAR
VERSION:2.0
PRODID:-//Catalunya Turisme - ECPv6.5.1.5//NONSGML v1.0//EN
CALSCALE:GREGORIAN
METHOD:PUBLISH
X-ORIGINAL-URL:https://staging.catalunyaturisme.cat/es/
X-WR-CALDESC:Events for Catalunya Turisme
REFRESH-INTERVAL;VALUE=DURATION:PT1H
X-Robots-Tag:noindex
X-PUBLISHED-TTL:PT1H
BEGIN:VTIMEZONE
TZID:Europe/Madrid
BEGIN:DAYLIGHT
TZOFFSETFROM:+0100
TZOFFSETTO:+0200
TZNAME:CEST
DTSTART:20240331T010000
END:DAYLIGHT
BEGIN:STANDARD
TZOFFSETFROM:+0200
TZOFFSETTO:+0100
TZNAME:CET
DTSTART:20241027T010000
END:STANDARD
END:VTIMEZONE
BEGIN:VEVENT
DTSTART;VALUE=DATE:20240825
DTEND;VALUE=DATE:20240826
DTSTAMP:20260420T125300
CREATED:20240822T175941Z
LAST-MODIFIED:20240822T180108Z
UID:10003386-1724544000-1724630399@staging.catalunyaturisme.cat
SUMMARY:Concurso Internacional de Pintura Rápida de Tossa de Mar
DESCRIPTION:El Concurso Internacional de Pintura Rápida de Tossa de Mar vuelve cada último domingo de agosto\, ofreciendo una oportunidad única para capturar la belleza de la villa en un solo día. Esta competición al aire libre\, que acoge a participantes de todas las edades\, se ha consolidado como una cita imprescindible para artistas de todo el mundo que desean plasmar los encantos de Tossa en sus creaciones. \nLos participantes deben crear una obra original que tenga como protagonista algún aspecto de la villa de Tossa de Mar\, y deben completarla durante la misma jornada del concurso. Hay diferentes categorías según la edad: los niños de entre 4 y 12 años participan en la categoría infantil\, mientras que los jóvenes de entre 13 y 18 años compiten en la categoría juvenil. Esta diversidad hace que el concurso sea accesible y atractivo para un amplio abanico de artistas. \nUna vez finalizado el concurso\, todas las obras presentadas se exhiben en una exposición pública en Tossa de Mar\, que se puede visitar hasta el 6 de septiembre. Esta exhibición no solo permite admirar la creatividad y destreza de los participantes\, sino que también ofrece una visión única de Tossa a través de los ojos de los artistas.
URL:https://staging.catalunyaturisme.cat/es/esdeveniment/concurso-internacional-de-pintura-rapida-de-tossa-de-mar/
CATEGORIES:Art
ATTACH;FMTTYPE=image/jpeg:https://staging.catalunyaturisme.cat/wp-content/uploads/concurs-internacional-de-pintura-rapida-de-tossa-de-mar.jpg
ORGANIZER;CN="Oficina de Turisme de Tossa de Mar":MAILTO:info@visittossa.com
END:VEVENT
END:VCALENDAR