BEGIN:VCALENDAR
VERSION:2.0
PRODID:-//Catalunya Turisme - ECPv6.5.1.5//NONSGML v1.0//EN
CALSCALE:GREGORIAN
METHOD:PUBLISH
X-ORIGINAL-URL:https://staging.catalunyaturisme.cat
X-WR-CALDESC:Events for Catalunya Turisme
REFRESH-INTERVAL;VALUE=DURATION:PT1H
X-Robots-Tag:noindex
X-PUBLISHED-TTL:PT1H
BEGIN:VTIMEZONE

END:VTIMEZONE
BEGIN:VEVENT
DTSTART;VALUE=DATE:20260421
DTEND;VALUE=DATE:20240616
DTSTAMP:20260421T003151
CREATED:20240606T074226Z
LAST-MODIFIED:20240612T081640Z
UID:10000438-0-1718494200@staging.catalunyaturisme.cat
SUMMARY:Street Food Summer Llançà
DESCRIPTION:Arriba la 8a edició del Street Food Summer al Port de Llançà! A partir de les 19h30\, podràs gaudir d’una tarda a la vora del mar degustant delicioses tapes acompanyades dels vins de la DO Empordà i la Cervesa de Roses\, mentre gaudeixes de botigues\, concerts i copes. \nEn aquesta nova edició\, una àmplia gamma d’establiments participen oferint tapes de qualitat. A més\, es comptarà amb l’STREET SHOP\, on els comerços del municipi disposaran de zones de botiguetes al mateix espai de La Gola\, proporcionant una experiència de compres única. \nL’objectiu d’aquesta iniciativa és oferir una activitat innovadora per promocionar la gastronomia i el comerç local\, inaugurant la temporada alta turística. \nPer evitar cues\, es disposa d’un forfait especial que es pot adquirir anticipadament a les oficines de turisme de Llançà a partir del dissabte 3 de juny.
URL:https://staging.catalunyaturisme.cat/esdeveniment/street-food-summer-llanca/
LOCATION:Port de Llançà
CATEGORIES:Gastronomia
ATTACH;FMTTYPE=image/jpeg:https://staging.catalunyaturisme.cat/wp-content/uploads/street-food-summer-llanca.jpg
END:VEVENT
BEGIN:VEVENT
DTSTART;VALUE=DATE:20260421
DTEND;VALUE=DATE:20240616
DTSTAMP:20260421T003151
CREATED:20240610T090844Z
LAST-MODIFIED:20240612T081418Z
UID:10000448-0-1718470800@staging.catalunyaturisme.cat
SUMMARY:Coneix les Aus del Delta amb Mónnatura Delta de l'Ebre
DESCRIPTION:El Delta de l’Ebre\, la zona humida més gran de Catalunya i una de les més importants d’Europa occidental\, és un espai natural de gran riquesa\, especialment conegut per les seves aus aquàtiques\, reconegudes internacionalment. \nUna de les activitats destacades és una passejada pels voltants de MónNatura Delta per aprendre a identificar i conèixer les aus més comunes del Delta de l’Ebre. Durant aquesta excursió\, podràs observar espècies com el bernat pescaire\, el martinet blanc\, la gamba roja\, el flamenc i diverses espècies d’ànecs. \nAquesta activitat està dirigida a tot tipus de públic\, amb una edat recomanada per a totes les edats. Es realitza en català\, té una durada de 1:30 hores\, i un cost de 8 € per als adults i 4 € per als nens de 5 a 12 anys (l’entrada a MónNatura Delta no està inclosa). Els participants reben prismàtics per facilitar l’observació de les aus. \nÉs imprescindible fer una reserva prèvia per participar. Per a grups\, és possible reservar aquesta activitat en horaris convinguts contactant a info@monnaturadelta.com.
URL:https://staging.catalunyaturisme.cat/esdeveniment/coneix-les-aus-del-delta-amb-monnatura-delta-de-lebre/1970-01-01/
CATEGORIES:Cultura
ATTACH;FMTTYPE=image/jpeg:https://staging.catalunyaturisme.cat/wp-content/uploads/coneix-les-aus-del-delta-amb-monnatura-delta-de-l-ebre.jpg
END:VEVENT
BEGIN:VEVENT
DTSTART;VALUE=DATE:20231104
DTEND;VALUE=DATE:20231231
DTSTAMP:20260421T003151
CREATED:20231229T095000Z
LAST-MODIFIED:20240113T175340Z
UID:10000055-1699056000-1703980799@staging.catalunyaturisme.cat
SUMMARY:Terra d'oli. Verdor que omples el cor
DESCRIPTION:Una nova edició del Festival ‘Terra d’oli’\, dedicat al patrimoni natural\, arquitectònic\, cultural i gastronòmic d’aquest or líquid: l’oli d’oliva verge extra\, a les terres del Segrià. En aquesta època se celebra l’arribada del l’oli nou. \nÉs una bona manera de conèixer els pobles del Segrià\, així com productors locals d’oli d’oliva verge extra\, experimentar tastos\, maridatges i gaudir de molt bona gastronomia i cases de turisme rural de somni.
URL:https://staging.catalunyaturisme.cat/esdeveniment/terra-doli-verdor-que-omples-el-cor/
LOCATION:Seròs\, Alpicat\, Lleida\, Alfés\, Aspa\, Alcanó\, Sarroca de Lleida\, Torrebesses\, Llardecans\, Maials i Almatret
CATEGORIES:Fires
ATTACH;FMTTYPE=image/png:https://staging.catalunyaturisme.cat/wp-content/uploads/terra_oli_-_general_1.png
END:VEVENT
BEGIN:VEVENT
DTSTART;VALUE=DATE:20231104
DTEND;VALUE=DATE:20231218
DTSTAMP:20260421T003151
CREATED:20231121T070727Z
LAST-MODIFIED:20231126T162213Z
UID:10000001-1699056000-1702857599@staging.catalunyaturisme.cat
SUMMARY:29a mostra gastronòmica de les Garrigues
DESCRIPTION:La XXIX Mostra Gastronòmica de les Garrigues se celebra del 4 de novembre al 17 de desembre\, amb la participació de cinc restaurants locals. L’esdeveniment destaca la cuina de la regió\, amb èmfasi en l’ús de l’oli d’oliva verge extra característic. Els plats\, cuinats amb il·lusió i professionalitat\, busquen capturar les aromes úniques de les Garrigues.
URL:https://staging.catalunyaturisme.cat/esdeveniment/29a-mostra-gastronomica-de-les-garrigues/
ATTACH;FMTTYPE=image/jpeg:https://staging.catalunyaturisme.cat/wp-content/uploads/garrigues.jpg
END:VEVENT
BEGIN:VEVENT
DTSTART;VALUE=DATE:20231118
DTEND;VALUE=DATE:20231119
DTSTAMP:20260421T003151
CREATED:20231229T112143Z
LAST-MODIFIED:20240113T175117Z
UID:10000107-1700335800-1700341200@staging.catalunyaturisme.cat
SUMMARY:Refugi Sonor
DESCRIPTION:El cicle Refugi Sonor\, a Tarragona\, ofereix un total de cinc concerts\, un dissabte de cada mes en horari de tarda. \nEl dissabte 21 d’octubre\, el grup barceloní Ciutat presenten el seu disc en debut\, Brandon. \nEl dissabte 18 novembre\, Marina Hein\, una artista revelació del moment presentarà un disc delicat\, on barreja folk\, pop i altres estils. \nEl dissabte 9 de desembre és el torn de Reïna\, la nova Monarquia del Pop nacional d’un grup manacorí afincat a Barcelona. \nEl 27 de gener\, el cantant mallorquí Miquel Serra\, amb 9 discs a l’esquena\, presentarà el seu desè i treball\, Las Hayas Arce és l’acostumat “disc petit”\, resultat de les sessions d’Una casa és pànic. \nFinalment\, el 10 de febrer\, el cicle Refugi Sonor tancarà\, amb la jove talent\, nascuda a Barcelona\, Sara Terraza. Terraza debutà com a cantant solista amb 17 anys al programa televisiu “Oh Happy Day”\, i inicia llavors la seva trajectòria professional. Després d’uns anys trepitjant escenaris del territori català\, crea el projecte “Sara Terraza & The Black Sheep”.
URL:https://staging.catalunyaturisme.cat/esdeveniment/refugi-sonor/2023-11-18/
LOCATION:Capsa de Música – Espai Tabacalera
CATEGORIES:Música
ATTACH;FMTTYPE=image/jpeg:https://staging.catalunyaturisme.cat/wp-content/uploads/A3_refugi-sonor_23_24_02_oct_2023-e1696412311434.jpg
END:VEVENT
BEGIN:VEVENT
DTSTART;VALUE=DATE:20231123
DTEND;VALUE=DATE:20231124
DTSTAMP:20260421T003151
CREATED:20231230T153147Z
LAST-MODIFIED:20240113T171106Z
UID:10000090-1700726400-1700758800@staging.catalunyaturisme.cat
SUMMARY:Cicle 'La ciència del vi' a Reus
DESCRIPTION:Cicle de conferències ‘La ciència del vi’ ofereix un recorregut per conèixer el vi des de diferents àmbits de la recerca\, des del conreu més ancestral de la vinya fins al procés tecnològic més innovador al celler. En cada glop de vi s’amaga no només molta recerca històrica\, també altres disciplines científiques que el converteixen en un producte viu\, únic i en evolució constant. \nCada xerrada ser al Castell del Cambrer de Reus i anirà acompanyada de dos tastos de vins DO Montsant. \nDe la mà d’investigadores\, investigadors i docents de la Universitat Rovira i Virgili\, aquest cicle pretén descobrir tot el que envolta el món del vi a través d’una passejada amb la ciència com a companya de viatge. Aquest és el programa: \n19 d’octubre: “El vi\, un plaer per als sentits”\, a càrrec de Toni Sánchez\, investigador del Departament de Bioquímica i Biotecnologia de la URV. \n23 de novembre: “La comunicació\, inevitable per sentir el vi”\, a càrrec de Ruth Troyano\, periodista i autora de la col·lecció de llibres Retrats de Vi (URV). \n14 de desembre: “El màrqueting del vi”\, a càrrec de Jaume Gené\, investigador del Departament de Gestió d’Empreses de la URV. \n18 de gener: “De la vinya al celler”\, a càrrec de Míriam Lampreave\, investigadora del Departament de Bioquímica i Biotecnologia de la URV. \n22 de febrer: “Els orígens de la producció i el consum a la península Ibèrica”\, a càrrec de Jordi Diloli\, investigador del Departament d’Història i Història de l’Art de la URV. \n21 de març: “El vi i la salut: mites i realitats”\, a càrrec d’Anna Borrull\, investigadora del Departament de Bioquímica i Biotecnologia de la URV. \n18 d’abril: “Les catedrals del vi”\, a càrrec de Ramon Arnabat\, investigador del Departament d’Història i Història de l’Art de la URV\, i Cèlia Mallafré\, professora de l’Escola Tècnica Superior d’Arquitectura de la URV. \n16 de maig: “Vins i maridatges”\, a càrrec de Sumpta Mateos\, investigadora del Departament de Bioquímica i Biotecnologia de la URV.”Vins i maridatges”\, “Vins i maridatges”. \n13 de juny: “Què hem heredat de grecs i romans?”\, a càrrec de Joaquín Ruiz de Arbulo\, investigador del Departament d’Història i Història de l’Art de la URV.
URL:https://staging.catalunyaturisme.cat/esdeveniment/cicle-la-ciencia-del-vi-a-reus/2023-11-23/
LOCATION:URV Reus
CATEGORIES:Gastronomia
ATTACH;FMTTYPE=image/jpeg:https://staging.catalunyaturisme.cat/wp-content/uploads/la-ciencia-del-vi.jpg
END:VEVENT
BEGIN:VEVENT
DTSTART;VALUE=DATE:20231124
DTEND;VALUE=DATE:20231204
DTSTAMP:20260421T003151
CREATED:20231202T152915Z
LAST-MODIFIED:20231202T152915Z
UID:10000035-1700784000-1701647999@staging.catalunyaturisme.cat
SUMMARY:Setmana de la Pedra Seca
DESCRIPTION:Del 24 de novembre al 3 de desembre\, arriba la 4a edició de la Setmana de la Pedra Seca. \nEn marc d’aquest esdeveniment s’organitzen més d’un centenar d’activitats gratuïtes amb inscripció prèvia de descoberta\, divulgació i aprenentatge al voltant d’aquesta tècnica i patrimoni. \nLa celebració coincidirà amb el cinquè aniversari de la declaració de la tècnica de la pedra seca com a Patrimoni Immaterial de la Humanitat per part de la UNESCO.
URL:https://staging.catalunyaturisme.cat/esdeveniment/setmana-de-la-pedra-seca/
LOCATION:Torrebesses
ATTACH;FMTTYPE=image/png:https://staging.catalunyaturisme.cat/wp-content/uploads/logo-SPS-2023.png
END:VEVENT
BEGIN:VEVENT
DTSTART;VALUE=DATE:20231124
DTEND;VALUE=DATE:20231225
DTSTAMP:20260421T003151
CREATED:20231124T235501Z
LAST-MODIFIED:20231126T072251Z
UID:10000004-1700784000-1703462399@staging.catalunyaturisme.cat
SUMMARY:Fira de Santa Llúcia de Barcelona
DESCRIPTION:La Fira de Santa Llúcia és un mercat nadalenc molt popular que se celebra a l’avinguda de la Catedral de Barcelona des de 1786. És la fira de Nadal més antiga del món i gira al voltant del món del pessebre i de les tradicions nadalenques. Té centenars de parades amb figuretes de tota mena\, arbres de Nadal\, complements per la casa\, articles de regal\, bijuteria\, etc. Cada cop hi ha més parades que innoven amb figures diverses de caganers del pessebre i tions.  \nEs pot visitar del 24 novembre a la nit de Nadal\, al 24 desembre.
URL:https://staging.catalunyaturisme.cat/esdeveniment/fira-de-santa-llucia/
ATTACH;FMTTYPE=image/jpeg:https://staging.catalunyaturisme.cat/wp-content/uploads/cartell_fira_2014.jpg
END:VEVENT
BEGIN:VEVENT
DTSTART;VALUE=DATE:20231125
DTEND;VALUE=DATE:20240106
DTSTAMP:20260421T003151
CREATED:20231204T212458Z
LAST-MODIFIED:20231204T232043Z
UID:10000051-1700870400-1704499199@staging.catalunyaturisme.cat
SUMMARY:Mercat de Nadal de Girona
DESCRIPTION:El Mercat de Nadal de Girona dona un any més el tret de sortida a les festes nadalenques. Enguany durant més d’un mes: del vespre del 24 de novembre al 5 de gener\, a la icònica Plaça de la Independència de la capital gironina. Estarà obert de 10:30 h a 21 h\, cada dia excepte els festius nadalencs 25 i 26 de desembre i 1 de gener. \nLa fira compta amb una vintena de paradetes de fusta amb tota mena de productes artesanals\, on es prioritzen que siguin locals. Es poden trobar des d’articles de Nadal com avets\, tions\, garlandes i llums de nadal\, a joguines treballades amb fusta i regals com tèxtils\, peces de joieria\, ceràmiques artesanes i ornaments de vidre o fusta. També hi ha productes d’alimentació com embotits i formatges artesans\, i dolços per Nadal: torrons\, neules… \nAquest mercat és el més popular i el més llarg dels que s’organitzen a la ciutat de Girona\, però no és l’únic. Podeu consultar totes les activitats d’aquestes festes al programa de l’Ajuntament.
URL:https://staging.catalunyaturisme.cat/esdeveniment/mercat-de-nadal-de-girona/
LOCATION:Girona\, Plaça de la Independència
CATEGORIES:Fires,Nadal
ATTACH;FMTTYPE=image/png:https://staging.catalunyaturisme.cat/wp-content/uploads/Captura-de-pantalla-2023-12-04-222418.png
END:VEVENT
BEGIN:VEVENT
DTSTART;VALUE=DATE:20231129
DTEND;VALUE=DATE:20231206
DTSTAMP:20260421T003151
CREATED:20231126T132035Z
LAST-MODIFIED:20231126T133048Z
UID:10000007-1701216000-1701820799@staging.catalunyaturisme.cat
SUMMARY:Dart Festival
DESCRIPTION:El Dart Festival és el primer festival de Cinema Documental sobre Art\, dedicat especialment a l’art contemporani a Espanya i Amèrica Llatina. Ofereix una tria de documentals sobre fotografia\, comissariat d’art\, pintura\, performance\, arquitectura\, moviments artístics\, prestant especial atenció als artistes\, els seus processos de creació i les històries que hi ha darrere dels seus treballs amb l’objectiu de donar-los a conèixer al gran públic. Paral·lelament\, la programació inclou xerrades\, visites a galeries d’art\, exposicions\, col·loquis i debats. \nLa setena edició se celebra a Barcelona de manera presencial del 29 novembre al 5 de desembre i fins al 31 a Filmin. Les projeccions es duen a terme als Cinemes Girona\, a la Sala Phenomena\, al Disseny Hub Barcelona i a The Social Hub Poblenou.
URL:https://staging.catalunyaturisme.cat/esdeveniment/dart-festival/
CATEGORIES:Art,Cinema
ATTACH;FMTTYPE=image/jpeg:https://staging.catalunyaturisme.cat/wp-content/uploads/captura-de-pantalla-2023-10-02-a-las-12-40-00-1.jpg
END:VEVENT
END:VCALENDAR