BEGIN:VCALENDAR
VERSION:2.0
PRODID:-//Catalunya Turisme - ECPv6.5.1.5//NONSGML v1.0//EN
CALSCALE:GREGORIAN
METHOD:PUBLISH
X-ORIGINAL-URL:https://staging.catalunyaturisme.cat
X-WR-CALDESC:Events for Catalunya Turisme
REFRESH-INTERVAL;VALUE=DURATION:PT1H
X-Robots-Tag:noindex
X-PUBLISHED-TTL:PT1H
BEGIN:VTIMEZONE
TZID:Europe/Madrid
BEGIN:DAYLIGHT
TZOFFSETFROM:+0100
TZOFFSETTO:+0200
TZNAME:CEST
DTSTART:20240331T010000
END:DAYLIGHT
BEGIN:STANDARD
TZOFFSETFROM:+0200
TZOFFSETTO:+0100
TZNAME:CET
DTSTART:20241027T010000
END:STANDARD
END:VTIMEZONE
BEGIN:VEVENT
DTSTART;VALUE=DATE:20241122
DTEND;VALUE=DATE:20241123
DTSTAMP:20260420T123324
CREATED:20241111T180756Z
LAST-MODIFIED:20241111T180756Z
UID:10003783-1732233600-1732319999@staging.catalunyaturisme.cat
SUMMARY:Encesa de llums de Nadal a Canyelles
DESCRIPTION:Canyelles dona la benvinguda al Nadal amb l’encesa de llums en una jornada plena d’alegria\, llum i tradició. El poble s’il·luminarà el dia 25 de novembre a partir de les 18 h a la plaça de l’Onze de Setembre\, on grans i petits podran gaudir d’un ambient festiu que donarà inici a les celebracions nadalenques. \nAquest esdeveniment\, esperat per veïns i visitants\, inclou el tradicional compte enrere que encendrà l’emblemàtic Arbre dels Desitjos i tota la decoració nadalenca de Canyelles\, omplint els carrers de màgia i color. La festa inclourà actuacions musicals\, activitats diverses i moments especials per viure l’emoció del Nadal en comunitat. \nA més de l’encesa de llums\, es farà la inauguració de dos pessebres al Casal de Canyelles: el Pessebre Solidari i el Pessebre del Grup de Savis\, una representació tradicional creada pels avis del poble\, que cada any aporten la seva creativitat i habilitat per mantenir viu aquest costum.
URL:https://staging.catalunyaturisme.cat/esdeveniment/encesa-de-llums-de-nadal-a-canyelles/
LOCATION:Canyelles\, Canyelles\, Barcelona\, 08811\, Espanya
CATEGORIES:Nadal
ATTACH;FMTTYPE=image/jpeg:https://staging.catalunyaturisme.cat/wp-content/uploads/encesa-de-llums-de-nadal-a-canyelles.jpg
END:VEVENT
BEGIN:VEVENT
DTSTART;VALUE=DATE:20241127
DTEND;VALUE=DATE:20241201
DTSTAMP:20260420T123324
CREATED:20241111T175151Z
LAST-MODIFIED:20241111T175201Z
UID:10003777-1732665600-1733011199@staging.catalunyaturisme.cat
SUMMARY:Christmas Market Solidari de la Fundació Villavecchia
DESCRIPTION:El Christmas Market Solidari de la Fundació Enriqueta Villavecchia és molt més que un mercat nadalenc: és un espai de solidaritat que uneix pacients\, famílies\, voluntaris i amics per donar suport als infants i joves amb malalties greus. Des de la seva fundació el 1989\, la Fundació Villavecchia ha treballat per oferir acompanyament a aquests infants i a les seves famílies\, a més de promoure la investigació i formació en col·laboració amb hospitals pediàtrics de referència. \nAquest esdeveniment\, que se celebra anualment des del 2011\, s’ha consolidat com una cita imprescindible del Nadal solidari. El mercat ofereix una selecció única de productes de regal i decoració amb inspiració nadalenca\, molts dels quals són elaborats a mà per infants atesos per la Fundació\, les seves famílies\, escoles\, entitats\, empreses i un gran equip de voluntariat. Amb cada compra\, els visitants contribueixen directament als programes d’atenció de la Fundació\, ja que tots els beneficis es destinen a les activitats de suport per a nens i joves amb càncer o altres malalties greus. \nEl Christmas Market està organitzat en diversos espais temàtics\, cadascun amb una proposta diferent: \n\nChristmas Corner: Aquí trobareu detalls de decoració nadalenca\, amb productes elaborats artesanalment per voluntaris i col·laboradors.\nNatural Corner: Opcions de decoració natural per embellir la llar durant les festes\, amb ornaments inspirats en la natura.\nRegals Solidaris: Packs i productes de qualitat cedits per empreses reconegudes\, incloent-hi la Xocolata per cuidar la Vida i la Xocolata més dolça del Nadal.\nEl Món dels Estels: Un espai emotiu amb articles fets per les famílies dels infants que acompanyem\, amb l’estrella com a símbol dels nens que ens han deixat.\nEl Bosc Màgic: Un espai on els arbres de Nadal estan decorats amb estrelles creades per alumnes de diverses escoles i que es poden adquirir a un preu simbòlic.\n\nPodreu gaudir d’un ambient càlid i festiu\, mentre participeu d’un projecte que fa de la solidaritat la millor màgia del Nadal.
URL:https://staging.catalunyaturisme.cat/esdeveniment/christmas-market-solidari-de-la-fundacio-villavecchia/
LOCATION:Barcelona
CATEGORIES:Nadal
ATTACH;FMTTYPE=image/jpeg:https://staging.catalunyaturisme.cat/wp-content/uploads/christmas-market-solidari-de-la-fundacio-villavecchia.jpg
END:VEVENT
END:VCALENDAR