BEGIN:VCALENDAR
VERSION:2.0
PRODID:-//Catalunya Turisme - ECPv6.5.1.5//NONSGML v1.0//EN
CALSCALE:GREGORIAN
METHOD:PUBLISH
X-WR-CALNAME:Catalunya Turisme
X-ORIGINAL-URL:https://staging.catalunyaturisme.cat
X-WR-CALDESC:Events for Catalunya Turisme
REFRESH-INTERVAL;VALUE=DURATION:PT1H
X-Robots-Tag:noindex
X-PUBLISHED-TTL:PT1H
BEGIN:VTIMEZONE
TZID:Europe/Madrid
BEGIN:DAYLIGHT
TZOFFSETFROM:+0100
TZOFFSETTO:+0200
TZNAME:CEST
DTSTART:20230326T010000
END:DAYLIGHT
BEGIN:STANDARD
TZOFFSETFROM:+0200
TZOFFSETTO:+0100
TZNAME:CET
DTSTART:20231029T010000
END:STANDARD
BEGIN:DAYLIGHT
TZOFFSETFROM:+0100
TZOFFSETTO:+0200
TZNAME:CEST
DTSTART:20240331T010000
END:DAYLIGHT
BEGIN:STANDARD
TZOFFSETFROM:+0200
TZOFFSETTO:+0100
TZNAME:CET
DTSTART:20241027T010000
END:STANDARD
END:VTIMEZONE
BEGIN:VEVENT
DTSTART;VALUE=DATE:20231125
DTEND;VALUE=DATE:20240106
DTSTAMP:20260421T224923
CREATED:20231204T212458Z
LAST-MODIFIED:20231204T232043Z
UID:10000051-1700870400-1704499199@staging.catalunyaturisme.cat
SUMMARY:Mercat de Nadal de Girona
DESCRIPTION:El Mercat de Nadal de Girona dona un any més el tret de sortida a les festes nadalenques. Enguany durant més d’un mes: del vespre del 24 de novembre al 5 de gener\, a la icònica Plaça de la Independència de la capital gironina. Estarà obert de 10:30 h a 21 h\, cada dia excepte els festius nadalencs 25 i 26 de desembre i 1 de gener. \nLa fira compta amb una vintena de paradetes de fusta amb tota mena de productes artesanals\, on es prioritzen que siguin locals. Es poden trobar des d’articles de Nadal com avets\, tions\, garlandes i llums de nadal\, a joguines treballades amb fusta i regals com tèxtils\, peces de joieria\, ceràmiques artesanes i ornaments de vidre o fusta. També hi ha productes d’alimentació com embotits i formatges artesans\, i dolços per Nadal: torrons\, neules… \nAquest mercat és el més popular i el més llarg dels que s’organitzen a la ciutat de Girona\, però no és l’únic. Podeu consultar totes les activitats d’aquestes festes al programa de l’Ajuntament.
URL:https://staging.catalunyaturisme.cat/esdeveniment/mercat-de-nadal-de-girona/
LOCATION:Girona\, Plaça de la Independència
CATEGORIES:Fires,Nadal
ATTACH;FMTTYPE=image/png:https://staging.catalunyaturisme.cat/wp-content/uploads/Captura-de-pantalla-2023-12-04-222418.png
END:VEVENT
BEGIN:VEVENT
DTSTART;VALUE=DATE:20231218
DTEND;VALUE=DATE:20240109
DTSTAMP:20260421T224923
CREATED:20231202T174212Z
LAST-MODIFIED:20231202T174904Z
UID:10000049-1702857600-1704758399@staging.catalunyaturisme.cat
SUMMARY:Pessebre vivent de Bàscara
DESCRIPTION:El Pessebre Vivent de Bàscara és un dels més coneguts de la demarcació de Girona i un dels més antics de Catalunya. Aquesta petita població medieval de l’Alt Empordà\, d’uns 1.000 habitants\, reviu les escenes bíbliques del naixement de Jesús en una representació pel cas històric i els espais naturals de la localitat\, a la riba del Fluvià. \nSe celebra des del 1973 i des d’aquell Nadal és una tradició que continuen generació rere generació on bona part de la població està implicada: són més de 300 actors. \nEn la primera part\, a la plaça de l’Església\, el visitant resta aturat contemplant les escenes plàstiques i reb una introducció. Un preàmbul espectacular que ha anat canviant al llarg dels anys amb llums i so. La segona part és un recorregut on es passeja entre les representacions vivents de les escenes.
URL:https://staging.catalunyaturisme.cat/esdeveniment/pessebre-vivent-de-bascara/
LOCATION:Barcelona
CATEGORIES:Nadal
ATTACH;FMTTYPE=image/jpeg:https://staging.catalunyaturisme.cat/wp-content/uploads/cartell23.jpg
END:VEVENT
BEGIN:VEVENT
DTSTART;VALUE=DATE:20240105
DTEND;VALUE=DATE:20240106
DTSTAMP:20260421T224924
CREATED:20231229T113420Z
LAST-MODIFIED:20231229T113420Z
UID:10000069-1704412800-1704499199@staging.catalunyaturisme.cat
SUMMARY:Cavalcada de Reis 2024
DESCRIPTION:Com cada any\, els Reis d’Orient i el seu seguici recorreran els carrers de diverses poblacions de Catalunya la nit del 5 de gener\, amb les seves magnífiques carrosses\, en una proposta plena de música\, festa\, espectacles i moltíssims regals per repartir.
URL:https://staging.catalunyaturisme.cat/esdeveniment/cavalcada-de-reis-2024/
LOCATION:Barcelona
CATEGORIES:Nadal
ATTACH;FMTTYPE=image/jpeg:https://staging.catalunyaturisme.cat/wp-content/uploads/cq5dam.web_.1280.1280-2.jpeg
END:VEVENT
BEGIN:VEVENT
DTSTART;TZID=Europe/Madrid:20240113T180000
DTEND;TZID=Europe/Madrid:20240113T190000
DTSTAMP:20260421T224924
CREATED:20240113T182513Z
LAST-MODIFIED:20240113T182513Z
UID:10000135-1705168800-1705172400@staging.catalunyaturisme.cat
SUMMARY:XXXII Jornades Culturals de Benifallet
DESCRIPTION:Benifallet\, un poble de la comarca del Baix Ebre\, torna a celebrar les seves Jornades Culturals. Un any més aquest esdeveniment omple els carrers i racons del municipi de diversitat\, entreteniment i cultura. \nDurant tres mesos\, el municipi ofereix una programació variada i amb un gran esperit nadalenc. L’objectiu d’aquestes jornades és connectar i celebrar tots junts la cultura. \nEl programa inclou xarrades\, exposicions\, conta-contes i molt més. \n13 gener: Inauguració de l’exposició “Tota pedra fa paret. La pedra seca a Catalunya” per Esther Bargalló. També\, Xerrada “Un recorregut per la vida dels nostres avantpassats” a càrrec de Javier Mauri i Sisco Besalduch. \n20 gener: Tast d’olis a càrrec de Marisa Díaz Rosell i Festa de la Clotxa amb música
URL:https://staging.catalunyaturisme.cat/esdeveniment/xxxii-jornades-culturals-de-benifallet/2024-01-13/
LOCATION:Benifallet\, Benifallet\, Catalunya\, Espanya
CATEGORIES:Cultura,Nadal
ATTACH;FMTTYPE=image/jpeg:https://staging.catalunyaturisme.cat/wp-content/uploads/jornades-culturals-de-benifallet_page-0001.jpg
END:VEVENT
BEGIN:VEVENT
DTSTART;TZID=Europe/Madrid:20240114T170000
DTEND;TZID=Europe/Madrid:20240114T210000
DTSTAMP:20260421T224924
CREATED:20240113T184019Z
LAST-MODIFIED:20240113T184019Z
UID:10000138-1705251600-1705266000@staging.catalunyaturisme.cat
SUMMARY:35è Pessebre Monumental a  Cardedeu
DESCRIPTION:El Pessebre Monumental de Cardedeu\, una tradició nadalenca que se celebra des de fa més de 30 anys\, torna un any més al Barri del Poble Sec. \nEnguany\, el pessebre manté la seva estructura tradicional\, amb figures fetes de molsa i suro. Els personatges habituals del naixement\, com ara la Mare de Déu\, el Nen Jesús\, sant Josep\, els Reis Mags i els pastors\, prenen vida en aquest escenari natural. \nEl pessebre es complementa amb una postal amb un poema de Víctor Busquet i Pujós\, un pintor nascut a Cardedeu.
URL:https://staging.catalunyaturisme.cat/esdeveniment/pessebre-monumental-de-cardedeu/2024-01-14/
LOCATION:Barcelona
CATEGORIES:Nadal
ATTACH;FMTTYPE=image/png:https://staging.catalunyaturisme.cat/wp-content/uploads/pessebre_PobleSec_23.png
END:VEVENT
BEGIN:VEVENT
DTSTART;TZID=Europe/Madrid:20240120T120000
DTEND;TZID=Europe/Madrid:20240120T170000
DTSTAMP:20260421T224924
CREATED:20240113T182513Z
LAST-MODIFIED:20240113T182513Z
UID:10000136-1705752000-1705770000@staging.catalunyaturisme.cat
SUMMARY:XXXII Jornades Culturals de Benifallet
DESCRIPTION:Benifallet\, un poble de la comarca del Baix Ebre\, torna a celebrar les seves Jornades Culturals. Un any més aquest esdeveniment omple els carrers i racons del municipi de diversitat\, entreteniment i cultura. \nDurant tres mesos\, el municipi ofereix una programació variada i amb un gran esperit nadalenc. L’objectiu d’aquestes jornades és connectar i celebrar tots junts la cultura. \nEl programa inclou xarrades\, exposicions\, conta-contes i molt més. \n13 gener: Inauguració de l’exposició “Tota pedra fa paret. La pedra seca a Catalunya” per Esther Bargalló. També\, Xerrada “Un recorregut per la vida dels nostres avantpassats” a càrrec de Javier Mauri i Sisco Besalduch. \n20 gener: Tast d’olis a càrrec de Marisa Díaz Rosell i Festa de la Clotxa amb música
URL:https://staging.catalunyaturisme.cat/esdeveniment/xxxii-jornades-culturals-de-benifallet/2024-01-20/1/
LOCATION:Benifallet\, Benifallet\, Catalunya\, Espanya
CATEGORIES:Cultura,Nadal
ATTACH;FMTTYPE=image/jpeg:https://staging.catalunyaturisme.cat/wp-content/uploads/jornades-culturals-de-benifallet_page-0001.jpg
END:VEVENT
BEGIN:VEVENT
DTSTART;TZID=Europe/Madrid:20240120T213000
DTEND;TZID=Europe/Madrid:20240120T233000
DTSTAMP:20260421T224924
CREATED:20240113T182513Z
LAST-MODIFIED:20240113T182513Z
UID:10000137-1705786200-1705793400@staging.catalunyaturisme.cat
SUMMARY:XXXII Jornades Culturals de Benifallet
DESCRIPTION:Benifallet\, un poble de la comarca del Baix Ebre\, torna a celebrar les seves Jornades Culturals. Un any més aquest esdeveniment omple els carrers i racons del municipi de diversitat\, entreteniment i cultura. \nDurant tres mesos\, el municipi ofereix una programació variada i amb un gran esperit nadalenc. L’objectiu d’aquestes jornades és connectar i celebrar tots junts la cultura. \nEl programa inclou xarrades\, exposicions\, conta-contes i molt més. \n13 gener: Inauguració de l’exposició “Tota pedra fa paret. La pedra seca a Catalunya” per Esther Bargalló. També\, Xerrada “Un recorregut per la vida dels nostres avantpassats” a càrrec de Javier Mauri i Sisco Besalduch. \n20 gener: Tast d’olis a càrrec de Marisa Díaz Rosell i Festa de la Clotxa amb música
URL:https://staging.catalunyaturisme.cat/esdeveniment/xxxii-jornades-culturals-de-benifallet/2024-01-20/2/
LOCATION:Benifallet\, Benifallet\, Catalunya\, Espanya
CATEGORIES:Cultura,Nadal
ATTACH;FMTTYPE=image/jpeg:https://staging.catalunyaturisme.cat/wp-content/uploads/jornades-culturals-de-benifallet_page-0001.jpg
END:VEVENT
BEGIN:VEVENT
DTSTART;TZID=Europe/Madrid:20240121T170000
DTEND;TZID=Europe/Madrid:20240121T210000
DTSTAMP:20260421T224924
CREATED:20240113T184019Z
LAST-MODIFIED:20240113T184019Z
UID:10000139-1705856400-1705870800@staging.catalunyaturisme.cat
SUMMARY:35è Pessebre Monumental a  Cardedeu
DESCRIPTION:El Pessebre Monumental de Cardedeu\, una tradició nadalenca que se celebra des de fa més de 30 anys\, torna un any més al Barri del Poble Sec. \nEnguany\, el pessebre manté la seva estructura tradicional\, amb figures fetes de molsa i suro. Els personatges habituals del naixement\, com ara la Mare de Déu\, el Nen Jesús\, sant Josep\, els Reis Mags i els pastors\, prenen vida en aquest escenari natural. \nEl pessebre es complementa amb una postal amb un poema de Víctor Busquet i Pujós\, un pintor nascut a Cardedeu.
URL:https://staging.catalunyaturisme.cat/esdeveniment/pessebre-monumental-de-cardedeu/2024-01-21/
LOCATION:Barcelona
CATEGORIES:Nadal
ATTACH;FMTTYPE=image/png:https://staging.catalunyaturisme.cat/wp-content/uploads/pessebre_PobleSec_23.png
END:VEVENT
BEGIN:VEVENT
DTSTART;TZID=Europe/Madrid:20240128T170000
DTEND;TZID=Europe/Madrid:20240128T210000
DTSTAMP:20260421T224924
CREATED:20240113T184019Z
LAST-MODIFIED:20240113T184019Z
UID:10000140-1706461200-1706475600@staging.catalunyaturisme.cat
SUMMARY:35è Pessebre Monumental a  Cardedeu
DESCRIPTION:El Pessebre Monumental de Cardedeu\, una tradició nadalenca que se celebra des de fa més de 30 anys\, torna un any més al Barri del Poble Sec. \nEnguany\, el pessebre manté la seva estructura tradicional\, amb figures fetes de molsa i suro. Els personatges habituals del naixement\, com ara la Mare de Déu\, el Nen Jesús\, sant Josep\, els Reis Mags i els pastors\, prenen vida en aquest escenari natural. \nEl pessebre es complementa amb una postal amb un poema de Víctor Busquet i Pujós\, un pintor nascut a Cardedeu.
URL:https://staging.catalunyaturisme.cat/esdeveniment/pessebre-monumental-de-cardedeu/2024-01-28/
LOCATION:Barcelona
CATEGORIES:Nadal
ATTACH;FMTTYPE=image/png:https://staging.catalunyaturisme.cat/wp-content/uploads/pessebre_PobleSec_23.png
END:VEVENT
END:VCALENDAR