BEGIN:VCALENDAR
VERSION:2.0
PRODID:-//Catalunya Turisme - ECPv6.5.1.5//NONSGML v1.0//EN
CALSCALE:GREGORIAN
METHOD:PUBLISH
X-WR-CALNAME:Catalunya Turisme
X-ORIGINAL-URL:https://staging.catalunyaturisme.cat
X-WR-CALDESC:Events for Catalunya Turisme
REFRESH-INTERVAL;VALUE=DURATION:PT1H
X-Robots-Tag:noindex
X-PUBLISHED-TTL:PT1H
BEGIN:VTIMEZONE
TZID:Europe/Madrid
BEGIN:DAYLIGHT
TZOFFSETFROM:+0100
TZOFFSETTO:+0200
TZNAME:CEST
DTSTART:20240331T010000
END:DAYLIGHT
BEGIN:STANDARD
TZOFFSETFROM:+0200
TZOFFSETTO:+0100
TZNAME:CET
DTSTART:20241027T010000
END:STANDARD
END:VTIMEZONE
BEGIN:VEVENT
DTSTART;VALUE=DATE:20241010
DTEND;VALUE=DATE:20241011
DTSTAMP:20260420T125213
CREATED:20241009T162836Z
LAST-MODIFIED:20241009T162836Z
UID:10003685-1728547200-1728579600@staging.catalunyaturisme.cat
SUMMARY:Festival de Jazz Costa Brava a Palafrugell
DESCRIPTION:El Festival de Jazz Costa Brava a Palafrugell és una cita imprescindible per als amants del jazz\, que té lloc cada any durant el pont del 12 d’octubre. Aquest esdeveniment acull diverses actuacions musicals que es distribueixen entre el Teatre Municipal de Palafrugell i altres espais del centre de la vila\, creant un ambient vibrant i acollidor per gaudir de la millor música jazz. \nAquest festival va iniciar-se l’any 1990\, quan el Patronat Municipal de Turisme de Palafrugell va organitzar una sèrie de concerts de jazz als emblemàtics Jardins de Cap Roig\, a Calella de Palafrugell. Originalment\, les actuacions tenien lloc durant els mesos d’estiu\, als mesos de juliol i agost\, amb l’objectiu de portar la música jazz a un entorn natural i majestuós. L’any 2000\, la gestió del festival va passar a la Fundació Caixa de Girona\, i el 2001 es va integrar dins dels Festivals d’estiu de Caixa de Girona. A partir de llavors\, el festival va evolucionar fins a convertir-se en el Festival Jardins de Cap Roig\, adoptant el seu nom actual. \nTot i aquests canvis\, el Festival de Jazz Costa Brava ha mantingut viva la seva essència i s’ha consolidat com un esdeveniment destacat en el calendari cultural de la tardor a la Costa Brava.
URL:https://staging.catalunyaturisme.cat/esdeveniment/festival-de-jazz-costa-brava-a-palafrugell/2024-10-10/
LOCATION:Palafurgell\, Palafurgell
CATEGORIES:Música
ATTACH;FMTTYPE=image/jpeg:https://staging.catalunyaturisme.cat/wp-content/uploads/festival-de-jazz-costa-brava-a-palafrugell.jpg
END:VEVENT
BEGIN:VEVENT
DTSTART;VALUE=DATE:20241011
DTEND;VALUE=DATE:20241015
DTSTAMP:20260420T125213
CREATED:20241009T162836Z
LAST-MODIFIED:20241009T162836Z
UID:10003686-1728604800-1728950399@staging.catalunyaturisme.cat
SUMMARY:Festival de Jazz Costa Brava a Palafrugell
DESCRIPTION:El Festival de Jazz Costa Brava a Palafrugell és una cita imprescindible per als amants del jazz\, que té lloc cada any durant el pont del 12 d’octubre. Aquest esdeveniment acull diverses actuacions musicals que es distribueixen entre el Teatre Municipal de Palafrugell i altres espais del centre de la vila\, creant un ambient vibrant i acollidor per gaudir de la millor música jazz. \nAquest festival va iniciar-se l’any 1990\, quan el Patronat Municipal de Turisme de Palafrugell va organitzar una sèrie de concerts de jazz als emblemàtics Jardins de Cap Roig\, a Calella de Palafrugell. Originalment\, les actuacions tenien lloc durant els mesos d’estiu\, als mesos de juliol i agost\, amb l’objectiu de portar la música jazz a un entorn natural i majestuós. L’any 2000\, la gestió del festival va passar a la Fundació Caixa de Girona\, i el 2001 es va integrar dins dels Festivals d’estiu de Caixa de Girona. A partir de llavors\, el festival va evolucionar fins a convertir-se en el Festival Jardins de Cap Roig\, adoptant el seu nom actual. \nTot i aquests canvis\, el Festival de Jazz Costa Brava ha mantingut viva la seva essència i s’ha consolidat com un esdeveniment destacat en el calendari cultural de la tardor a la Costa Brava.
URL:https://staging.catalunyaturisme.cat/esdeveniment/festival-de-jazz-costa-brava-a-palafrugell/2024-10-11/
LOCATION:Palafurgell\, Palafurgell
CATEGORIES:Música
ATTACH;FMTTYPE=image/jpeg:https://staging.catalunyaturisme.cat/wp-content/uploads/festival-de-jazz-costa-brava-a-palafrugell.jpg
END:VEVENT
BEGIN:VEVENT
DTSTART;VALUE=DATE:20241012
DTEND;VALUE=DATE:20241014
DTSTAMP:20260420T125213
CREATED:20240919T185601Z
LAST-MODIFIED:20240919T185601Z
UID:10003649-1728691200-1728863999@staging.catalunyaturisme.cat
SUMMARY:Vermut Live Music
DESCRIPTION:El municipi de Vandellòs i l’Hospitalet de l’Infant es prepara per acollir una nova edició del Vermut Live Music\, un festival que combina la millor gastronomia local amb actuacions de música en directe. Organitzat per la Regidoria de Turisme\, aquest esdeveniment destaca per oferir una experiència única on la música i els aperitius són els grans protagonistes. \nDurant el festival\, diversos establiments de restauració del municipi participaran oferint una àmplia oferta de tapes i actuacions musicals en viu. Els bars i restaurants es convertiran en escenaris on podreu gaudir d’estils musicals variats com funky\, pop-rock\, bachata\, rumba\, copla\, electrònica\, jazz i dixie\, entre altres. Les actuacions seran simultànies i hi haurà opcions per a tots els gustos i edats\, amb la participació de músics d’arreu del món\, incloent-hi artistes locals que aportaran el seu talent i estil propi a aquesta cita cultural i gastronòmica.
URL:https://staging.catalunyaturisme.cat/esdeveniment/vermut-live-music/
CATEGORIES:Gastronomia,Música
ATTACH;FMTTYPE=image/jpeg:https://staging.catalunyaturisme.cat/wp-content/uploads/vermut-live-music-a-vandellos-i-l-hospitalet-de-l-infant-1.jpg
END:VEVENT
BEGIN:VEVENT
DTSTART;VALUE=DATE:20241012
DTEND;VALUE=DATE:20241016
DTSTAMP:20260420T125213
CREATED:20241009T162836Z
LAST-MODIFIED:20241009T162836Z
UID:10003687-1728691200-1729036799@staging.catalunyaturisme.cat
SUMMARY:Festival de Jazz Costa Brava a Palafrugell
DESCRIPTION:El Festival de Jazz Costa Brava a Palafrugell és una cita imprescindible per als amants del jazz\, que té lloc cada any durant el pont del 12 d’octubre. Aquest esdeveniment acull diverses actuacions musicals que es distribueixen entre el Teatre Municipal de Palafrugell i altres espais del centre de la vila\, creant un ambient vibrant i acollidor per gaudir de la millor música jazz. \nAquest festival va iniciar-se l’any 1990\, quan el Patronat Municipal de Turisme de Palafrugell va organitzar una sèrie de concerts de jazz als emblemàtics Jardins de Cap Roig\, a Calella de Palafrugell. Originalment\, les actuacions tenien lloc durant els mesos d’estiu\, als mesos de juliol i agost\, amb l’objectiu de portar la música jazz a un entorn natural i majestuós. L’any 2000\, la gestió del festival va passar a la Fundació Caixa de Girona\, i el 2001 es va integrar dins dels Festivals d’estiu de Caixa de Girona. A partir de llavors\, el festival va evolucionar fins a convertir-se en el Festival Jardins de Cap Roig\, adoptant el seu nom actual. \nTot i aquests canvis\, el Festival de Jazz Costa Brava ha mantingut viva la seva essència i s’ha consolidat com un esdeveniment destacat en el calendari cultural de la tardor a la Costa Brava.
URL:https://staging.catalunyaturisme.cat/esdeveniment/festival-de-jazz-costa-brava-a-palafrugell/2024-10-12/
LOCATION:Palafurgell\, Palafurgell
CATEGORIES:Música
ATTACH;FMTTYPE=image/jpeg:https://staging.catalunyaturisme.cat/wp-content/uploads/festival-de-jazz-costa-brava-a-palafrugell.jpg
END:VEVENT
BEGIN:VEVENT
DTSTART;VALUE=DATE:20241013
DTEND;VALUE=DATE:20241017
DTSTAMP:20260420T125213
CREATED:20241009T162836Z
LAST-MODIFIED:20241009T162836Z
UID:10003688-1728777600-1729123199@staging.catalunyaturisme.cat
SUMMARY:Festival de Jazz Costa Brava a Palafrugell
DESCRIPTION:El Festival de Jazz Costa Brava a Palafrugell és una cita imprescindible per als amants del jazz\, que té lloc cada any durant el pont del 12 d’octubre. Aquest esdeveniment acull diverses actuacions musicals que es distribueixen entre el Teatre Municipal de Palafrugell i altres espais del centre de la vila\, creant un ambient vibrant i acollidor per gaudir de la millor música jazz. \nAquest festival va iniciar-se l’any 1990\, quan el Patronat Municipal de Turisme de Palafrugell va organitzar una sèrie de concerts de jazz als emblemàtics Jardins de Cap Roig\, a Calella de Palafrugell. Originalment\, les actuacions tenien lloc durant els mesos d’estiu\, als mesos de juliol i agost\, amb l’objectiu de portar la música jazz a un entorn natural i majestuós. L’any 2000\, la gestió del festival va passar a la Fundació Caixa de Girona\, i el 2001 es va integrar dins dels Festivals d’estiu de Caixa de Girona. A partir de llavors\, el festival va evolucionar fins a convertir-se en el Festival Jardins de Cap Roig\, adoptant el seu nom actual. \nTot i aquests canvis\, el Festival de Jazz Costa Brava ha mantingut viva la seva essència i s’ha consolidat com un esdeveniment destacat en el calendari cultural de la tardor a la Costa Brava.
URL:https://staging.catalunyaturisme.cat/esdeveniment/festival-de-jazz-costa-brava-a-palafrugell/2024-10-13/
LOCATION:Palafurgell\, Palafurgell
CATEGORIES:Música
ATTACH;FMTTYPE=image/jpeg:https://staging.catalunyaturisme.cat/wp-content/uploads/festival-de-jazz-costa-brava-a-palafrugell.jpg
END:VEVENT
BEGIN:VEVENT
DTSTART;VALUE=DATE:20241016
DTEND;VALUE=DATE:20241017
DTSTAMP:20260420T125213
CREATED:20241009T162836Z
LAST-MODIFIED:20241009T162836Z
UID:10003689-1729065600-1729098000@staging.catalunyaturisme.cat
SUMMARY:Festival de Jazz Costa Brava a Palafrugell
DESCRIPTION:El Festival de Jazz Costa Brava a Palafrugell és una cita imprescindible per als amants del jazz\, que té lloc cada any durant el pont del 12 d’octubre. Aquest esdeveniment acull diverses actuacions musicals que es distribueixen entre el Teatre Municipal de Palafrugell i altres espais del centre de la vila\, creant un ambient vibrant i acollidor per gaudir de la millor música jazz. \nAquest festival va iniciar-se l’any 1990\, quan el Patronat Municipal de Turisme de Palafrugell va organitzar una sèrie de concerts de jazz als emblemàtics Jardins de Cap Roig\, a Calella de Palafrugell. Originalment\, les actuacions tenien lloc durant els mesos d’estiu\, als mesos de juliol i agost\, amb l’objectiu de portar la música jazz a un entorn natural i majestuós. L’any 2000\, la gestió del festival va passar a la Fundació Caixa de Girona\, i el 2001 es va integrar dins dels Festivals d’estiu de Caixa de Girona. A partir de llavors\, el festival va evolucionar fins a convertir-se en el Festival Jardins de Cap Roig\, adoptant el seu nom actual. \nTot i aquests canvis\, el Festival de Jazz Costa Brava ha mantingut viva la seva essència i s’ha consolidat com un esdeveniment destacat en el calendari cultural de la tardor a la Costa Brava.
URL:https://staging.catalunyaturisme.cat/esdeveniment/festival-de-jazz-costa-brava-a-palafrugell/2024-10-16/
LOCATION:Palafurgell\, Palafurgell
CATEGORIES:Música
ATTACH;FMTTYPE=image/jpeg:https://staging.catalunyaturisme.cat/wp-content/uploads/festival-de-jazz-costa-brava-a-palafrugell.jpg
END:VEVENT
BEGIN:VEVENT
DTSTART;VALUE=DATE:20241018
DTEND;VALUE=DATE:20241022
DTSTAMP:20260420T125213
CREATED:20241009T162836Z
LAST-MODIFIED:20241009T162836Z
UID:10003690-1729209600-1729555199@staging.catalunyaturisme.cat
SUMMARY:Festival de Jazz Costa Brava a Palafrugell
DESCRIPTION:El Festival de Jazz Costa Brava a Palafrugell és una cita imprescindible per als amants del jazz\, que té lloc cada any durant el pont del 12 d’octubre. Aquest esdeveniment acull diverses actuacions musicals que es distribueixen entre el Teatre Municipal de Palafrugell i altres espais del centre de la vila\, creant un ambient vibrant i acollidor per gaudir de la millor música jazz. \nAquest festival va iniciar-se l’any 1990\, quan el Patronat Municipal de Turisme de Palafrugell va organitzar una sèrie de concerts de jazz als emblemàtics Jardins de Cap Roig\, a Calella de Palafrugell. Originalment\, les actuacions tenien lloc durant els mesos d’estiu\, als mesos de juliol i agost\, amb l’objectiu de portar la música jazz a un entorn natural i majestuós. L’any 2000\, la gestió del festival va passar a la Fundació Caixa de Girona\, i el 2001 es va integrar dins dels Festivals d’estiu de Caixa de Girona. A partir de llavors\, el festival va evolucionar fins a convertir-se en el Festival Jardins de Cap Roig\, adoptant el seu nom actual. \nTot i aquests canvis\, el Festival de Jazz Costa Brava ha mantingut viva la seva essència i s’ha consolidat com un esdeveniment destacat en el calendari cultural de la tardor a la Costa Brava.
URL:https://staging.catalunyaturisme.cat/esdeveniment/festival-de-jazz-costa-brava-a-palafrugell/2024-10-18/
LOCATION:Palafurgell\, Palafurgell
CATEGORIES:Música
ATTACH;FMTTYPE=image/jpeg:https://staging.catalunyaturisme.cat/wp-content/uploads/festival-de-jazz-costa-brava-a-palafrugell.jpg
END:VEVENT
BEGIN:VEVENT
DTSTART;VALUE=DATE:20241019
DTEND;VALUE=DATE:20241023
DTSTAMP:20260420T125213
CREATED:20241009T162836Z
LAST-MODIFIED:20241009T162836Z
UID:10003691-1729296000-1729641599@staging.catalunyaturisme.cat
SUMMARY:Festival de Jazz Costa Brava a Palafrugell
DESCRIPTION:El Festival de Jazz Costa Brava a Palafrugell és una cita imprescindible per als amants del jazz\, que té lloc cada any durant el pont del 12 d’octubre. Aquest esdeveniment acull diverses actuacions musicals que es distribueixen entre el Teatre Municipal de Palafrugell i altres espais del centre de la vila\, creant un ambient vibrant i acollidor per gaudir de la millor música jazz. \nAquest festival va iniciar-se l’any 1990\, quan el Patronat Municipal de Turisme de Palafrugell va organitzar una sèrie de concerts de jazz als emblemàtics Jardins de Cap Roig\, a Calella de Palafrugell. Originalment\, les actuacions tenien lloc durant els mesos d’estiu\, als mesos de juliol i agost\, amb l’objectiu de portar la música jazz a un entorn natural i majestuós. L’any 2000\, la gestió del festival va passar a la Fundació Caixa de Girona\, i el 2001 es va integrar dins dels Festivals d’estiu de Caixa de Girona. A partir de llavors\, el festival va evolucionar fins a convertir-se en el Festival Jardins de Cap Roig\, adoptant el seu nom actual. \nTot i aquests canvis\, el Festival de Jazz Costa Brava ha mantingut viva la seva essència i s’ha consolidat com un esdeveniment destacat en el calendari cultural de la tardor a la Costa Brava.
URL:https://staging.catalunyaturisme.cat/esdeveniment/festival-de-jazz-costa-brava-a-palafrugell/2024-10-19/
LOCATION:Palafurgell\, Palafurgell
CATEGORIES:Música
ATTACH;FMTTYPE=image/jpeg:https://staging.catalunyaturisme.cat/wp-content/uploads/festival-de-jazz-costa-brava-a-palafrugell.jpg
END:VEVENT
BEGIN:VEVENT
DTSTART;VALUE=DATE:20241020
DTEND;VALUE=DATE:20241024
DTSTAMP:20260420T125213
CREATED:20241009T162836Z
LAST-MODIFIED:20241009T162836Z
UID:10003692-1729382400-1729727999@staging.catalunyaturisme.cat
SUMMARY:Festival de Jazz Costa Brava a Palafrugell
DESCRIPTION:El Festival de Jazz Costa Brava a Palafrugell és una cita imprescindible per als amants del jazz\, que té lloc cada any durant el pont del 12 d’octubre. Aquest esdeveniment acull diverses actuacions musicals que es distribueixen entre el Teatre Municipal de Palafrugell i altres espais del centre de la vila\, creant un ambient vibrant i acollidor per gaudir de la millor música jazz. \nAquest festival va iniciar-se l’any 1990\, quan el Patronat Municipal de Turisme de Palafrugell va organitzar una sèrie de concerts de jazz als emblemàtics Jardins de Cap Roig\, a Calella de Palafrugell. Originalment\, les actuacions tenien lloc durant els mesos d’estiu\, als mesos de juliol i agost\, amb l’objectiu de portar la música jazz a un entorn natural i majestuós. L’any 2000\, la gestió del festival va passar a la Fundació Caixa de Girona\, i el 2001 es va integrar dins dels Festivals d’estiu de Caixa de Girona. A partir de llavors\, el festival va evolucionar fins a convertir-se en el Festival Jardins de Cap Roig\, adoptant el seu nom actual. \nTot i aquests canvis\, el Festival de Jazz Costa Brava ha mantingut viva la seva essència i s’ha consolidat com un esdeveniment destacat en el calendari cultural de la tardor a la Costa Brava.
URL:https://staging.catalunyaturisme.cat/esdeveniment/festival-de-jazz-costa-brava-a-palafrugell/2024-10-20/
LOCATION:Palafurgell\, Palafurgell
CATEGORIES:Música
ATTACH;FMTTYPE=image/jpeg:https://staging.catalunyaturisme.cat/wp-content/uploads/festival-de-jazz-costa-brava-a-palafrugell.jpg
END:VEVENT
END:VCALENDAR