BEGIN:VCALENDAR
VERSION:2.0
PRODID:-//Catalunya Turisme - ECPv6.5.1.5//NONSGML v1.0//EN
CALSCALE:GREGORIAN
METHOD:PUBLISH
X-ORIGINAL-URL:https://staging.catalunyaturisme.cat
X-WR-CALDESC:Events for Catalunya Turisme
REFRESH-INTERVAL;VALUE=DURATION:PT1H
X-Robots-Tag:noindex
X-PUBLISHED-TTL:PT1H
BEGIN:VTIMEZONE
TZID:Europe/Madrid
BEGIN:DAYLIGHT
TZOFFSETFROM:+0100
TZOFFSETTO:+0200
TZNAME:CEST
DTSTART:20240331T010000
END:DAYLIGHT
BEGIN:STANDARD
TZOFFSETFROM:+0200
TZOFFSETTO:+0100
TZNAME:CET
DTSTART:20241027T010000
END:STANDARD
END:VTIMEZONE
BEGIN:VEVENT
DTSTART;VALUE=DATE:20240904
DTEND;VALUE=DATE:20240909
DTSTAMP:20260420T143329
CREATED:20240826T113452Z
LAST-MODIFIED:20240826T113452Z
UID:10003465-1725408000-1725839999@staging.catalunyaturisme.cat
SUMMARY:Festival Rock-a-Billy de Calafell
DESCRIPTION:Calafell es prepara per acollir una nova edició del Festival Rock-a-Billy\, un dels esdeveniments més destacats a nivell internacional dedicats al vibrant gènere musical del rockabilly\, que combina el millor del rock and roll i la música country dels anys 50. Reconegut com el millor festival d’Europa en aquesta temàtica\, el Festival Rock-a-Billy atrau milers de visitants any rere any\, convertint Calafell en un punt de trobada per als amants d’aquest estil tan característic. \nEl festival compta amb la presència d’alguns dels millors grups del món especialitzats en rockabilly\, oferint actuacions en directe que faran vibrar als assistents amb els sons més autèntics d’aquest gènere. Però la música no és l’únic atractiu de l’esdeveniment. Els visitants també podran gaudir del tradicional mercat de col·leccionistes de vinils\, on trobaran autèntiques joies musicals de l’època\, així com un mercat de vestuari i complements d’estètica rockabilly\, perfecte per a aquells que volen endinsar-se encara més en l’esperit dels anys 50. \nA més\, un dels espectacles més esperats pels amants del rockabilly i la cultura americana és la desfilada de vehicles clàssics dels anys 50\, que afegeix un toc d’autenticitat i transporta als assistents directament a l’època daurada d’aquest gènere.
URL:https://staging.catalunyaturisme.cat/esdeveniment/festival-rock-a-billy-de-calafell/
LOCATION:Calafell\, Calafell\, Tarragona\, 43820
CATEGORIES:Música
ATTACH;FMTTYPE=image/jpeg:https://staging.catalunyaturisme.cat/wp-content/uploads/festival-rock-a-billy-de-calafell.jpg
END:VEVENT
BEGIN:VEVENT
DTSTART;VALUE=DATE:20240913
DTEND;VALUE=DATE:20240916
DTSTAMP:20260420T143329
CREATED:20240826T121140Z
LAST-MODIFIED:20240826T121140Z
UID:10003479-1726185600-1726444799@staging.catalunyaturisme.cat
SUMMARY:Festival Altaveu a Sant Boi de Llobregat
DESCRIPTION:L’Altaveu\, el Festival de la Música de Sant Boi de Llobregat\, és un esdeveniment cultural de referència a Catalunya\, destacant per ser un festival 100% públic\, de línia oberta i plural. Amb més de 30 anys de trajectòria\, aquest festival és un veritable aparador de la història musical catalana\, reflectint l’essència i l’amor per la música que caracteritza Sant Boi de Llobregat. \nAl llarg de les seves dècades d’existència\, l’Altaveu s’ha consolidat com un festival de descobriments\, on la sorpresa i la curiositat són pilars fonamentals. Cada edició presenta una programació que aposta per la singularitat\, oferint propostes i artistes que captiven per la seva autenticitat i innovació. L’edició d’enguany no és una excepció\, ja que convida el públic a fer un viatge des de l’interior cap a l’exterior\, explorant noves formes musicals que sorgeixen de l’arrel i que estan impregnades d’identitat i valors. \nSituat a Sant Boi de Llobregat\, l’Altaveu transforma la ciutat en un escenari vibrant on la música es viu amb intensitat i passió.
URL:https://staging.catalunyaturisme.cat/esdeveniment/festival-altaveu-a-sant-boi-de-llobregat/
LOCATION:Sant Boi de Llobregat\, Sant Boi de Llobregat\, Barcelona\, Espanya
CATEGORIES:Música
ATTACH;FMTTYPE=image/jpeg:https://staging.catalunyaturisme.cat/wp-content/uploads/festival-altaveu-a-sant-boi-de-llobregat.jpg
END:VEVENT
BEGIN:VEVENT
DTSTART;VALUE=DATE:20240914
DTEND;VALUE=DATE:20240915
DTSTAMP:20260420T143329
CREATED:20240826T115220Z
LAST-MODIFIED:20240826T115220Z
UID:10003471-1726272000-1726358399@staging.catalunyaturisme.cat
SUMMARY:Festival Embarca't a Guissona
DESCRIPTION:Guissona es prepara per acollir el Festival Embarca’t\, una proposta familiar que combina música en viu\, gastronomia i tradicions per oferir una experiència inoblidable a tots els assistents. Aquest festival\, amb la voluntat de convertir-se en un referent musical de la zona\, destaca per la seva oferta dirigida al públic familiar\, amb grups capdavanters del panorama musical català com a protagonistes de l’esdeveniment. \nMés enllà de la música\, l’Embarca’t ofereix una gran varietat d’activitats paral·leles\, com tallers\, exposicions i espectacles infantils\, que el converteixen en un esdeveniment idoni per a famílies. L’atmosfera relaxada i festiva que es respira durant el festival fa que aquest esdevingui un punt de trobada per als veïns de Guissona\, on la cultura\, l’art i la vida en comunitat són celebrats en cada racó. \nCom a novetat\, el festival inclou una zona amb inflables\, pensada per a infants de totes les edats. Aquesta àrea ofereix activitats adaptades a diferents edats\, creant un espai alternatiu per aquells que vulguin gaudir del festival d’una manera diferent i divertida. \nPer completar l’experiència\, el festival ofereix una àmplia oferta gastronòmica amb una barra de begudes i menjar\, així com un directori de restaurants locals que oferiran el Menú Embarcat per aquells que vulguin gaudir d’un bon àpat durant el dia del festival.
URL:https://staging.catalunyaturisme.cat/esdeveniment/festival-embarcat-a-guissona/
LOCATION:Guissona\, Guissiona\, Catalunya\, Espanya
CATEGORIES:Música
ATTACH;FMTTYPE=image/jpeg:https://staging.catalunyaturisme.cat/wp-content/uploads/festival-embarca-t-a-guissona.jpg
END:VEVENT
BEGIN:VEVENT
DTSTART;VALUE=DATE:20240920
DTEND;VALUE=DATE:20240923
DTSTAMP:20260420T143329
CREATED:20240917T121505Z
LAST-MODIFIED:20240917T121505Z
UID:10003599-1726790400-1727049599@staging.catalunyaturisme.cat
SUMMARY:End Summer Festival: La Gran Festa de Final d'Estiu a Miami Platja
DESCRIPTION:Miami Platja acomiada l’estiu amb l’End Summer Festival\, una cita plena de música\, gastronomia i activitats per a tota la família. La Platja Cristall\, la Punta del Riu i el Bosquet del Llastres seran els escenaris d’aquesta celebració única a la Costa Daurada\, on l’entreteniment està garantit durant tres dies intensos. \nEl festival compta amb un potent cartell musical\, que inclou concerts en directe i sessions de DJ’s per fer ballar a tothom sota les estrelles. A més\, hi haurà espectacles itinerants\, actuacions infantils i un mercat d’artesania\, on els visitants podran descobrir productes locals i creacions originals. \nPer als amants de la gastronomia\, el festival ofereix una variada selecció de Food Trucks i espais de restauració local de qualitat\, perfectes per gaudir de sabors de proximitat mentre es gaudeix de la música i l’ambient festiu.
URL:https://staging.catalunyaturisme.cat/esdeveniment/end-summer-festival-la-gran-festa-de-final-destiu-a-miami-platja/
LOCATION:Mont-roig del Camp\, Mont-roig del Camp\, Espanya
CATEGORIES:Gastronomia,Música
ATTACH;FMTTYPE=image/jpeg:https://staging.catalunyaturisme.cat/wp-content/uploads/end-summer-festival-miami-platja.jpg
END:VEVENT
BEGIN:VEVENT
DTSTART;VALUE=DATE:20240921
DTEND;VALUE=DATE:20240922
DTSTAMP:20260420T143329
CREATED:20240917T102731Z
LAST-MODIFIED:20240917T102731Z
UID:10003517-1726876800-1726963199@staging.catalunyaturisme.cat
SUMMARY:Festival "Nits a Dalt de Vila" a Tossa de Mar
DESCRIPTION:El Festival “Nits a Dalt de Vila” és una cita imprescindible per als amants de la música i la cultura que té lloc en un entorn únic: la històrica Vila Vella de Tossa de Mar\, l’únic recinte emmurallat arran de mar que es conserva dempeus a Catalunya des de l’època medieval. Aquest festival ofereix una experiència íntima i de qualitat\, amb actuacions musicals que es desenvolupen en l’antiga Església de Sant Vicenç\, un escenari natural elevat sobre el Mediterrani\, ideal per gaudir de la màgia de la música envoltats d’història. \nL’expressió “Dalt de Vila” és un terme autènticament tossenc que es refereix a la Vila Vella\, un dels llocs més emblemàtics de la Costa Brava. Tot i que la vila va créixer fora de les muralles a partir del segle XVI\, els habitants de Tossa encara fan servir aquesta expressió per referir-se a aquest nucli antic ple de caràcter i bellesa. \nAmb un format de festival reduït i acollidor\, “Nits a Dalt de Vila” destaca per la seva atmosfera íntima i la qualitat de les seves propostes artístiques. El públic pot gaudir de la música en un amfiteatre natural com és l’església medieval\, convertint cada nit en una experiència única i inoblidable.
URL:https://staging.catalunyaturisme.cat/esdeveniment/festival-nits-a-dalt-de-vila-a-tossa-de-mar/2024-09-21/
LOCATION:Tossa de Mar\, Tossa de Mar\, Girona\, 17320\, Espanya
CATEGORIES:Música
ATTACH;FMTTYPE=image/jpeg:https://staging.catalunyaturisme.cat/wp-content/uploads/festival-nits-a-dalt-de-vila-a-tossa-de-mar.jpg
ORGANIZER;CN="Oficina de Turisme de Tossa de Mar":MAILTO:info@visittossa.com
END:VEVENT
BEGIN:VEVENT
DTSTART;VALUE=DATE:20240926
DTEND;VALUE=DATE:20240930
DTSTAMP:20260420T143329
CREATED:20240917T154636Z
LAST-MODIFIED:20240917T154636Z
UID:10003617-1727308800-1727654399@staging.catalunyaturisme.cat
SUMMARY:Festival TNT
DESCRIPTION:El Festival TNT (Terrassa Noves Tendències) és un esdeveniment clau a Catalunya per a la difusió i impuls de la creació contemporània i multidisciplinària\, celebrat anualment a Terrassa des del 2007\, coincidint amb l’inici de la tardor. Amb una programació innovadora i transgressora\, el TNT aposta per les arts en viu\, oferint propostes per a tots els públics i convertint-se en un referent tant a nivell local com internacional. \nAquest festival té com a eix central els nous llenguatges artístics\, i cada any porta a escena algunes de les propostes més innovadores del panorama internacional. Alhora\, promou el talent emergent català\, oferint un espai per a la investigació i la creació a través de coproduccions i residències artístiques. Els artistes participants no només tenen l’oportunitat de desenvolupar la seva obra\, sinó que també estan incentivats a dur a terme activitats que involucrin la ciutadania\, fomentant la participació activa del públic. \nAmb un discurs col·lectiu articulat en cada edició\, el TNT es defineix com un espai de provocació\, incomoditat i experimentació\, on la creació artística es transforma en una eina per reflexionar sobre el món actual: incert\, desigual i pendent de canvis profunds. El festival ofereix\, així\, un espai per a la vulnerabilitat\, la diversió i la reflexió\, convertint-se en una plataforma per a la transformació cultural.
URL:https://staging.catalunyaturisme.cat/esdeveniment/festival-tnt/
LOCATION:Terrassa\, Terrassa\, Barcelona\, Espanya
CATEGORIES:Música
ATTACH;FMTTYPE=image/jpeg:https://staging.catalunyaturisme.cat/wp-content/uploads/festival-terrassa-noves-tendencies.jpg
END:VEVENT
BEGIN:VEVENT
DTSTART;VALUE=DATE:20240928
DTEND;VALUE=DATE:20240929
DTSTAMP:20260420T143329
CREATED:20240917T102731Z
LAST-MODIFIED:20240917T102731Z
UID:10003518-1727510400-1727542800@staging.catalunyaturisme.cat
SUMMARY:Festival "Nits a Dalt de Vila" a Tossa de Mar
DESCRIPTION:El Festival “Nits a Dalt de Vila” és una cita imprescindible per als amants de la música i la cultura que té lloc en un entorn únic: la històrica Vila Vella de Tossa de Mar\, l’únic recinte emmurallat arran de mar que es conserva dempeus a Catalunya des de l’època medieval. Aquest festival ofereix una experiència íntima i de qualitat\, amb actuacions musicals que es desenvolupen en l’antiga Església de Sant Vicenç\, un escenari natural elevat sobre el Mediterrani\, ideal per gaudir de la màgia de la música envoltats d’història. \nL’expressió “Dalt de Vila” és un terme autènticament tossenc que es refereix a la Vila Vella\, un dels llocs més emblemàtics de la Costa Brava. Tot i que la vila va créixer fora de les muralles a partir del segle XVI\, els habitants de Tossa encara fan servir aquesta expressió per referir-se a aquest nucli antic ple de caràcter i bellesa. \nAmb un format de festival reduït i acollidor\, “Nits a Dalt de Vila” destaca per la seva atmosfera íntima i la qualitat de les seves propostes artístiques. El públic pot gaudir de la música en un amfiteatre natural com és l’església medieval\, convertint cada nit en una experiència única i inoblidable.
URL:https://staging.catalunyaturisme.cat/esdeveniment/festival-nits-a-dalt-de-vila-a-tossa-de-mar/2024-09-28/
LOCATION:Tossa de Mar\, Tossa de Mar\, Girona\, 17320\, Espanya
CATEGORIES:Música
ATTACH;FMTTYPE=image/jpeg:https://staging.catalunyaturisme.cat/wp-content/uploads/festival-nits-a-dalt-de-vila-a-tossa-de-mar.jpg
ORGANIZER;CN="Oficina de Turisme de Tossa de Mar":MAILTO:info@visittossa.com
END:VEVENT
END:VCALENDAR