BEGIN:VCALENDAR
VERSION:2.0
PRODID:-//Catalunya Turisme - ECPv6.5.1.5//NONSGML v1.0//EN
CALSCALE:GREGORIAN
METHOD:PUBLISH
X-WR-CALNAME:Catalunya Turisme
X-ORIGINAL-URL:https://staging.catalunyaturisme.cat
X-WR-CALDESC:Events for Catalunya Turisme
REFRESH-INTERVAL;VALUE=DURATION:PT1H
X-Robots-Tag:noindex
X-PUBLISHED-TTL:PT1H
BEGIN:VTIMEZONE
TZID:Europe/Madrid
BEGIN:DAYLIGHT
TZOFFSETFROM:+0100
TZOFFSETTO:+0200
TZNAME:CEST
DTSTART:20240331T010000
END:DAYLIGHT
BEGIN:STANDARD
TZOFFSETFROM:+0200
TZOFFSETTO:+0100
TZNAME:CET
DTSTART:20241027T010000
END:STANDARD
END:VTIMEZONE
BEGIN:VEVENT
DTSTART;TZID=Europe/Madrid:20240605T080000
DTEND;TZID=Europe/Madrid:20240605T170000
DTSTAMP:20260420T193400
CREATED:20240605T144808Z
LAST-MODIFIED:20240605T144808Z
UID:10000422-1717574400-1717606800@staging.catalunyaturisme.cat
SUMMARY:Embotona't
DESCRIPTION:En un recinte emblemàtic de la ciutat\, el Poble Espanyol\, es desplega un esdeveniment únic que captura l’essència de la diversitat\, la cultura i la solidaritat. És l’Embotona’t\, un festival que no només ofereix entreteniment\, sinó que també fa una crida a la inclusió i al suport a les persones amb discapacitat intel·lectual greu\, a través de La Fundació Aspasim\, entitat sense ànim de lucre que vetlla per aquest col·lectiu. \nÉs com si el Poble Espanyol es transformés en un mosaic vivent\, on cada raconet ofereix una experiència única. Els carrers i les places es converteixen en escenaris improvisats per a concerts enèrgics\, contes captivadors\, espectacles de titelles màgiques i sessions de cinema que transporten a altres móns. \nEl festival és una invitació oberta a tothom\, especialment a les famílies i als més petits. Aquí\, la diversitat és celebrada com una força\, una oportunitat per compartir i aprendre de les diferències que ens fan únics. I tot això en un entorn tan especial com el Poble Espanyol\, amb la seva arquitectura que evoca els racons més pintorescos d’Espanya. \nÉs un dia per explorar\, per deixar-se endur pels colors\, els sons i les emocions. És un recordatori que la cultura\, la solidaritat i la diversió poden anar de la mà\, creant moments inoblidables per a tota la comunitat. Així és l’Embotona’t: més que un festival\, una experiència que ens connecta\, ens enriqueix i ens fa més forts junts.
URL:https://staging.catalunyaturisme.cat/esdeveniment/embotonat/
LOCATION:Poble Espanyol
CATEGORIES:Música
ATTACH;FMTTYPE=image/jpeg:https://staging.catalunyaturisme.cat/wp-content/uploads/embotona-t-festival-al-poble-espanyol-de-barcelona.jpg
END:VEVENT
BEGIN:VEVENT
DTSTART;VALUE=DATE:20240608
DTEND;VALUE=DATE:20240609
DTSTAMP:20260420T193400
CREATED:20240606T071018Z
LAST-MODIFIED:20240606T071018Z
UID:10000426-1717804800-1717891199@staging.catalunyaturisme.cat
SUMMARY:Festival Lo Riu Sona
DESCRIPTION:Amposta acull una nova edició del Festival Lo Riu Sona\, una proposta que converteix la ciutat en un punt de trobada solidari i identitari amb grups capdavanters en llengua catalana. \nAquest festival\, que se celebra cada any\, presenta una àmplia selecció d’artistes i bandes de diversos gèneres musicals. El Festival Lo Riu Sona s’ha establert com una plataforma essencial per a artistes emergents\, oferint-los l’oportunitat de fer-se conèixer i de compartir escenari amb músics ja consolidats. \nÉs un dels esdeveniments més esperats\, tant per la qualitat de la seva programació com per l’experiència única que proporciona. \nLo Riu Sona està organitzat per Produccions Submarines i Èxits Produccions Musicals\, amb la col·laboració de l’Ajuntament d’Amposta i el suport de la Generalitat de Catalunya.
URL:https://staging.catalunyaturisme.cat/esdeveniment/festival-lo-riu-sona/
LOCATION:Espai Firal 1 d’Octubre\, Amposta\, Espanya
CATEGORIES:Música
ATTACH;FMTTYPE=image/jpeg:https://staging.catalunyaturisme.cat/wp-content/uploads/343729219_544882964507365_2981466949526238444_n.jpg
ORGANIZER;CN="Ajuntament d'Amposta":MAILTO:ajuntament@amposta.cat
END:VEVENT
BEGIN:VEVENT
DTSTART;VALUE=DATE:20240621
DTEND;VALUE=DATE:20240622
DTSTAMP:20260420T193400
CREATED:20240610T143346Z
LAST-MODIFIED:20240610T143346Z
UID:10000672-1718928000-1719014399@staging.catalunyaturisme.cat
SUMMARY:21è Festival música a les Vinyes
DESCRIPTION:Un any més\, l’Ajuntament de Subirats organitza el Festival Música a les Vinyes\, un esdeveniment de referència al Penedès. Celebrat cada juliol des del 2003\, aquest festival ofereix concerts en un entorn singular i atractiu. \nEl festival comença el 21 de juny al celler Finca Batllori amb l’espectacle “Love will be the theme song”\, seguit d’una passejada pel celler i un maridatge de cava i préssec d’Ordal. A Torre-ramona\, els concerts continuen el 20 i el 27 de juliol amb Carles Marigó i Xavi Torres\, respectivament\, presentant espectacles de jazz premiats. \nEls assistents podran degustar vins i escumosos locals\, així com productes gastronòmics de la regió. Com a novetat\, abans dels concerts es podrà gaudir de tastos de vins i petites degustacions gastronòmiques amb productes locals\, oferts per The Wine Truck.
URL:https://staging.catalunyaturisme.cat/esdeveniment/21e-festival-musica-a-les-vinyes/2024-06-21/
CATEGORIES:Música
ATTACH;FMTTYPE=image/jpeg:https://staging.catalunyaturisme.cat/wp-content/uploads/fmv51.jpg
END:VEVENT
BEGIN:VEVENT
DTSTART;TZID=Europe/Madrid:20240622T230000
DTEND;TZID=Europe/Madrid:20240622T235500
DTSTAMP:20260420T193400
CREATED:20240610T100253Z
LAST-MODIFIED:20240610T100253Z
UID:10000470-1719097200-1719100500@staging.catalunyaturisme.cat
SUMMARY:Festival Itinera a Tiurana
DESCRIPTION:El Festival Itinera aterra a Tiurana amb una proposta musical fascinant: un concert de Joe Pee & The Equilibrium. Aquest esdeveniment gratuït\, part del Festival Itinera Parlem\, és una oportunitat imperdible per submergir-se en l’encant del jazz i el swing en un entorn rural idíl·lic. \nOrganitzat per l’associació de Micropobles de Catalunya i Aktive\, aquest festival busca mostrar els pobles de menys de 500 habitants com Tiurana\, oferint una experiència única que combina música de qualitat amb la riquesa cultural i patrimonial de la zona. A més del concert\, els assistents tenen l’opció de reservar una experiència gastronòmica al Gastrobar Solés\, on podran degustar la cuina local mentre gaudeixen del ritme contagiant del boogie woogie\, el ragtime i el swing.
URL:https://staging.catalunyaturisme.cat/esdeveniment/festival-itinera-a-tiurana/
LOCATION:Tiurana\, Tiurana\, Noguera\, Espanya
CATEGORIES:Música
ATTACH;FMTTYPE=image/jpeg:https://staging.catalunyaturisme.cat/wp-content/uploads/6902-07-3.jpg
END:VEVENT
BEGIN:VEVENT
DTSTART;VALUE=DATE:20240628
DTEND;VALUE=DATE:20240629
DTSTAMP:20260420T193400
CREATED:20240610T101457Z
LAST-MODIFIED:20240610T101457Z
UID:10000472-1719532800-1719619199@staging.catalunyaturisme.cat
SUMMARY:NEC: Festival Nits d'estiu de Calella
DESCRIPTION:Les nits càlides són una invitació a explorar l’essència nocturna. A Calella\, aquest ambient esdevé un festival en si mateix\, amb les terrasses plenes i el passeig animat. Durant l’estiu\, el festival Nits d’Estiu Calella (NEC) pren protagonisme\, oferint concerts\, actuacions i espectacles en diversos indrets de la ciutat com el Far i el Parc Dalmau. \nEl NEC no només proporciona entreteniment de primera categoria\, sinó que també ofereix l’oportunitat de descobrir Calella en un context nocturn\, ampliant les opcions per als visitants i locals. No et perdis aquesta experiència única que combina la vibració de la ciutat amb el talent artístic en un marc incomparable.
URL:https://staging.catalunyaturisme.cat/esdeveniment/nec-festival-nits-destiu-de-calella/2024-06-28/
CATEGORIES:Música
ATTACH;FMTTYPE=image/jpeg:https://staging.catalunyaturisme.cat/wp-content/uploads/nec-festival-nits-d-estiu-de-calella.jpg
END:VEVENT
END:VCALENDAR