BEGIN:VCALENDAR
VERSION:2.0
PRODID:-//Catalunya Turisme - ECPv6.5.1.5//NONSGML v1.0//EN
CALSCALE:GREGORIAN
METHOD:PUBLISH
X-WR-CALNAME:Catalunya Turisme
X-ORIGINAL-URL:https://staging.catalunyaturisme.cat
X-WR-CALDESC:Events for Catalunya Turisme
REFRESH-INTERVAL;VALUE=DURATION:PT1H
X-Robots-Tag:noindex
X-PUBLISHED-TTL:PT1H
BEGIN:VTIMEZONE
TZID:Europe/Madrid
BEGIN:DAYLIGHT
TZOFFSETFROM:+0100
TZOFFSETTO:+0200
TZNAME:CEST
DTSTART:20240331T010000
END:DAYLIGHT
BEGIN:STANDARD
TZOFFSETFROM:+0200
TZOFFSETTO:+0100
TZNAME:CET
DTSTART:20241027T010000
END:STANDARD
END:VTIMEZONE
BEGIN:VEVENT
DTSTART;VALUE=DATE:20240126
DTEND;VALUE=DATE:20240520
DTSTAMP:20260420T230559
CREATED:20231229T114500Z
LAST-MODIFIED:20231229T114835Z
UID:10000071-1706227200-1716163199@staging.catalunyaturisme.cat
SUMMARY:Barnasants. Festival de cançó d'autor
DESCRIPTION:Barnsants és un festival de música que ofereix cançó d’autor en diferents espais i municipis dels territoris de parla catalana. En aquesta edició\, el seu cartell commemora el 50 aniversari de la Revolució dels Clavells i el centenari de Joan Salvat-Papasseit. \nEn el marc d’aquest festival es faran més de 120 actuacions que barregen autors emergents amb artistes més consolidats\, dels quals destaquen noms com Marc Parrot\, Renaldo & Clara o Clara Peya. \nBarnasants també organitza actuacions per tot Catalunya\, les Illes Balears\, el País Valencià\, on destaca la presència d’Albert Pla a Ondarra\, i l’Alguer. A més\, des de fa uns anys el festival proposa un país convidat\, que en aquesta ocasió és el Perú\, amb artistes peruans com a convidats.
URL:https://staging.catalunyaturisme.cat/esdeveniment/barnasants-festival-de-canco-dautor/
LOCATION:Diversos espais
CATEGORIES:Música
ATTACH;FMTTYPE=image/jpeg:https://staging.catalunyaturisme.cat/wp-content/uploads/c9c7f8c7-3835-41dd-b345-ffe1980541a6.jpeg
END:VEVENT
BEGIN:VEVENT
DTSTART;TZID=Europe/Madrid:20240407T190000
DTEND;TZID=Europe/Madrid:20240407T210000
DTSTAMP:20260420T230559
CREATED:20231230T152204Z
LAST-MODIFIED:20231230T152204Z
UID:10000079-1712516400-1712523600@staging.catalunyaturisme.cat
SUMMARY:XVIII Festival de Música Castell de Concabella
DESCRIPTION:El Castell de Concabella\, a Els Plans de Sió\, la Segarra\, acull un cicle de concerts de música clàssica. \nEl 7 d’abril a les 19 h tindrà lloc a càrrec del Trio Zukerman (P. Zukerman\, violí; A. Forsyth\, violoncel i S. Wosner\, piano)\, encapçalat per l’il·lustre intèrpret israelià Pinchas Zukerman\, oferirà un programa amb tres monuments de la literatura per a trio amb piano\, amb obres de Schumann\, Saint-Saëns i Beethoven.
URL:https://staging.catalunyaturisme.cat/esdeveniment/xviii-festival-de-musica-castell-de-concabella-2/
LOCATION:Castell de Concabella
CATEGORIES:Música
ATTACH;FMTTYPE=image/jpeg:https://staging.catalunyaturisme.cat/wp-content/uploads/1696672584.jpg
END:VEVENT
BEGIN:VEVENT
DTSTART;VALUE=DATE:20240426
DTEND;VALUE=DATE:20240428
DTSTAMP:20260420T230559
CREATED:20240422T093954Z
LAST-MODIFIED:20240422T093954Z
UID:10000389-1714089600-1714262399@staging.catalunyaturisme.cat
SUMMARY:Festival Strenes a Girona
DESCRIPTION:Strenes\, el festival musical destacat a Girona\, és l’escenari principal on els talents catalans presenten les seves últimes creacions discogràfiques\, inicien o conclouen les seves gires i ofereixen espectacles únics. \nEn només tres edicions\, aquest esdeveniment ha atrafegat més de 20.000 espectadors\, generant un impacte econòmic significatiu de 750.000 euros per a la ciutat de Girona. \nAquest festival transforma Girona en un immens teatre\, amb actuacions programades en diversos espais com l’Auditori\, el Teatre Municipal\, el centre cultural La Mercè\, la Casa de Cultura\, la Mirona\, els Jardins de la Mercè\, i fins i tot llocs emblemàtics com les escales de la Catedral\, el Pont de Pedra\, la Plaça Sant Fèlix o el Museu d’Art (MD’A).
URL:https://staging.catalunyaturisme.cat/esdeveniment/festival-strenes-a-girona/2024-04-26/
LOCATION:Girona\, Plaça de la Independència
CATEGORIES:Música
ATTACH;FMTTYPE=image/jpeg:https://staging.catalunyaturisme.cat/wp-content/uploads/438161101_18345574495103974_7293124872579835012_n.jpg
END:VEVENT
BEGIN:VEVENT
DTSTART;VALUE=DATE:20240426
DTEND;VALUE=DATE:20240429
DTSTAMP:20260420T230559
CREATED:20240416T075708Z
LAST-MODIFIED:20240416T075734Z
UID:10000261-1714089600-1714348799@staging.catalunyaturisme.cat
SUMMARY:Festa de la Malavella a Caldes de Malavella
DESCRIPTION:La nova edició de la Festa de la Malavella és presentada per l’àrea de turisme de l’Ajuntament de Caldes de Malavella. Aquesta festa és un punt de referència del folklore de Caldes de Malavella. \nIniciada el 2010 amb l’objectiu de reviure la llegenda de la Malavella i fusionar-la amb el món imaginari\, aquesta celebració és una eina essencial per destacar el patrimoni de Caldes i enfortir la seva identitat col·lectiva.
URL:https://staging.catalunyaturisme.cat/esdeveniment/festa-de-la-malavella-a-caldes-de-malavella/
LOCATION:Caldes de Malavella\, Caldes de Malavella\, Girona\, 17455
CATEGORIES:Cultura,Música
ATTACH;FMTTYPE=image/jpeg:https://staging.catalunyaturisme.cat/wp-content/uploads/11082598_797865553629892_2728755585773971329_n.jpg
END:VEVENT
BEGIN:VEVENT
DTSTART;TZID=Europe/Madrid:20240426T100000
DTEND;TZID=Europe/Madrid:20240426T203000
DTSTAMP:20260420T230559
CREATED:20240415T101112Z
LAST-MODIFIED:20240415T101112Z
UID:10000256-1714125600-1714163400@staging.catalunyaturisme.cat
SUMMARY:Festival Flors i Violes a Palafrugell
DESCRIPTION:Quan arriba la primavera\, Palafrugell obre les seves portes al Festival Flors i Violes! \nAquest esdeveniment\, dedicat a la música i l’art\, omple la vila amb un circuit de patis\, tant públics com privats\, adornats amb creacions artístiques que celebren la temporada primaveral. \nArtistes reconeguts s’uneixen a talents emergents per transformar la vila amb música en viu\, instal·lacions artístiques i performances en directe. \nÉs una oportunitat única per explorar aquesta fusió d’arts i descobrir nous talents de la escena catalana.
URL:https://staging.catalunyaturisme.cat/esdeveniment/festival-flors-i-violes-a-palafrugell/2024-04-26/
CATEGORIES:Art,Música
ATTACH;FMTTYPE=image/jpeg:https://staging.catalunyaturisme.cat/wp-content/uploads/2_FlorsiVioles-.jpg
END:VEVENT
BEGIN:VEVENT
DTSTART;TZID=Europe/Madrid:20240427T100000
DTEND;TZID=Europe/Madrid:20240427T203000
DTSTAMP:20260420T230600
CREATED:20240415T101112Z
LAST-MODIFIED:20240415T101112Z
UID:10000257-1714212000-1714249800@staging.catalunyaturisme.cat
SUMMARY:Festival Flors i Violes a Palafrugell
DESCRIPTION:Quan arriba la primavera\, Palafrugell obre les seves portes al Festival Flors i Violes! \nAquest esdeveniment\, dedicat a la música i l’art\, omple la vila amb un circuit de patis\, tant públics com privats\, adornats amb creacions artístiques que celebren la temporada primaveral. \nArtistes reconeguts s’uneixen a talents emergents per transformar la vila amb música en viu\, instal·lacions artístiques i performances en directe. \nÉs una oportunitat única per explorar aquesta fusió d’arts i descobrir nous talents de la escena catalana.
URL:https://staging.catalunyaturisme.cat/esdeveniment/festival-flors-i-violes-a-palafrugell/2024-04-27/
CATEGORIES:Art,Música
ATTACH;FMTTYPE=image/jpeg:https://staging.catalunyaturisme.cat/wp-content/uploads/2_FlorsiVioles-.jpg
END:VEVENT
BEGIN:VEVENT
DTSTART;TZID=Europe/Madrid:20240428T100000
DTEND;TZID=Europe/Madrid:20240428T203000
DTSTAMP:20260420T230600
CREATED:20240415T101112Z
LAST-MODIFIED:20240415T101112Z
UID:10000258-1714298400-1714336200@staging.catalunyaturisme.cat
SUMMARY:Festival Flors i Violes a Palafrugell
DESCRIPTION:Quan arriba la primavera\, Palafrugell obre les seves portes al Festival Flors i Violes! \nAquest esdeveniment\, dedicat a la música i l’art\, omple la vila amb un circuit de patis\, tant públics com privats\, adornats amb creacions artístiques que celebren la temporada primaveral. \nArtistes reconeguts s’uneixen a talents emergents per transformar la vila amb música en viu\, instal·lacions artístiques i performances en directe. \nÉs una oportunitat única per explorar aquesta fusió d’arts i descobrir nous talents de la escena catalana.
URL:https://staging.catalunyaturisme.cat/esdeveniment/festival-flors-i-violes-a-palafrugell/2024-04-28/
CATEGORIES:Art,Música
ATTACH;FMTTYPE=image/jpeg:https://staging.catalunyaturisme.cat/wp-content/uploads/2_FlorsiVioles-.jpg
END:VEVENT
END:VCALENDAR