BEGIN:VCALENDAR
VERSION:2.0
PRODID:-//Catalunya Turisme - ECPv6.5.1.5//NONSGML v1.0//EN
CALSCALE:GREGORIAN
METHOD:PUBLISH
X-WR-CALNAME:Catalunya Turisme
X-ORIGINAL-URL:https://staging.catalunyaturisme.cat
X-WR-CALDESC:Events for Catalunya Turisme
REFRESH-INTERVAL;VALUE=DURATION:PT1H
X-Robots-Tag:noindex
X-PUBLISHED-TTL:PT1H
BEGIN:VTIMEZONE
TZID:Europe/Madrid
BEGIN:DAYLIGHT
TZOFFSETFROM:+0100
TZOFFSETTO:+0200
TZNAME:CEST
DTSTART:20240331T010000
END:DAYLIGHT
BEGIN:STANDARD
TZOFFSETFROM:+0200
TZOFFSETTO:+0100
TZNAME:CET
DTSTART:20241027T010000
END:STANDARD
END:VTIMEZONE
BEGIN:VEVENT
DTSTART;VALUE=DATE:20240126
DTEND;VALUE=DATE:20240520
DTSTAMP:20260421T004632
CREATED:20231229T114500Z
LAST-MODIFIED:20231229T114835Z
UID:10000071-1706227200-1716163199@staging.catalunyaturisme.cat
SUMMARY:Barnasants. Festival de cançó d'autor
DESCRIPTION:Barnsants és un festival de música que ofereix cançó d’autor en diferents espais i municipis dels territoris de parla catalana. En aquesta edició\, el seu cartell commemora el 50 aniversari de la Revolució dels Clavells i el centenari de Joan Salvat-Papasseit. \nEn el marc d’aquest festival es faran més de 120 actuacions que barregen autors emergents amb artistes més consolidats\, dels quals destaquen noms com Marc Parrot\, Renaldo & Clara o Clara Peya. \nBarnasants també organitza actuacions per tot Catalunya\, les Illes Balears\, el País Valencià\, on destaca la presència d’Albert Pla a Ondarra\, i l’Alguer. A més\, des de fa uns anys el festival proposa un país convidat\, que en aquesta ocasió és el Perú\, amb artistes peruans com a convidats.
URL:https://staging.catalunyaturisme.cat/esdeveniment/barnasants-festival-de-canco-dautor/
LOCATION:Diversos espais
CATEGORIES:Música
ATTACH;FMTTYPE=image/jpeg:https://staging.catalunyaturisme.cat/wp-content/uploads/c9c7f8c7-3835-41dd-b345-ffe1980541a6.jpeg
END:VEVENT
BEGIN:VEVENT
DTSTART;VALUE=DATE:20240308
DTEND;VALUE=DATE:20240310
DTSTAMP:20260421T004632
CREATED:20240220T104943Z
LAST-MODIFIED:20240220T104943Z
UID:10000214-1709856000-1710028799@staging.catalunyaturisme.cat
SUMMARY:Festival Zero a Tordera
DESCRIPTION:Arriba una nova edició del Festival Zero\, una iniciativa destacada per als espectacles de proximitat a Tordera. \nEl Teatre Clavé de Tordera\, a través del Festival Zero\, ofereix una programació d’espectacles centrada en la proximitat entre intèrprets i públic\, amb la finalitat de crear experiències quasi immersives. Aquesta programació també destaca per la seva aposta per les propostes no convencionals\, que es poden viure i gaudir des de diferents espais més enllà dels tradicionals seients de la sala.
URL:https://staging.catalunyaturisme.cat/esdeveniment/festival-zero-a-tordera/
LOCATION:Teatre Clavé
CATEGORIES:Música
ATTACH;FMTTYPE=image/jpeg:https://staging.catalunyaturisme.cat/wp-content/uploads/festival-zero-a-tordera.jpeg
END:VEVENT
BEGIN:VEVENT
DTSTART;VALUE=DATE:20240309
DTEND;VALUE=DATE:20240310
DTSTAMP:20260421T004632
CREATED:20231229T144537Z
LAST-MODIFIED:20231229T145054Z
UID:10000077-1709942400-1710028799@staging.catalunyaturisme.cat
SUMMARY:Cruïlla Baix Segre
DESCRIPTION:El Cruïlla Baix Segre – Festa de la floració ens farà viatjar pel paisatge efímer de la floració dels arbres fruiters a través de les catifes cromàtiques que hi naixen uns dies abans que comenci oficialment la primavera. \nPer primera vegada\, el Segrià acollirà aquest reconegut festival en la seva expansió pel territori\, i tindrà lloc el 9 de març de 2024. Els concerts estaran repartits per diverses poblacions de la comerca lleidetana com: Alcarràs\, Torres de Segre\, Soses\, Aitona\, Seròs\, Massalcoreig i La Granja d’Escarp. \nActuaran artistes com Stay Homas i Albert Pla. \nAquest nou format de festival de música coincidirà amb la “Festa de la floració”\, un esdeveniment natural\, cultural\, gastronòmic i agrícola que té lloc al Baix Segre i que celebra la floració d’arbres fruiters com els presseguers\, les nectarines o els paraguaios (o préssecs aixafats) i\, especialment\, l’espectacle de colors rosats que regalen al territori. \nA més\, també hi haurà espai per la degustació de l’oferta gastronòmica local i de proximitat d’aquesta part agrícola del Segrià\, envoltat amb la millor banda sonora de fons que farà del festival d’una experiència musical i cultural sense precedents. \nLes entrades tenen un preu de sortida de 15 €.
URL:https://staging.catalunyaturisme.cat/esdeveniment/cruilla-baix-segre/
CATEGORIES:Música
ATTACH;FMTTYPE=image/jpeg:https://staging.catalunyaturisme.cat/wp-content/uploads/unnamed-1.jpg
END:VEVENT
BEGIN:VEVENT
DTSTART;TZID=Europe/Madrid:20240316T190000
DTEND;TZID=Europe/Madrid:20240316T210000
DTSTAMP:20260421T004632
CREATED:20240112T100332Z
LAST-MODIFIED:20240112T100332Z
UID:10000085-1710615600-1710622800@staging.catalunyaturisme.cat
SUMMARY:JazzConcabella
DESCRIPTION:Un any més es celebra el Festival de Jazz del Castell de Concabella\, als Plans de Sió. Aquest festival de jazz\, que se celebra del gener al març\, ofereix un concert mensual en un entorn únic: el Castell de Concabella. A més a més\, enguany compta amb participació de referents del jazz. \nEl JazzConcabella és un festival acollidor i familiar\, que busca combinar la passió pel jazz amb la bellesa de la natura. Els concerts tenen lloc a les 7 de la tarda i les entrades es poden comprar a través del web del festival.
URL:https://staging.catalunyaturisme.cat/esdeveniment/jazzconcabella/2024-03-16/
LOCATION:Castell de Concabella
CATEGORIES:Música
ATTACH;FMTTYPE=image/jpeg:https://staging.catalunyaturisme.cat/wp-content/uploads/festival-de-jazz-de-concabella_page-0001-scaled.jpg
END:VEVENT
END:VCALENDAR