BEGIN:VCALENDAR
VERSION:2.0
PRODID:-//Catalunya Turisme - ECPv6.5.1.5//NONSGML v1.0//EN
CALSCALE:GREGORIAN
METHOD:PUBLISH
X-WR-CALNAME:Catalunya Turisme
X-ORIGINAL-URL:https://staging.catalunyaturisme.cat
X-WR-CALDESC:Events for Catalunya Turisme
REFRESH-INTERVAL;VALUE=DURATION:PT1H
X-Robots-Tag:noindex
X-PUBLISHED-TTL:PT1H
BEGIN:VTIMEZONE
TZID:Europe/Madrid
BEGIN:DAYLIGHT
TZOFFSETFROM:+0100
TZOFFSETTO:+0200
TZNAME:CEST
DTSTART:20250330T010000
END:DAYLIGHT
BEGIN:STANDARD
TZOFFSETFROM:+0200
TZOFFSETTO:+0100
TZNAME:CET
DTSTART:20251026T010000
END:STANDARD
END:VTIMEZONE
BEGIN:VEVENT
DTSTART;VALUE=DATE:20250801
DTEND;VALUE=DATE:20250802
DTSTAMP:20260419T191138
CREATED:20240716T100616Z
LAST-MODIFIED:20240722T094312Z
UID:10002178-1754006400-1754092799@staging.catalunyaturisme.cat
SUMMARY:Camins del Cava al Penedès i Alella
DESCRIPTION:Camins del cava és una proposta enoturística que combina passejades entre vinyes i visites a cellers amb la bona gastronomia de les regions del Penedès i Alella. Aquesta experiència us permet explorar els voltants de Sant Sadurní d’Anoia\, Vilafranca del Penedès i Alella\, ja sigui a peu o en bicicleta\, descobrint alhora els secrets del cava i la cultura vinícola local. \nEl projecte es basa en una xarxa de camins\, pistes i senders que ofereixen la llibertat de triar el recorregut segons les vostres preferències. Cada camí connecta diversos cellers\, facilitant l’accés d’un a l’altre\, amb informació detallada sobre els horaris d’obertura\, el temps necessari per recórrer cada tram i altres serveis d’interès. Podreu trobar dades sobre restaurants\, allotjaments\, botigues\, empreses de lloguer de bicicletes\, pàrquings i museus\, tot pensat per a enriquir la vostra visita. \nAquesta iniciativa és ideal per a aquells que volen viure una experiència única en un entorn excepcional\, ja sigui en parella\, amb amics o en família. Podreu gaudir del cava i de la gastronomia penedesenca al vostre ritme\, sense pressa i immersos en un paisatge incomparable. \nSi desitgeu més informació sobre les activitats i les dates exactes\, visiteu la pàgina web oficial de l’esdeveniment. \n 
URL:https://staging.catalunyaturisme.cat/esdeveniment/camins-del-cava-al-penedes-i-alella/2025-08-01/
CATEGORIES:Gastronomia
ATTACH;FMTTYPE=image/jpeg:https://staging.catalunyaturisme.cat/wp-content/uploads/descobreix-els-camins-del-cava.jpg
END:VEVENT
BEGIN:VEVENT
DTSTART;VALUE=DATE:20250802
DTEND;VALUE=DATE:20250803
DTSTAMP:20260419T191138
CREATED:20240716T100616Z
LAST-MODIFIED:20240722T094312Z
UID:10002179-1754092800-1754179199@staging.catalunyaturisme.cat
SUMMARY:Camins del Cava al Penedès i Alella
DESCRIPTION:Camins del cava és una proposta enoturística que combina passejades entre vinyes i visites a cellers amb la bona gastronomia de les regions del Penedès i Alella. Aquesta experiència us permet explorar els voltants de Sant Sadurní d’Anoia\, Vilafranca del Penedès i Alella\, ja sigui a peu o en bicicleta\, descobrint alhora els secrets del cava i la cultura vinícola local. \nEl projecte es basa en una xarxa de camins\, pistes i senders que ofereixen la llibertat de triar el recorregut segons les vostres preferències. Cada camí connecta diversos cellers\, facilitant l’accés d’un a l’altre\, amb informació detallada sobre els horaris d’obertura\, el temps necessari per recórrer cada tram i altres serveis d’interès. Podreu trobar dades sobre restaurants\, allotjaments\, botigues\, empreses de lloguer de bicicletes\, pàrquings i museus\, tot pensat per a enriquir la vostra visita. \nAquesta iniciativa és ideal per a aquells que volen viure una experiència única en un entorn excepcional\, ja sigui en parella\, amb amics o en família. Podreu gaudir del cava i de la gastronomia penedesenca al vostre ritme\, sense pressa i immersos en un paisatge incomparable. \nSi desitgeu més informació sobre les activitats i les dates exactes\, visiteu la pàgina web oficial de l’esdeveniment. \n 
URL:https://staging.catalunyaturisme.cat/esdeveniment/camins-del-cava-al-penedes-i-alella/2025-08-02/
CATEGORIES:Gastronomia
ATTACH;FMTTYPE=image/jpeg:https://staging.catalunyaturisme.cat/wp-content/uploads/descobreix-els-camins-del-cava.jpg
END:VEVENT
BEGIN:VEVENT
DTSTART;VALUE=DATE:20250803
DTEND;VALUE=DATE:20250804
DTSTAMP:20260419T191138
CREATED:20240716T100616Z
LAST-MODIFIED:20240722T094312Z
UID:10002180-1754179200-1754265599@staging.catalunyaturisme.cat
SUMMARY:Camins del Cava al Penedès i Alella
DESCRIPTION:Camins del cava és una proposta enoturística que combina passejades entre vinyes i visites a cellers amb la bona gastronomia de les regions del Penedès i Alella. Aquesta experiència us permet explorar els voltants de Sant Sadurní d’Anoia\, Vilafranca del Penedès i Alella\, ja sigui a peu o en bicicleta\, descobrint alhora els secrets del cava i la cultura vinícola local. \nEl projecte es basa en una xarxa de camins\, pistes i senders que ofereixen la llibertat de triar el recorregut segons les vostres preferències. Cada camí connecta diversos cellers\, facilitant l’accés d’un a l’altre\, amb informació detallada sobre els horaris d’obertura\, el temps necessari per recórrer cada tram i altres serveis d’interès. Podreu trobar dades sobre restaurants\, allotjaments\, botigues\, empreses de lloguer de bicicletes\, pàrquings i museus\, tot pensat per a enriquir la vostra visita. \nAquesta iniciativa és ideal per a aquells que volen viure una experiència única en un entorn excepcional\, ja sigui en parella\, amb amics o en família. Podreu gaudir del cava i de la gastronomia penedesenca al vostre ritme\, sense pressa i immersos en un paisatge incomparable. \nSi desitgeu més informació sobre les activitats i les dates exactes\, visiteu la pàgina web oficial de l’esdeveniment. \n 
URL:https://staging.catalunyaturisme.cat/esdeveniment/camins-del-cava-al-penedes-i-alella/2025-08-03/
CATEGORIES:Gastronomia
ATTACH;FMTTYPE=image/jpeg:https://staging.catalunyaturisme.cat/wp-content/uploads/descobreix-els-camins-del-cava.jpg
END:VEVENT
BEGIN:VEVENT
DTSTART;VALUE=DATE:20250804
DTEND;VALUE=DATE:20250805
DTSTAMP:20260419T191138
CREATED:20240716T100616Z
LAST-MODIFIED:20240722T094312Z
UID:10002181-1754265600-1754351999@staging.catalunyaturisme.cat
SUMMARY:Camins del Cava al Penedès i Alella
DESCRIPTION:Camins del cava és una proposta enoturística que combina passejades entre vinyes i visites a cellers amb la bona gastronomia de les regions del Penedès i Alella. Aquesta experiència us permet explorar els voltants de Sant Sadurní d’Anoia\, Vilafranca del Penedès i Alella\, ja sigui a peu o en bicicleta\, descobrint alhora els secrets del cava i la cultura vinícola local. \nEl projecte es basa en una xarxa de camins\, pistes i senders que ofereixen la llibertat de triar el recorregut segons les vostres preferències. Cada camí connecta diversos cellers\, facilitant l’accés d’un a l’altre\, amb informació detallada sobre els horaris d’obertura\, el temps necessari per recórrer cada tram i altres serveis d’interès. Podreu trobar dades sobre restaurants\, allotjaments\, botigues\, empreses de lloguer de bicicletes\, pàrquings i museus\, tot pensat per a enriquir la vostra visita. \nAquesta iniciativa és ideal per a aquells que volen viure una experiència única en un entorn excepcional\, ja sigui en parella\, amb amics o en família. Podreu gaudir del cava i de la gastronomia penedesenca al vostre ritme\, sense pressa i immersos en un paisatge incomparable. \nSi desitgeu més informació sobre les activitats i les dates exactes\, visiteu la pàgina web oficial de l’esdeveniment. \n 
URL:https://staging.catalunyaturisme.cat/esdeveniment/camins-del-cava-al-penedes-i-alella/2025-08-04/
CATEGORIES:Gastronomia
ATTACH;FMTTYPE=image/jpeg:https://staging.catalunyaturisme.cat/wp-content/uploads/descobreix-els-camins-del-cava.jpg
END:VEVENT
BEGIN:VEVENT
DTSTART;VALUE=DATE:20250805
DTEND;VALUE=DATE:20250806
DTSTAMP:20260419T191138
CREATED:20240716T100616Z
LAST-MODIFIED:20240722T094312Z
UID:10002182-1754352000-1754438399@staging.catalunyaturisme.cat
SUMMARY:Camins del Cava al Penedès i Alella
DESCRIPTION:Camins del cava és una proposta enoturística que combina passejades entre vinyes i visites a cellers amb la bona gastronomia de les regions del Penedès i Alella. Aquesta experiència us permet explorar els voltants de Sant Sadurní d’Anoia\, Vilafranca del Penedès i Alella\, ja sigui a peu o en bicicleta\, descobrint alhora els secrets del cava i la cultura vinícola local. \nEl projecte es basa en una xarxa de camins\, pistes i senders que ofereixen la llibertat de triar el recorregut segons les vostres preferències. Cada camí connecta diversos cellers\, facilitant l’accés d’un a l’altre\, amb informació detallada sobre els horaris d’obertura\, el temps necessari per recórrer cada tram i altres serveis d’interès. Podreu trobar dades sobre restaurants\, allotjaments\, botigues\, empreses de lloguer de bicicletes\, pàrquings i museus\, tot pensat per a enriquir la vostra visita. \nAquesta iniciativa és ideal per a aquells que volen viure una experiència única en un entorn excepcional\, ja sigui en parella\, amb amics o en família. Podreu gaudir del cava i de la gastronomia penedesenca al vostre ritme\, sense pressa i immersos en un paisatge incomparable. \nSi desitgeu més informació sobre les activitats i les dates exactes\, visiteu la pàgina web oficial de l’esdeveniment. \n 
URL:https://staging.catalunyaturisme.cat/esdeveniment/camins-del-cava-al-penedes-i-alella/2025-08-05/
CATEGORIES:Gastronomia
ATTACH;FMTTYPE=image/jpeg:https://staging.catalunyaturisme.cat/wp-content/uploads/descobreix-els-camins-del-cava.jpg
END:VEVENT
BEGIN:VEVENT
DTSTART;VALUE=DATE:20250806
DTEND;VALUE=DATE:20250807
DTSTAMP:20260419T191138
CREATED:20240716T100616Z
LAST-MODIFIED:20240722T094312Z
UID:10002183-1754438400-1754524799@staging.catalunyaturisme.cat
SUMMARY:Camins del Cava al Penedès i Alella
DESCRIPTION:Camins del cava és una proposta enoturística que combina passejades entre vinyes i visites a cellers amb la bona gastronomia de les regions del Penedès i Alella. Aquesta experiència us permet explorar els voltants de Sant Sadurní d’Anoia\, Vilafranca del Penedès i Alella\, ja sigui a peu o en bicicleta\, descobrint alhora els secrets del cava i la cultura vinícola local. \nEl projecte es basa en una xarxa de camins\, pistes i senders que ofereixen la llibertat de triar el recorregut segons les vostres preferències. Cada camí connecta diversos cellers\, facilitant l’accés d’un a l’altre\, amb informació detallada sobre els horaris d’obertura\, el temps necessari per recórrer cada tram i altres serveis d’interès. Podreu trobar dades sobre restaurants\, allotjaments\, botigues\, empreses de lloguer de bicicletes\, pàrquings i museus\, tot pensat per a enriquir la vostra visita. \nAquesta iniciativa és ideal per a aquells que volen viure una experiència única en un entorn excepcional\, ja sigui en parella\, amb amics o en família. Podreu gaudir del cava i de la gastronomia penedesenca al vostre ritme\, sense pressa i immersos en un paisatge incomparable. \nSi desitgeu més informació sobre les activitats i les dates exactes\, visiteu la pàgina web oficial de l’esdeveniment. \n 
URL:https://staging.catalunyaturisme.cat/esdeveniment/camins-del-cava-al-penedes-i-alella/2025-08-06/
CATEGORIES:Gastronomia
ATTACH;FMTTYPE=image/jpeg:https://staging.catalunyaturisme.cat/wp-content/uploads/descobreix-els-camins-del-cava.jpg
END:VEVENT
BEGIN:VEVENT
DTSTART;VALUE=DATE:20250807
DTEND;VALUE=DATE:20250808
DTSTAMP:20260419T191138
CREATED:20240716T100616Z
LAST-MODIFIED:20240722T094312Z
UID:10002184-1754524800-1754611199@staging.catalunyaturisme.cat
SUMMARY:Camins del Cava al Penedès i Alella
DESCRIPTION:Camins del cava és una proposta enoturística que combina passejades entre vinyes i visites a cellers amb la bona gastronomia de les regions del Penedès i Alella. Aquesta experiència us permet explorar els voltants de Sant Sadurní d’Anoia\, Vilafranca del Penedès i Alella\, ja sigui a peu o en bicicleta\, descobrint alhora els secrets del cava i la cultura vinícola local. \nEl projecte es basa en una xarxa de camins\, pistes i senders que ofereixen la llibertat de triar el recorregut segons les vostres preferències. Cada camí connecta diversos cellers\, facilitant l’accés d’un a l’altre\, amb informació detallada sobre els horaris d’obertura\, el temps necessari per recórrer cada tram i altres serveis d’interès. Podreu trobar dades sobre restaurants\, allotjaments\, botigues\, empreses de lloguer de bicicletes\, pàrquings i museus\, tot pensat per a enriquir la vostra visita. \nAquesta iniciativa és ideal per a aquells que volen viure una experiència única en un entorn excepcional\, ja sigui en parella\, amb amics o en família. Podreu gaudir del cava i de la gastronomia penedesenca al vostre ritme\, sense pressa i immersos en un paisatge incomparable. \nSi desitgeu més informació sobre les activitats i les dates exactes\, visiteu la pàgina web oficial de l’esdeveniment. \n 
URL:https://staging.catalunyaturisme.cat/esdeveniment/camins-del-cava-al-penedes-i-alella/2025-08-07/
CATEGORIES:Gastronomia
ATTACH;FMTTYPE=image/jpeg:https://staging.catalunyaturisme.cat/wp-content/uploads/descobreix-els-camins-del-cava.jpg
END:VEVENT
BEGIN:VEVENT
DTSTART;VALUE=DATE:20250808
DTEND;VALUE=DATE:20250809
DTSTAMP:20260419T191138
CREATED:20240716T100616Z
LAST-MODIFIED:20240722T094312Z
UID:10002185-1754611200-1754697599@staging.catalunyaturisme.cat
SUMMARY:Camins del Cava al Penedès i Alella
DESCRIPTION:Camins del cava és una proposta enoturística que combina passejades entre vinyes i visites a cellers amb la bona gastronomia de les regions del Penedès i Alella. Aquesta experiència us permet explorar els voltants de Sant Sadurní d’Anoia\, Vilafranca del Penedès i Alella\, ja sigui a peu o en bicicleta\, descobrint alhora els secrets del cava i la cultura vinícola local. \nEl projecte es basa en una xarxa de camins\, pistes i senders que ofereixen la llibertat de triar el recorregut segons les vostres preferències. Cada camí connecta diversos cellers\, facilitant l’accés d’un a l’altre\, amb informació detallada sobre els horaris d’obertura\, el temps necessari per recórrer cada tram i altres serveis d’interès. Podreu trobar dades sobre restaurants\, allotjaments\, botigues\, empreses de lloguer de bicicletes\, pàrquings i museus\, tot pensat per a enriquir la vostra visita. \nAquesta iniciativa és ideal per a aquells que volen viure una experiència única en un entorn excepcional\, ja sigui en parella\, amb amics o en família. Podreu gaudir del cava i de la gastronomia penedesenca al vostre ritme\, sense pressa i immersos en un paisatge incomparable. \nSi desitgeu més informació sobre les activitats i les dates exactes\, visiteu la pàgina web oficial de l’esdeveniment. \n 
URL:https://staging.catalunyaturisme.cat/esdeveniment/camins-del-cava-al-penedes-i-alella/2025-08-08/
CATEGORIES:Gastronomia
ATTACH;FMTTYPE=image/jpeg:https://staging.catalunyaturisme.cat/wp-content/uploads/descobreix-els-camins-del-cava.jpg
END:VEVENT
END:VCALENDAR