BEGIN:VCALENDAR
VERSION:2.0
PRODID:-//Catalunya Turisme - ECPv6.5.1.5//NONSGML v1.0//EN
CALSCALE:GREGORIAN
METHOD:PUBLISH
X-ORIGINAL-URL:https://staging.catalunyaturisme.cat
X-WR-CALDESC:Events for Catalunya Turisme
REFRESH-INTERVAL;VALUE=DURATION:PT1H
X-Robots-Tag:noindex
X-PUBLISHED-TTL:PT1H
BEGIN:VTIMEZONE

END:VTIMEZONE
BEGIN:VEVENT
DTSTART;VALUE=DATE:20260422
DTEND;VALUE=DATE:20240616
DTSTAMP:20260422T024601
CREATED:20240606T074226Z
LAST-MODIFIED:20240612T081640Z
UID:10000438-0-1718494200@staging.catalunyaturisme.cat
SUMMARY:Street Food Summer Llançà
DESCRIPTION:Arriba la 8a edició del Street Food Summer al Port de Llançà! A partir de les 19h30\, podràs gaudir d’una tarda a la vora del mar degustant delicioses tapes acompanyades dels vins de la DO Empordà i la Cervesa de Roses\, mentre gaudeixes de botigues\, concerts i copes. \nEn aquesta nova edició\, una àmplia gamma d’establiments participen oferint tapes de qualitat. A més\, es comptarà amb l’STREET SHOP\, on els comerços del municipi disposaran de zones de botiguetes al mateix espai de La Gola\, proporcionant una experiència de compres única. \nL’objectiu d’aquesta iniciativa és oferir una activitat innovadora per promocionar la gastronomia i el comerç local\, inaugurant la temporada alta turística. \nPer evitar cues\, es disposa d’un forfait especial que es pot adquirir anticipadament a les oficines de turisme de Llançà a partir del dissabte 3 de juny.
URL:https://staging.catalunyaturisme.cat/esdeveniment/street-food-summer-llanca/
LOCATION:Port de Llançà
CATEGORIES:Gastronomia
ATTACH;FMTTYPE=image/jpeg:https://staging.catalunyaturisme.cat/wp-content/uploads/street-food-summer-llanca.jpg
END:VEVENT
BEGIN:VEVENT
DTSTART;VALUE=DATE:20240524
DTEND;VALUE=DATE:20240610
DTSTAMP:20260422T024601
CREATED:20240511T113438Z
LAST-MODIFIED:20240511T113438Z
UID:10000410-1716508800-1717977599@staging.catalunyaturisme.cat
SUMMARY:Jornades Gastronòmiques del Romesco a Cambrils
DESCRIPTION:Aquest any\, prepareu-vos per embarcar-vos en una aventura culinària única a Cambrils amb les esperades Jornades Gastronòmiques del Romesco! \nDurant aquest període especial\, diversos restaurants de la zona ofereixen menús tancats on el romesco és l’estrella indiscutible. Aquesta salsa\, que es pot trobar en diverses varietats\, és un element fonamental de la cuina local\, especialment vinculada a la tradició marinera de Cambrils. \nEl romesco és increïblement versàtil i es pot gaudir en una gran varietat de plats\, des de carns a la graella fins a peixos frescos del mar. També és una excel·lent opció per acompanyar verdures\, patates i fins i tot arrossos\, oferint una experiència culinària única i plena de sabor. \nNo us perdeu l’oportunitat de descobrir i degustar les delícies del romesco a través d’aquestes jornades gastronòmiques a Cambrils. Us esperem per compartir una experiència culinària que us transportarà a les autèntiques tradicions de la cuina local.
URL:https://staging.catalunyaturisme.cat/esdeveniment/jornades-gastronomiques-del-romesco-a-cambrils/
CATEGORIES:Gastronomia
ATTACH;FMTTYPE=image/jpeg:https://staging.catalunyaturisme.cat/wp-content/uploads/jornades-gastronomiques-del-romesco-a-cambrils.jpg
END:VEVENT
BEGIN:VEVENT
DTSTART;VALUE=DATE:20240601
DTEND;VALUE=DATE:20240602
DTSTAMP:20260422T024601
CREATED:20240220T112111Z
LAST-MODIFIED:20240220T112111Z
UID:10000219-1717228800-1717261200@staging.catalunyaturisme.cat
SUMMARY:Tastets de formatge a Les Llosses
DESCRIPTION:Us convidem a endinsar-vos en l’univers dels formatges del Ripollès amb l’experiència “Som Formatgers“. El Ripollès és reconegut com a terra de formatges\, i aquesta iniciativa\, sorgida d’aquesta mateixa comarca\, té com a missió principal fomentar el consum de formatges catalans de primera qualitat i donar visibilitat al treball artesanal de les formatgeries locals. \nMitjançant els tastets de formatge que us proposem\, podreu explorar set formatgeries catalanes i deleitar-vos amb els seus productes en un entorn incomparable: una masia del Ripollès reconvertida en restaurant. Aquesta experiència gastronòmica és perfecta per a parelles\, famílies o grups d’amics que desitgin descobrir els secrets dels millors formatges de la regió. I per completar l’experiència\, teniu l’opció de gaudir d’un deliciós àpat al mateix restaurant. \nEl preu d’aquesta immersió sensorial varia segons la beguda escollida (aigua\, cervesa o vi).
URL:https://staging.catalunyaturisme.cat/esdeveniment/tastets-de-formatge-a-les-llosses/2024-06-01/
LOCATION:Restaurant Dachs
CATEGORIES:Fires,Gastronomia
ATTACH;FMTTYPE=image/jpeg:https://staging.catalunyaturisme.cat/wp-content/uploads/tastets-de-formatge-a-les-llosses.jpeg
ORGANIZER;CN="Tastets de formatge":MAILTO:info@tastetsdeformatge.cat
END:VEVENT
BEGIN:VEVENT
DTSTART;VALUE=DATE:20240606
DTEND;VALUE=DATE:20240607
DTSTAMP:20260422T024601
CREATED:20240511T115152Z
LAST-MODIFIED:20240511T115152Z
UID:10000417-1717660800-1717693200@staging.catalunyaturisme.cat
SUMMARY:La Gastronomia és Cultura a Sentmenat
DESCRIPTION:Celebra l’arribada de “La Gastronomia és Cultura” a Sentmenat! \nDurant 3 mesos\, no et perdis una varietat d’actes i activitats que reivindiquen i donen a conèixer la rica gastronomia de Sentmenat i els seus voltants. \nL’Ajuntament de Sentmenat ha preparat una programació especial aquesta primavera\, amb una sèrie d’activitats que posen en valor la relació entre la gastronomia i altres expressions artístiques. \nDes de fires i exposicions fins a tallers i tertúlies\, el municipi es converteix en un veritable centre de referència per a tots els amants de la gastronomia i la cultura. A través d’aquestes iniciatives\, descobrirem la història\, la tradició i els secrets culinaris que defineixen la identitat de Sentmenat i la seva gent. \nUs convidem a unir-vos a aquesta festa gastronòmica i cultural\, i a explorar tot el que “La Gastronomia és Cultura” té per oferir. És una oportunitat única per experimentar els sabors i els aromes que fan de Sentmenat un destí gastronòmic excepcional.
URL:https://staging.catalunyaturisme.cat/esdeveniment/la-gastronomia-es-cultura-a-sentmenat/2024-06-06/
CATEGORIES:Cinema,Gastronomia
ATTACH;FMTTYPE=image/jpeg:https://staging.catalunyaturisme.cat/wp-content/uploads/la-gastronomia-es-cultura-a-sentmenat.jpg
END:VEVENT
BEGIN:VEVENT
DTSTART;VALUE=DATE:20240612
DTEND;VALUE=DATE:20240613
DTSTAMP:20260422T024601
CREATED:20240606T073415Z
LAST-MODIFIED:20240606T073415Z
UID:10000431-1718150400-1718236799@staging.catalunyaturisme.cat
SUMMARY:Visita guiada a les vinyes del Baluard
DESCRIPTION:Visita guiada a les vinyes del Baluard amb tast de vins i productes del Montseny! \nAquesta visita permet conèixer el projecte de recuperació de la vinya al Montseny i el procés d’elaboració del vi Baluard. Situades a 750 metres d’altitud\, al cor del Parc Natural i reserva de la Biosfera del Montseny\, les vinyes de Can Rovira de Fogars són l’origen del Baluard. \nDesprés del recorregut per les vinyes\, s’oferirà un tast de vins\, incloent el Baluard i altres referències\, acompanyat de formatges\, embotits i pa amb tomàquet. \nAquesta activitat s’emmarca dins el “Cicle de Passejades Guiades” organitzat per l’Ajuntament de Sant Celoni.
URL:https://staging.catalunyaturisme.cat/esdeveniment/visita-guiada-a-les-vinyes-del-baluard/
LOCATION:Can Rovira de Fogars
CATEGORIES:Gastronomia
ATTACH;FMTTYPE=image/jpeg:https://staging.catalunyaturisme.cat/wp-content/uploads/vinya-baluard.jpg
END:VEVENT
BEGIN:VEVENT
DTSTART;VALUE=DATE:20240613
DTEND;VALUE=DATE:20240614
DTSTAMP:20260422T024601
CREATED:20231230T153147Z
LAST-MODIFIED:20240113T171106Z
UID:10000097-1718265600-1718298000@staging.catalunyaturisme.cat
SUMMARY:Cicle 'La ciència del vi' a Reus
DESCRIPTION:Cicle de conferències ‘La ciència del vi’ ofereix un recorregut per conèixer el vi des de diferents àmbits de la recerca\, des del conreu més ancestral de la vinya fins al procés tecnològic més innovador al celler. En cada glop de vi s’amaga no només molta recerca històrica\, també altres disciplines científiques que el converteixen en un producte viu\, únic i en evolució constant. \nCada xerrada ser al Castell del Cambrer de Reus i anirà acompanyada de dos tastos de vins DO Montsant. \nDe la mà d’investigadores\, investigadors i docents de la Universitat Rovira i Virgili\, aquest cicle pretén descobrir tot el que envolta el món del vi a través d’una passejada amb la ciència com a companya de viatge. Aquest és el programa: \n19 d’octubre: “El vi\, un plaer per als sentits”\, a càrrec de Toni Sánchez\, investigador del Departament de Bioquímica i Biotecnologia de la URV. \n23 de novembre: “La comunicació\, inevitable per sentir el vi”\, a càrrec de Ruth Troyano\, periodista i autora de la col·lecció de llibres Retrats de Vi (URV). \n14 de desembre: “El màrqueting del vi”\, a càrrec de Jaume Gené\, investigador del Departament de Gestió d’Empreses de la URV. \n18 de gener: “De la vinya al celler”\, a càrrec de Míriam Lampreave\, investigadora del Departament de Bioquímica i Biotecnologia de la URV. \n22 de febrer: “Els orígens de la producció i el consum a la península Ibèrica”\, a càrrec de Jordi Diloli\, investigador del Departament d’Història i Història de l’Art de la URV. \n21 de març: “El vi i la salut: mites i realitats”\, a càrrec d’Anna Borrull\, investigadora del Departament de Bioquímica i Biotecnologia de la URV. \n18 d’abril: “Les catedrals del vi”\, a càrrec de Ramon Arnabat\, investigador del Departament d’Història i Història de l’Art de la URV\, i Cèlia Mallafré\, professora de l’Escola Tècnica Superior d’Arquitectura de la URV. \n16 de maig: “Vins i maridatges”\, a càrrec de Sumpta Mateos\, investigadora del Departament de Bioquímica i Biotecnologia de la URV.”Vins i maridatges”\, “Vins i maridatges”. \n13 de juny: “Què hem heredat de grecs i romans?”\, a càrrec de Joaquín Ruiz de Arbulo\, investigador del Departament d’Història i Història de l’Art de la URV.
URL:https://staging.catalunyaturisme.cat/esdeveniment/cicle-la-ciencia-del-vi-a-reus/2024-06-13/
LOCATION:URV Reus
CATEGORIES:Gastronomia
ATTACH;FMTTYPE=image/jpeg:https://staging.catalunyaturisme.cat/wp-content/uploads/la-ciencia-del-vi.jpg
END:VEVENT
BEGIN:VEVENT
DTSTART;VALUE=DATE:20240614
DTEND;VALUE=DATE:20240701
DTSTAMP:20260422T024601
CREATED:20240610T113432Z
LAST-MODIFIED:20240610T113432Z
UID:10000486-1718323200-1719791999@staging.catalunyaturisme.cat
SUMMARY:Gastrotour de Salou
DESCRIPTION:Un any més\, torna el Gastrotour de Salou! \nEn aquesta edició\, podràs viatjar a través dels sabors del món sencer\, amb una àmplia varietat de tapes que et sorprendran amb la seva singularitat i autenticitat. \nEl Gastrotour és una experiència gastronòmica excepcional inspirada en la cuina mediterrània i internacional. Aquest esdeveniment\, promogut per l’Ajuntament de Salou a través de la regidoria de Promoció Econòmica i l’Associació de Comerciants i Empresaris de Salou\, amb el suport de l’Associació Hotelera de Salou-Cambrils-La Pineda i el patrocini de Cervesa San Miguel\, va iniciar-se l’any 2012 i s’ha convertit des de llavors en una cita imprescindible al calendari gastronòmic local. No et perdis aquest viatge culinari ple de sabor i diversitat!
URL:https://staging.catalunyaturisme.cat/esdeveniment/gastrotour-de-salou/
CATEGORIES:Gastronomia
ATTACH;FMTTYPE=image/jpeg:https://staging.catalunyaturisme.cat/wp-content/uploads/gastrotour-salou.jpg
END:VEVENT
BEGIN:VEVENT
DTSTART;VALUE=DATE:20240615
DTEND;VALUE=DATE:20240616
DTSTAMP:20260422T024601
CREATED:20240610T093412Z
LAST-MODIFIED:20240610T093510Z
UID:10000466-1718409600-1718495999@staging.catalunyaturisme.cat
SUMMARY:XII Festa del Xarel·lo a la vora del mar a Cunit
DESCRIPTION:Cunit celebra una nova edició de La Xarel·lada\, una festa única dedicada al Xarel·lo\, la varietat vinícola emblemàtica del Penedès. En aquest esdeveniment\, els visitants podran gaudir d’una selecció exclusiva de vins Xarel·lo i tapes elaborades pels restaurants locals\, tot en un escenari idíl·lic a la vora del mar. A més de les degustacions\, hi haurà ponències impartides per experts del sector\, que abordaran les característiques i els secrets d’aquest vi excepcional. \nLa Festa del Xarel·lo va néixer el 2013 de la mà de la sommelier cunitenca Carme Garcia\, en col·laboració amb l’Ajuntament de Cunit\, té com a principal objectiu destacar la riquesa enològica del territori\, posant en valor el Xarel·lo i la seva importància en la regió del Penedès. El tast i la mostra de vins tindran lloc al Passeig Marítim\, brindant als participants una experiència única en un entorn costaner incomparable. Amb el seu reconegut equilibri i caràcter\, tant en els vins joves com en els més vells\, el Xarel·lo reflecteix l’autenticitat i la tradició vinícola catalana\, convertint La Xarel·lada en una celebració de la cultura del vi del Penedès.
URL:https://staging.catalunyaturisme.cat/esdeveniment/xii-festa-del-xarello-a-la-vora-del-mar-a-cunit/
LOCATION:Passeig Marítim\, Cunit\, Tarragona\, Espanya
CATEGORIES:Cultura,Gastronomia
ATTACH;FMTTYPE=image/jpeg:https://staging.catalunyaturisme.cat/wp-content/uploads/la-xarellada-a-cunit.jpg
ORGANIZER;CN="Ajuntament de Cunit":MAILTO:ajuntament@cunit.cat
END:VEVENT
BEGIN:VEVENT
DTSTART;VALUE=DATE:20240615
DTEND;VALUE=DATE:20240616
DTSTAMP:20260422T024601
CREATED:20240511T115152Z
LAST-MODIFIED:20240511T115152Z
UID:10000418-1718438400-1718470800@staging.catalunyaturisme.cat
SUMMARY:La Gastronomia és Cultura a Sentmenat
DESCRIPTION:Celebra l’arribada de “La Gastronomia és Cultura” a Sentmenat! \nDurant 3 mesos\, no et perdis una varietat d’actes i activitats que reivindiquen i donen a conèixer la rica gastronomia de Sentmenat i els seus voltants. \nL’Ajuntament de Sentmenat ha preparat una programació especial aquesta primavera\, amb una sèrie d’activitats que posen en valor la relació entre la gastronomia i altres expressions artístiques. \nDes de fires i exposicions fins a tallers i tertúlies\, el municipi es converteix en un veritable centre de referència per a tots els amants de la gastronomia i la cultura. A través d’aquestes iniciatives\, descobrirem la història\, la tradició i els secrets culinaris que defineixen la identitat de Sentmenat i la seva gent. \nUs convidem a unir-vos a aquesta festa gastronòmica i cultural\, i a explorar tot el que “La Gastronomia és Cultura” té per oferir. És una oportunitat única per experimentar els sabors i els aromes que fan de Sentmenat un destí gastronòmic excepcional.
URL:https://staging.catalunyaturisme.cat/esdeveniment/la-gastronomia-es-cultura-a-sentmenat/2024-06-15/
CATEGORIES:Cinema,Gastronomia
ATTACH;FMTTYPE=image/jpeg:https://staging.catalunyaturisme.cat/wp-content/uploads/la-gastronomia-es-cultura-a-sentmenat.jpg
END:VEVENT
BEGIN:VEVENT
DTSTART;VALUE=DATE:20240620
DTEND;VALUE=DATE:20240621
DTSTAMP:20260422T024601
CREATED:20240511T115152Z
LAST-MODIFIED:20240511T115152Z
UID:10000419-1718870400-1718902800@staging.catalunyaturisme.cat
SUMMARY:La Gastronomia és Cultura a Sentmenat
DESCRIPTION:Celebra l’arribada de “La Gastronomia és Cultura” a Sentmenat! \nDurant 3 mesos\, no et perdis una varietat d’actes i activitats que reivindiquen i donen a conèixer la rica gastronomia de Sentmenat i els seus voltants. \nL’Ajuntament de Sentmenat ha preparat una programació especial aquesta primavera\, amb una sèrie d’activitats que posen en valor la relació entre la gastronomia i altres expressions artístiques. \nDes de fires i exposicions fins a tallers i tertúlies\, el municipi es converteix en un veritable centre de referència per a tots els amants de la gastronomia i la cultura. A través d’aquestes iniciatives\, descobrirem la història\, la tradició i els secrets culinaris que defineixen la identitat de Sentmenat i la seva gent. \nUs convidem a unir-vos a aquesta festa gastronòmica i cultural\, i a explorar tot el que “La Gastronomia és Cultura” té per oferir. És una oportunitat única per experimentar els sabors i els aromes que fan de Sentmenat un destí gastronòmic excepcional.
URL:https://staging.catalunyaturisme.cat/esdeveniment/la-gastronomia-es-cultura-a-sentmenat/2024-06-20/
CATEGORIES:Cinema,Gastronomia
ATTACH;FMTTYPE=image/jpeg:https://staging.catalunyaturisme.cat/wp-content/uploads/la-gastronomia-es-cultura-a-sentmenat.jpg
END:VEVENT
BEGIN:VEVENT
DTSTART;VALUE=DATE:20240622
DTEND;VALUE=DATE:20240701
DTSTAMP:20260422T024601
CREATED:20240610T102521Z
LAST-MODIFIED:20240610T102548Z
UID:10000485-1719014400-1719791999@staging.catalunyaturisme.cat
SUMMARY:Escuracassoles al Masnou
DESCRIPTION:Descobreix l’Escuracassoles\, un itinerari enogastronòmic que et convida a explorar una àmplia gamma d’establiments al Masnou\, oferint una experiència gastronòmica única acompanyada de vins de la DO Alella o vermut masnoví. \n\n\n\n\n\n\n\n\n\n\nEls participants poden degustar una gran varietat de plats i postres de l’Escuracassoles i votar els seus preferits mitjançant una butlleta disponible a cada establiment. Aquesta votació permet avaluar aspectes com la presentació\, el maridatge\, la relació qualitat-preu i la proposta en general. \nAquesta mostra gastronòmica és una iniciativa conjunta de l’Ajuntament del Masnou i el Consorci de Promoció Enoturística del Territori DO Alella (Enoturisme DO Alella)\, amb la participació dels restauradors i pastissers locals. No et perdis aquesta oportunitat de descobrir el millor de la gastronomia masnovina amb un toc enològic de qualitat.
URL:https://staging.catalunyaturisme.cat/esdeveniment/escuracassoles-al-masnou/
CATEGORIES:Gastronomia
ATTACH;FMTTYPE=image/jpeg:https://staging.catalunyaturisme.cat/wp-content/uploads/lescuracassoles-a-el-masnou.jpg
END:VEVENT
BEGIN:VEVENT
DTSTART;VALUE=DATE:20240629
DTEND;VALUE=DATE:20240630
DTSTAMP:20260422T024601
CREATED:20240511T115152Z
LAST-MODIFIED:20240511T115152Z
UID:10000420-1719648000-1719680400@staging.catalunyaturisme.cat
SUMMARY:La Gastronomia és Cultura a Sentmenat
DESCRIPTION:Celebra l’arribada de “La Gastronomia és Cultura” a Sentmenat! \nDurant 3 mesos\, no et perdis una varietat d’actes i activitats que reivindiquen i donen a conèixer la rica gastronomia de Sentmenat i els seus voltants. \nL’Ajuntament de Sentmenat ha preparat una programació especial aquesta primavera\, amb una sèrie d’activitats que posen en valor la relació entre la gastronomia i altres expressions artístiques. \nDes de fires i exposicions fins a tallers i tertúlies\, el municipi es converteix en un veritable centre de referència per a tots els amants de la gastronomia i la cultura. A través d’aquestes iniciatives\, descobrirem la història\, la tradició i els secrets culinaris que defineixen la identitat de Sentmenat i la seva gent. \nUs convidem a unir-vos a aquesta festa gastronòmica i cultural\, i a explorar tot el que “La Gastronomia és Cultura” té per oferir. És una oportunitat única per experimentar els sabors i els aromes que fan de Sentmenat un destí gastronòmic excepcional.
URL:https://staging.catalunyaturisme.cat/esdeveniment/la-gastronomia-es-cultura-a-sentmenat/2024-06-29/
CATEGORIES:Cinema,Gastronomia
ATTACH;FMTTYPE=image/jpeg:https://staging.catalunyaturisme.cat/wp-content/uploads/la-gastronomia-es-cultura-a-sentmenat.jpg
END:VEVENT
END:VCALENDAR