BEGIN:VCALENDAR
VERSION:2.0
PRODID:-//Catalunya Turisme - ECPv6.5.1.5//NONSGML v1.0//EN
CALSCALE:GREGORIAN
METHOD:PUBLISH
X-WR-CALNAME:Catalunya Turisme
X-ORIGINAL-URL:https://staging.catalunyaturisme.cat
X-WR-CALDESC:Events for Catalunya Turisme
REFRESH-INTERVAL;VALUE=DURATION:PT1H
X-Robots-Tag:noindex
X-PUBLISHED-TTL:PT1H
BEGIN:VTIMEZONE

END:VTIMEZONE
BEGIN:VEVENT
DTSTART;VALUE=DATE:20260422
DTEND;VALUE=DATE:20240616
DTSTAMP:20260422T090315
CREATED:20240606T074226Z
LAST-MODIFIED:20240612T081640Z
UID:10000438-0-1718494200@staging.catalunyaturisme.cat
SUMMARY:Street Food Summer Llançà
DESCRIPTION:Arriba la 8a edició del Street Food Summer al Port de Llançà! A partir de les 19h30\, podràs gaudir d’una tarda a la vora del mar degustant delicioses tapes acompanyades dels vins de la DO Empordà i la Cervesa de Roses\, mentre gaudeixes de botigues\, concerts i copes. \nEn aquesta nova edició\, una àmplia gamma d’establiments participen oferint tapes de qualitat. A més\, es comptarà amb l’STREET SHOP\, on els comerços del municipi disposaran de zones de botiguetes al mateix espai de La Gola\, proporcionant una experiència de compres única. \nL’objectiu d’aquesta iniciativa és oferir una activitat innovadora per promocionar la gastronomia i el comerç local\, inaugurant la temporada alta turística. \nPer evitar cues\, es disposa d’un forfait especial que es pot adquirir anticipadament a les oficines de turisme de Llançà a partir del dissabte 3 de juny.
URL:https://staging.catalunyaturisme.cat/esdeveniment/street-food-summer-llanca/
LOCATION:Port de Llançà
CATEGORIES:Gastronomia
ATTACH;FMTTYPE=image/jpeg:https://staging.catalunyaturisme.cat/wp-content/uploads/street-food-summer-llanca.jpg
END:VEVENT
BEGIN:VEVENT
DTSTART;TZID=Europe/Madrid:20240201T210000
DTEND;TZID=Europe/Madrid:20240204T133000
DTSTAMP:20260422T090315
CREATED:20240129T123702Z
LAST-MODIFIED:20240129T123702Z
UID:10000174-1706821200-1707053400@staging.catalunyaturisme.cat
SUMMARY:Trufforum 2024
DESCRIPTION:Un any més\, Vic\, la capital de la trufa negra de Catalunya\, acull el Trufforum\, una trobada anual internacional del sector de la tòfona. L’objectiu d’aquesta trobada és promocionar l’ús responsable de la tòfona europea a les cuines domèstiques i professionals. \nDurant quatre dies\, es realitzen diverses activitats relacionades amb la trufa\, com ara mercats\, exposicions\, xarrades\, tallers infantils i també sessions de cuina amb degustació. \nL’accés a la fira és gratuït\, però algunes activitats\, com ara les sessions de cuina amb degustació\, requereixen l’adquisició d’una entrada. \nEl Trufforum és una oportunitat única per a tots aquells que volen aprendre més sobre la trufa i la seva cuina. És una trobada que aplega a professionals del sector\, aficionats a la trufa i a aquells que simplement volen gaudir d’una experiència única.
URL:https://staging.catalunyaturisme.cat/esdeveniment/trufforum-2024/
LOCATION:Recinte ferial El Sucre\, Vic\, Espanya
CATEGORIES:Fires,Gastronomia
ATTACH;FMTTYPE=image/jpeg:https://staging.catalunyaturisme.cat/wp-content/uploads/trufa_2.jpeg
END:VEVENT
BEGIN:VEVENT
DTSTART;TZID=Europe/Madrid:20240204T140000
DTEND;TZID=Europe/Madrid:20240204T170000
DTSTAMP:20260422T090315
CREATED:20240130T093800Z
LAST-MODIFIED:20240130T093800Z
UID:10000179-1707055200-1707066000@staging.catalunyaturisme.cat
SUMMARY:Calçotada popular a Sant Julià de Ramis
DESCRIPTION:Un any més\, Sant Julià de Ramis celebra una Calçotada popular\, on podràs menjar calçots\, botifarra\, postres\, aigua i molt més. També hi ha un menú infantil disponible. \nLes calçotades són una experiència única i perfecta per gaudir de la gastronòmica catalana. \nCal comprar tiquet amb anticipació.
URL:https://staging.catalunyaturisme.cat/esdeveniment/calcotada-popular-a-sant-julia-de-ramis/
LOCATION:Centre Cívic Sant Julià
CATEGORIES:Gastronomia
ATTACH;FMTTYPE=image/jpeg:https://staging.catalunyaturisme.cat/wp-content/uploads/calcotada-de-sant-julia-de-ramis.jpeg
END:VEVENT
BEGIN:VEVENT
DTSTART;VALUE=DATE:20240222
DTEND;VALUE=DATE:20240226
DTSTAMP:20260422T090315
CREATED:20240219T115739Z
LAST-MODIFIED:20240219T115739Z
UID:10000200-1708560000-1708905599@staging.catalunyaturisme.cat
SUMMARY:Ruta dels platerets de la carxofa a Amposta
DESCRIPTION:La carxofa\, reina indiscutible de la gastronomia d’Amposta\, torna a ser la protagonista amb la nova edició de la Ruta dels Platerets. Una cita irresistible per a amants dels sabors autèntics i les experiències culinàries úniques. \nDegusta la carxofa com mai abans! Els bars i restaurants participants et sorprendran amb la seva creativitat\, oferint-te platerets elaborats amb les tècniques més originals. Confitada\, farcida\, amb foie o pernil\, acompanyant un ou\, en forma de ravioli o croqueta… les possibilitats són infinites! \nUn plaer accessible per a tothom. Cada plateret tindrà un preu de quatre euros\, que inclourà una beguda a escollir pel local. \nParticipa i guanya! Vota per la teva tapa preferida després de degustar almenys tres d’elles i entraràs en el sorteig d’un àpat per a dues persones en un dels restaurants participants. A més\, la tapa més votada serà la imatge del cartell de la propera edició.
URL:https://staging.catalunyaturisme.cat/esdeveniment/ruta-dels-platerets-de-la-carxofa-a-amposta/
LOCATION:Amposta\, Recinte Firal 1 d’octubre situat al C. Sebastià Juan Arbó\, 1
CATEGORIES:Cultura,Gastronomia
ATTACH;FMTTYPE=image/jpeg:https://staging.catalunyaturisme.cat/wp-content/uploads/carxofa-1768416_1280.jpg
END:VEVENT
BEGIN:VEVENT
DTSTART;VALUE=DATE:20240222
DTEND;VALUE=DATE:20240223
DTSTAMP:20260422T090315
CREATED:20231230T153147Z
LAST-MODIFIED:20240113T171106Z
UID:10000093-1708588800-1708621200@staging.catalunyaturisme.cat
SUMMARY:Cicle 'La ciència del vi' a Reus
DESCRIPTION:Cicle de conferències ‘La ciència del vi’ ofereix un recorregut per conèixer el vi des de diferents àmbits de la recerca\, des del conreu més ancestral de la vinya fins al procés tecnològic més innovador al celler. En cada glop de vi s’amaga no només molta recerca històrica\, també altres disciplines científiques que el converteixen en un producte viu\, únic i en evolució constant. \nCada xerrada ser al Castell del Cambrer de Reus i anirà acompanyada de dos tastos de vins DO Montsant. \nDe la mà d’investigadores\, investigadors i docents de la Universitat Rovira i Virgili\, aquest cicle pretén descobrir tot el que envolta el món del vi a través d’una passejada amb la ciència com a companya de viatge. Aquest és el programa: \n19 d’octubre: “El vi\, un plaer per als sentits”\, a càrrec de Toni Sánchez\, investigador del Departament de Bioquímica i Biotecnologia de la URV. \n23 de novembre: “La comunicació\, inevitable per sentir el vi”\, a càrrec de Ruth Troyano\, periodista i autora de la col·lecció de llibres Retrats de Vi (URV). \n14 de desembre: “El màrqueting del vi”\, a càrrec de Jaume Gené\, investigador del Departament de Gestió d’Empreses de la URV. \n18 de gener: “De la vinya al celler”\, a càrrec de Míriam Lampreave\, investigadora del Departament de Bioquímica i Biotecnologia de la URV. \n22 de febrer: “Els orígens de la producció i el consum a la península Ibèrica”\, a càrrec de Jordi Diloli\, investigador del Departament d’Història i Història de l’Art de la URV. \n21 de març: “El vi i la salut: mites i realitats”\, a càrrec d’Anna Borrull\, investigadora del Departament de Bioquímica i Biotecnologia de la URV. \n18 d’abril: “Les catedrals del vi”\, a càrrec de Ramon Arnabat\, investigador del Departament d’Història i Història de l’Art de la URV\, i Cèlia Mallafré\, professora de l’Escola Tècnica Superior d’Arquitectura de la URV. \n16 de maig: “Vins i maridatges”\, a càrrec de Sumpta Mateos\, investigadora del Departament de Bioquímica i Biotecnologia de la URV.”Vins i maridatges”\, “Vins i maridatges”. \n13 de juny: “Què hem heredat de grecs i romans?”\, a càrrec de Joaquín Ruiz de Arbulo\, investigador del Departament d’Història i Història de l’Art de la URV.
URL:https://staging.catalunyaturisme.cat/esdeveniment/cicle-la-ciencia-del-vi-a-reus/2024-02-22/
LOCATION:URV Reus
CATEGORIES:Gastronomia
ATTACH;FMTTYPE=image/jpeg:https://staging.catalunyaturisme.cat/wp-content/uploads/la-ciencia-del-vi.jpg
END:VEVENT
BEGIN:VEVENT
DTSTART;VALUE=DATE:20240223
DTEND;VALUE=DATE:20240224
DTSTAMP:20260422T090315
CREATED:20240219T111437Z
LAST-MODIFIED:20240219T111437Z
UID:10000198-1708646400-1708732799@staging.catalunyaturisme.cat
SUMMARY:Xatonada popular a Cubelles
DESCRIPTION:Un any més\, torna la Xatonada popular de Cubelles. Un esdeveniment per a tots els públics\, on podràs gaudir d’una de les salses més emblemàtiques de la regió: el xató. \nEl xató\, una variant del romesco\, te conquerirà amb la seva combinació de nyora\, pa torrat\, ametlles\, avellanes\, all\, oli i sal. Una recepta que\, com a bon tresor culinari\, guarda secrets i variants a cada poble. \nA Cubelles\, la tradició del xató està arrelada a la festa d’aixetonar\, moment en què se celebrava el primer vi de la temporada. Un ritual que convertia l’elaboració del xató en un acte social i festiu. \nA la Xatonada Popular\, petits i grans podran participar en el Concurs de Mestres Xatonaires\, demostrar les seves habilitats culinàries i gaudir d’un dia ple de sabor. Una jornada per descobrir la cultura gastronòmica catalana\, compartir experiències i degustar els millors xatons de la zona.
URL:https://staging.catalunyaturisme.cat/esdeveniment/xatonada-popular-a-cubelles/
LOCATION:Plaça de la Vila\, Cubells\, Espanya
CATEGORIES:Cultura,Gastronomia
ATTACH;FMTTYPE=image/jpeg:https://staging.catalunyaturisme.cat/wp-content/uploads/xatonada-popular-a-cubelles_page-0001.jpg
END:VEVENT
BEGIN:VEVENT
DTSTART;VALUE=DATE:20240225
DTEND;VALUE=DATE:20240226
DTSTAMP:20260422T090315
CREATED:20240219T113148Z
LAST-MODIFIED:20240219T113148Z
UID:10000199-1708819200-1708905599@staging.catalunyaturisme.cat
SUMMARY:Festa de l'Arròs i la Carxofa a Amposta
DESCRIPTION:Amposta s’engalana per a una nova edició de la Festa de l’Arròs i la Carxofa\, un homenatge a dos productes emblemàtics del territori que es fusionen en una explosió de sabor. \nLa carxofa\, amb la seva textura cruixent i un gust delicat\, ofereix un infinit univers de possibilitats culinàries. L’arròs\, amb la seva Denominació d’Origen Protegida\, és un dels tresors gastronòmics més preuats de la regió. \nAquesta festa és una oda a la cuina tradicional d’Amposta\, arrelada a la història i al pas del temps. Durant la celebració\, els restaurants participants oferiran una selecció de plats exquisits elaborats amb carxofa i arròs\, demostrant la versatilitat i la riquesa d’aquests dos ingredients. \nA més de la degustació gastronòmica\, la Festa de l’Arròs i la Carxofa comptarà amb un programa d’activitats per a tots els públics: \n\nActivitats infantils: tallers\, jocs i animació per a la diversió dels més petits.\nMúsica en directe: un ambient festiu amenitzat per artistes locals.\nDemostracions de cuina: xefs reconeguts compartiran els seus secrets culinaris en directe.\nMercat de productes de proximitat i artesania: una oportunitat única per a descobrir i adquirir productes autèntics de la zona.
URL:https://staging.catalunyaturisme.cat/esdeveniment/festa-de-larros-i-la-carxofa-a-amposta/
LOCATION:Pavelló 1 d’Octubre\, Avinguda Sebastià Juan Arbó\, Amposta\, Espanya
CATEGORIES:Gastronomia
ATTACH;FMTTYPE=image/jpeg:https://staging.catalunyaturisme.cat/wp-content/uploads/festa-carxofa-amposta-2024-p.jpeg
END:VEVENT
END:VCALENDAR