BEGIN:VCALENDAR
VERSION:2.0
PRODID:-//Catalunya Turisme - ECPv6.5.1.5//NONSGML v1.0//EN
CALSCALE:GREGORIAN
METHOD:PUBLISH
X-WR-CALNAME:Catalunya Turisme
X-ORIGINAL-URL:https://staging.catalunyaturisme.cat
X-WR-CALDESC:Events for Catalunya Turisme
REFRESH-INTERVAL;VALUE=DURATION:PT1H
X-Robots-Tag:noindex
X-PUBLISHED-TTL:PT1H
BEGIN:VTIMEZONE

END:VTIMEZONE
BEGIN:VEVENT
DTSTART;VALUE=DATE:20260422
DTEND;VALUE=DATE:20240616
DTSTAMP:20260422T103727
CREATED:20240606T074226Z
LAST-MODIFIED:20240612T081640Z
UID:10000438-0-1718494200@staging.catalunyaturisme.cat
SUMMARY:Street Food Summer Llançà
DESCRIPTION:Arriba la 8a edició del Street Food Summer al Port de Llançà! A partir de les 19h30\, podràs gaudir d’una tarda a la vora del mar degustant delicioses tapes acompanyades dels vins de la DO Empordà i la Cervesa de Roses\, mentre gaudeixes de botigues\, concerts i copes. \nEn aquesta nova edició\, una àmplia gamma d’establiments participen oferint tapes de qualitat. A més\, es comptarà amb l’STREET SHOP\, on els comerços del municipi disposaran de zones de botiguetes al mateix espai de La Gola\, proporcionant una experiència de compres única. \nL’objectiu d’aquesta iniciativa és oferir una activitat innovadora per promocionar la gastronomia i el comerç local\, inaugurant la temporada alta turística. \nPer evitar cues\, es disposa d’un forfait especial que es pot adquirir anticipadament a les oficines de turisme de Llançà a partir del dissabte 3 de juny.
URL:https://staging.catalunyaturisme.cat/esdeveniment/street-food-summer-llanca/
LOCATION:Port de Llançà
CATEGORIES:Gastronomia
ATTACH;FMTTYPE=image/jpeg:https://staging.catalunyaturisme.cat/wp-content/uploads/street-food-summer-llanca.jpg
END:VEVENT
BEGIN:VEVENT
DTSTART;VALUE=DATE:20240118
DTEND;VALUE=DATE:20240119
DTSTAMP:20260422T103727
CREATED:20231230T153147Z
LAST-MODIFIED:20240113T171106Z
UID:10000092-1705564800-1705597200@staging.catalunyaturisme.cat
SUMMARY:Cicle 'La ciència del vi' a Reus
DESCRIPTION:Cicle de conferències ‘La ciència del vi’ ofereix un recorregut per conèixer el vi des de diferents àmbits de la recerca\, des del conreu més ancestral de la vinya fins al procés tecnològic més innovador al celler. En cada glop de vi s’amaga no només molta recerca històrica\, també altres disciplines científiques que el converteixen en un producte viu\, únic i en evolució constant. \nCada xerrada ser al Castell del Cambrer de Reus i anirà acompanyada de dos tastos de vins DO Montsant. \nDe la mà d’investigadores\, investigadors i docents de la Universitat Rovira i Virgili\, aquest cicle pretén descobrir tot el que envolta el món del vi a través d’una passejada amb la ciència com a companya de viatge. Aquest és el programa: \n19 d’octubre: “El vi\, un plaer per als sentits”\, a càrrec de Toni Sánchez\, investigador del Departament de Bioquímica i Biotecnologia de la URV. \n23 de novembre: “La comunicació\, inevitable per sentir el vi”\, a càrrec de Ruth Troyano\, periodista i autora de la col·lecció de llibres Retrats de Vi (URV). \n14 de desembre: “El màrqueting del vi”\, a càrrec de Jaume Gené\, investigador del Departament de Gestió d’Empreses de la URV. \n18 de gener: “De la vinya al celler”\, a càrrec de Míriam Lampreave\, investigadora del Departament de Bioquímica i Biotecnologia de la URV. \n22 de febrer: “Els orígens de la producció i el consum a la península Ibèrica”\, a càrrec de Jordi Diloli\, investigador del Departament d’Història i Història de l’Art de la URV. \n21 de març: “El vi i la salut: mites i realitats”\, a càrrec d’Anna Borrull\, investigadora del Departament de Bioquímica i Biotecnologia de la URV. \n18 d’abril: “Les catedrals del vi”\, a càrrec de Ramon Arnabat\, investigador del Departament d’Història i Història de l’Art de la URV\, i Cèlia Mallafré\, professora de l’Escola Tècnica Superior d’Arquitectura de la URV. \n16 de maig: “Vins i maridatges”\, a càrrec de Sumpta Mateos\, investigadora del Departament de Bioquímica i Biotecnologia de la URV.”Vins i maridatges”\, “Vins i maridatges”. \n13 de juny: “Què hem heredat de grecs i romans?”\, a càrrec de Joaquín Ruiz de Arbulo\, investigador del Departament d’Història i Història de l’Art de la URV.
URL:https://staging.catalunyaturisme.cat/esdeveniment/cicle-la-ciencia-del-vi-a-reus/2024-01-18/
LOCATION:URV Reus
CATEGORIES:Gastronomia
ATTACH;FMTTYPE=image/jpeg:https://staging.catalunyaturisme.cat/wp-content/uploads/la-ciencia-del-vi.jpg
END:VEVENT
BEGIN:VEVENT
DTSTART;VALUE=DATE:20240127
DTEND;VALUE=DATE:20240128
DTSTAMP:20260422T103727
CREATED:20231229T110752Z
LAST-MODIFIED:20240122T160005Z
UID:10000063-1706313600-1706399999@staging.catalunyaturisme.cat
SUMMARY:Els sabors de l'oli. L'or líquid de la Plana a Santa Bàrbara
DESCRIPTION:Tercera edició de l’experiència turística per Santa Bàrbara i les planes del Montsià per conèixer la cultura tradicional vinculada a les oliveres i a l’oli: els orígens\, el procés i l’elaboració de l’oli d’oliva a la Plana del Montsià\, en la jornada ‘Tasta la cultura de l’Ebre: Els sabors de l’oli\, l’or líquid de la Plana’ del 18 al 17 de gener. \nAquest producte ha estat un dels elements més importants de Santa Bàrbara i ha caracteritzat\, en especial des del s. XVIII\, els canvis socials\, culturals i comercials de la localitat i les poblacions veïnes de l’interior del Montsià i Baix Ebre. \nDurant el recorregut\, es podran visitar diferents espais\, on es descriuen les tècniques agrícoles i els camps de conreu originats a partir de la colonització agrícola en època moderna\, fins a les instal·lacions on s’elabora i es distribueix aquest bé tan preuat i\, finalment\, en podreu degustar les diferents varietats d’oli que es produeixen a Santa Bàrbara.
URL:https://staging.catalunyaturisme.cat/esdeveniment/els-sabors-de-loli-lor-liquid-de-la-plana-a-santa-barbara/
LOCATION:Centre d’Interpretació de la Vida a la Plana i Cooperativa Agrícola del Camp de Santa Bàrbara
CATEGORIES:Gastronomia
ATTACH;FMTTYPE=image/jpeg:https://staging.catalunyaturisme.cat/wp-content/uploads/els-sabors-de-loli.jpg
END:VEVENT
END:VCALENDAR