BEGIN:VCALENDAR
VERSION:2.0
PRODID:-//Catalunya Turisme - ECPv6.5.1.5//NONSGML v1.0//EN
CALSCALE:GREGORIAN
METHOD:PUBLISH
X-ORIGINAL-URL:https://staging.catalunyaturisme.cat
X-WR-CALDESC:Events for Catalunya Turisme
REFRESH-INTERVAL;VALUE=DURATION:PT1H
X-Robots-Tag:noindex
X-PUBLISHED-TTL:PT1H
BEGIN:VTIMEZONE

END:VTIMEZONE
BEGIN:VEVENT
DTSTART;VALUE=DATE:20260423
DTEND;VALUE=DATE:20240616
DTSTAMP:20260423T003048
CREATED:20240606T074226Z
LAST-MODIFIED:20240612T081640Z
UID:10000438-0-1718494200@staging.catalunyaturisme.cat
SUMMARY:Street Food Summer Llançà
DESCRIPTION:Arriba la 8a edició del Street Food Summer al Port de Llançà! A partir de les 19h30\, podràs gaudir d’una tarda a la vora del mar degustant delicioses tapes acompanyades dels vins de la DO Empordà i la Cervesa de Roses\, mentre gaudeixes de botigues\, concerts i copes. \nEn aquesta nova edició\, una àmplia gamma d’establiments participen oferint tapes de qualitat. A més\, es comptarà amb l’STREET SHOP\, on els comerços del municipi disposaran de zones de botiguetes al mateix espai de La Gola\, proporcionant una experiència de compres única. \nL’objectiu d’aquesta iniciativa és oferir una activitat innovadora per promocionar la gastronomia i el comerç local\, inaugurant la temporada alta turística. \nPer evitar cues\, es disposa d’un forfait especial que es pot adquirir anticipadament a les oficines de turisme de Llançà a partir del dissabte 3 de juny.
URL:https://staging.catalunyaturisme.cat/esdeveniment/street-food-summer-llanca/
LOCATION:Port de Llançà
CATEGORIES:Gastronomia
ATTACH;FMTTYPE=image/jpeg:https://staging.catalunyaturisme.cat/wp-content/uploads/street-food-summer-llanca.jpg
END:VEVENT
END:VCALENDAR