BEGIN:VCALENDAR
VERSION:2.0
PRODID:-//Catalunya Turisme - ECPv6.5.1.5//NONSGML v1.0//EN
CALSCALE:GREGORIAN
METHOD:PUBLISH
X-ORIGINAL-URL:https://staging.catalunyaturisme.cat
X-WR-CALDESC:Events for Catalunya Turisme
REFRESH-INTERVAL;VALUE=DURATION:PT1H
X-Robots-Tag:noindex
X-PUBLISHED-TTL:PT1H
BEGIN:VTIMEZONE
TZID:Europe/Madrid
BEGIN:DAYLIGHT
TZOFFSETFROM:+0100
TZOFFSETTO:+0200
TZNAME:CEST
DTSTART:20240331T010000
END:DAYLIGHT
BEGIN:STANDARD
TZOFFSETFROM:+0200
TZOFFSETTO:+0100
TZNAME:CET
DTSTART:20241027T010000
END:STANDARD
END:VTIMEZONE
BEGIN:VEVENT
DTSTART;VALUE=DATE:20241129
DTEND;VALUE=DATE:20241202
DTSTAMP:20260421T232433
CREATED:20241111T172728Z
LAST-MODIFIED:20241111T172728Z
UID:10003773-1732838400-1733097599@staging.catalunyaturisme.cat
SUMMARY:Fira Avícola de la Raça Prat
DESCRIPTION:Benvinguts a la Fira Avícola de la Raça Prat\, l’esdeveniment on podràs gaudir d’una experiència única amb els productes més autèntics del Prat de Llobregat. T’hi esperen el famós pollastre Pota Blava i la deliciosa Carxofa Prat\, reconeguts per la seva qualitat i sabor. A més de tastar aquests productes\, tindràs l’oportunitat d’adquirir-los per gaudir-ne a casa. \nEl Pota Blava\, criat amb cura a l’aire lliure i amb una alimentació natural\, ofereix una carn amb una textura i gust incomparables. A la fira\, podràs veure de prop com es cria i conèixer els secrets d’aquest producte local únic. A més\, en l’ampli espai de la Granja de La Ricarda\, una antiga granja lletera\, els criadors i pagesos compartiran amb tu els seus coneixements\, apropant-te als valors i tradicions de la zona en un entorn de més de 19.000 m². \nA la Fira\, també hi haurà activitats infantils i familiars\, així com la presència d’entitats i associacions locals que presentaran les seves iniciatives.
URL:https://staging.catalunyaturisme.cat/esdeveniment/fira-avicola-de-la-raca-prat-2/
CATEGORIES:Fires
ATTACH;FMTTYPE=image/jpeg:https://staging.catalunyaturisme.cat/wp-content/uploads/fira-avicola-de-la-raca-prat.jpeg
END:VEVENT
BEGIN:VEVENT
DTSTART;VALUE=DATE:20241130
DTEND;VALUE=DATE:20241202
DTSTAMP:20260421T232433
CREATED:20241111T172016Z
LAST-MODIFIED:20241111T172016Z
UID:10003771-1732924800-1733097599@staging.catalunyaturisme.cat
SUMMARY:Fira Playmobil i LEGO a Guissona
DESCRIPTION:Guissona es prepara per acollir una de les fires més esperades per amants dels Playmobil i LEGO. La Fira Playmobil i LEGO\, que tindrà lloc al Pavelló 11 de setembre\, és l’ocasió perfecta per gaudir d’una gran exposició de diorames temàtics\, on els petits detalls i la creativitat són protagonistes. Aquesta trobada és una oportunitat única perquè col·leccionistes i aficionats puguin admirar creacions\, intercanviar peces\, figures i accessoris\, i conèixer altres fans d’aquesta afició que ha conquerit generacions. \nDurant l’esdeveniment\, el Museu de Guissona també serà punt clau de la fira\, on podreu descobrir un diorama romà especialment creat per a l’ocasió. A més\, el museu organitza una divertida gimcana Playmobil\, ideal per gaudir en família. Per completar l’experiència\, l’eix comercial de Guissona amaga sorpreses: un concurs del click amagat\, on els visitants podran participar tot recorrent les botigues locals a la recerca de figures amagades. \nAquesta edició de la fira ve acompanyada de novetats emocionants\, ja que també se celebrarà la Fira Robòtica a l’espai La Llavor\, una exhibició centrada en la intel·ligència artificial i les noves tecnologies. Aquest espai ofereix una perspectiva innovadora sobre el món de la robòtica\, amb activitats pensades per a un públic ampli i especialment atractives per a aquells interessats en la tecnologia més avançada.
URL:https://staging.catalunyaturisme.cat/esdeveniment/fira-playmobil-i-lego-a-guissona/
LOCATION:Guissona\, Guissiona\, Catalunya\, Espanya
CATEGORIES:Fires
ATTACH;FMTTYPE=image/jpeg:https://staging.catalunyaturisme.cat/wp-content/uploads/fira-playmobil-i-lego-a-guissona.jpg
END:VEVENT
BEGIN:VEVENT
DTSTART;VALUE=DATE:20241130
DTEND;VALUE=DATE:20241202
DTSTAMP:20260421T232433
CREATED:20241111T174540Z
LAST-MODIFIED:20241111T174550Z
UID:10003775-1732924800-1733097599@staging.catalunyaturisme.cat
SUMMARY:Fira de Santa Llúcia de Canyelles
DESCRIPTION:Benvinguts a la Fira de Santa Llúcia de Canyelles\, un dels esdeveniments nadalencs més esperats del Garraf\, on podràs viure la màgia de Nadal en cada racó del poble. Aquesta fira és molt més que un mercat; és una tradició viva\, creada amb la il·lusió de tots els veïns i veïnes de Canyelles\, que durant aquests dies comparteixen l’esperit nadalenc amb tothom que els visita. \nA la fira\, trobaràs parades de decoracions\, artesanies\, regals i productes típics de la temporada\, així com espais dedicats a la gastronomia local. No et perdis l’escudella calenta\, perfecta per combatre el fred mentre passeges entre els llums i els adorns que engalanen els carrers. La fira ofereix també una gran varietat d’activitats per a tots els públics: tallers per als més petits\, actuacions musicals en directe i exhibicions tradicionals que omplen els carrers d’ambient festiu. Els infants podran gaudir de la visita del Pare Noël\, el Patge Vibó i de l’emoció de picar el tió\, una experiència única que omple de màgia i alegria els més menuts. \nAquesta fira transforma cada racó del poble en un escenari nadalenc: arbres de Nadal\, pessebres i llums que brillen arreu\, creant una atmosfera que convida a somiar.
URL:https://staging.catalunyaturisme.cat/esdeveniment/fira-de-santa-llucia-de-canyelles/
LOCATION:Canyelles\, Canyelles\, Barcelona\, 08811\, Espanya
CATEGORIES:Fires
ATTACH;FMTTYPE=image/jpeg:https://staging.catalunyaturisme.cat/wp-content/uploads/fira-de-santa-llucia-de-canyelles.jpg
END:VEVENT
BEGIN:VEVENT
DTSTART;VALUE=DATE:20241206
DTEND;VALUE=DATE:20241207
DTSTAMP:20260421T232433
CREATED:20241111T193154Z
LAST-MODIFIED:20241111T193154Z
UID:10003808-1733472000-1733504400@staging.catalunyaturisme.cat
SUMMARY:La Visita dels Flamencs a MónNatura Delta de l'Ebre
DESCRIPTION:Aquesta experiència única ofereix una mirada propera als flamencs\, els ocells més simbòlics del Delta de l’Ebre. Durant una hora\, podreu descobrir aspectes fascinants d’aquestes majestuoses aus\, com la seva anatomia\, hàbits alimentaris i els detalls menys coneguts de la seva vida quotidiana. L’activitat es realitza al Mirador 360º\, un espai exclusiu al Delta equipat amb telescopis per observar-los en directe i gaudir d’una experiència inoblidable. \nAmb el seu elegant plomatge rosa\, els flamencs són un dels majors atractius del delta. Aquesta activitat\, ideal per a tot tipus de públic\, permet observar aquests bells ocells en el seu hàbitat natural\, mentre s’aprèn sobre la seva alimentació i el seu comportament. És una oportunitat perfecta per entendre com s’alimenten i com es mouen en les aigües salobres del Delta\, aportant una visió completa de la vida d’aquestes aus aquàtiques. \nLa visita és en català i es recomana fer reserva prèvia\, i en el cas de grups\, es pot sol·licitar en horaris convinguts a info@monnaturadelta.com.
URL:https://staging.catalunyaturisme.cat/esdeveniment/la-visita-dels-flamencs-a-monnatura-delta-de-lebre/2024-12-06/
CATEGORIES:Fires
ATTACH;FMTTYPE=image/jpeg:https://staging.catalunyaturisme.cat/wp-content/uploads/la-visita-dels-flamencs-a-monnatura-delta-de-l-ebre.jpg
END:VEVENT
BEGIN:VEVENT
DTSTART;VALUE=DATE:20241207
DTEND;VALUE=DATE:20241208
DTSTAMP:20260421T232433
CREATED:20241111T193154Z
LAST-MODIFIED:20241111T193154Z
UID:10003809-1733529600-1733615999@staging.catalunyaturisme.cat
SUMMARY:La Visita dels Flamencs a MónNatura Delta de l'Ebre
DESCRIPTION:Aquesta experiència única ofereix una mirada propera als flamencs\, els ocells més simbòlics del Delta de l’Ebre. Durant una hora\, podreu descobrir aspectes fascinants d’aquestes majestuoses aus\, com la seva anatomia\, hàbits alimentaris i els detalls menys coneguts de la seva vida quotidiana. L’activitat es realitza al Mirador 360º\, un espai exclusiu al Delta equipat amb telescopis per observar-los en directe i gaudir d’una experiència inoblidable. \nAmb el seu elegant plomatge rosa\, els flamencs són un dels majors atractius del delta. Aquesta activitat\, ideal per a tot tipus de públic\, permet observar aquests bells ocells en el seu hàbitat natural\, mentre s’aprèn sobre la seva alimentació i el seu comportament. És una oportunitat perfecta per entendre com s’alimenten i com es mouen en les aigües salobres del Delta\, aportant una visió completa de la vida d’aquestes aus aquàtiques. \nLa visita és en català i es recomana fer reserva prèvia\, i en el cas de grups\, es pot sol·licitar en horaris convinguts a info@monnaturadelta.com.
URL:https://staging.catalunyaturisme.cat/esdeveniment/la-visita-dels-flamencs-a-monnatura-delta-de-lebre/2024-12-07/
CATEGORIES:Fires
ATTACH;FMTTYPE=image/jpeg:https://staging.catalunyaturisme.cat/wp-content/uploads/la-visita-dels-flamencs-a-monnatura-delta-de-l-ebre.jpg
END:VEVENT
END:VCALENDAR