BEGIN:VCALENDAR
VERSION:2.0
PRODID:-//Catalunya Turisme - ECPv6.5.1.5//NONSGML v1.0//EN
CALSCALE:GREGORIAN
METHOD:PUBLISH
X-ORIGINAL-URL:https://staging.catalunyaturisme.cat
X-WR-CALDESC:Events for Catalunya Turisme
REFRESH-INTERVAL;VALUE=DURATION:PT1H
X-Robots-Tag:noindex
X-PUBLISHED-TTL:PT1H
BEGIN:VTIMEZONE
TZID:Europe/Madrid
BEGIN:DAYLIGHT
TZOFFSETFROM:+0100
TZOFFSETTO:+0200
TZNAME:CEST
DTSTART:20240331T010000
END:DAYLIGHT
BEGIN:STANDARD
TZOFFSETFROM:+0200
TZOFFSETTO:+0100
TZNAME:CET
DTSTART:20241027T010000
END:STANDARD
END:VTIMEZONE
BEGIN:VEVENT
DTSTART;VALUE=DATE:20240809
DTEND;VALUE=DATE:20240812
DTSTAMP:20260422T052402
CREATED:20240809T181644Z
LAST-MODIFIED:20240809T181644Z
UID:10003368-1723161600-1723420799@staging.catalunyaturisme.cat
SUMMARY:Mercadal del Comte Guifré
DESCRIPTION:El Mercadal del Comte Guifré a Ripoll és una de les cites anuals més esperades de la comarca\, on la història i la cultura medieval prenen vida al cor d’aquesta vila emblemàtica. Aquest esdeveniment ofereix una oportunitat única per submergir-se en l’atmosfera de l’edat mitjana\, celebrant la figura del comte Guifré el Pilós\, un dels personatges clau en la història de Catalunya. \nEl centre històric de Ripoll es transforma completament durant els dies del mercat\, esdevenint un autèntic escenari medieval. Les activitats són variades i per a tots els gustos: des de tallers i mostres d’oficis tradicionals\, fins a tavernes on degustar especialitats de l’època\, passant per un campament medieval que transporta els visitants a segles passats. La música\, el teatre i les danses al carrer omplen d’animació els carrers\, creant una experiència immersiva que fa sentir part de la història a tothom qui hi participa. \nA més d’aquestes activitats\, el Mercadal ofereix jocs per a infants\, concerts i espectacles que completen un programa ric i divers
URL:https://staging.catalunyaturisme.cat/esdeveniment/mercadal-del-comte-guifre/
LOCATION:Ripoll
CATEGORIES:Fires
ATTACH;FMTTYPE=image/jpeg:https://staging.catalunyaturisme.cat/wp-content/uploads/mercadal-del-comte-guifre-a-ripoll-2.jpg
END:VEVENT
BEGIN:VEVENT
DTSTART;VALUE=DATE:20240809
DTEND;VALUE=DATE:20240812
DTSTAMP:20260422T052402
CREATED:20240809T182241Z
LAST-MODIFIED:20240809T182241Z
UID:10003370-1723161600-1723420799@staging.catalunyaturisme.cat
SUMMARY:Fira de Sant Llorenç i Fira de l'Avellana a Riudoms
DESCRIPTION:Riudoms s’engalana per celebrar una nova edició de la Fira de Sant Llorenç i la Fira de l’Avellana\, un esdeveniment que combina tradició\, gastronomia i activitats per a tota la família. Durant aquest cap de setmana\, el poble es converteix en un autèntic centre de trobada per a amants de l’avellana i de la cultura local\, oferint una experiència única que no us podeu perdre. \nLa Fira de l’Avellana és el lloc perfecte per degustar i adquirir una gran varietat de productes derivats d’aquest fruit sec tan preuat. Entre les parades\, trobareu cremes\, olis i altres delícies locals\, que posen en valor la qualitat de l’avellana de la comarca. Els visitants tenen l’oportunitat de conèixer de prop el procés d’elaboració d’aquests productes\, així com de parlar amb els productors locals que comparteixen la seva passió i saviesa sobre aquest ingredient tan arrelat al territori. \nA més de les delícies gastronòmiques\, la Fira de Sant Llorenç ofereix un programa variat d’activitats culturals i esportives. Concerts\, espectacles\, i altres propostes d’oci converteixen la fira en una festa popular que atrau tant a famílies com a visitants d’arreu\, fomentant la participació activa de la comunitat. \nRiudoms\, un poble conegut pel seu paisatge d’avellaners\, és l’escenari ideal per a aquesta celebració. Situat al Baix Camp\, a pocs quilòmetres de Reus\, Riudoms ofereix un entorn acollidor i una rica tradició agrícola que es reflecteix en cada detall d’aquesta fira tan especial.
URL:https://staging.catalunyaturisme.cat/esdeveniment/fira-de-sant-llorenc-i-fira-de-lavellana-a-riudoms/
LOCATION:Riudoms\, Riudoms\, Espanya
CATEGORIES:Fires
ATTACH;FMTTYPE=image/jpeg:https://staging.catalunyaturisme.cat/wp-content/uploads/fira-de-sant-llorenc-i-fira-de-l-avellana-a-riudoms.jpg
END:VEVENT
BEGIN:VEVENT
DTSTART;VALUE=DATE:20240816
DTEND;VALUE=DATE:20240817
DTSTAMP:20260422T052402
CREATED:20240610T145256Z
LAST-MODIFIED:20240610T145256Z
UID:10000689-1723766400-1723852799@staging.catalunyaturisme.cat
SUMMARY:87a Fira del Cop d'Ull
DESCRIPTION:Cada Dilluns de Pasqua i el 16 d’agost\, no et perdis la Fira del Cop d’Ull al passeig Dalmau de Banyoles. Aquesta mostra és l’ocasió perfecta per comprar\, vendre i intercanviar objectes de col·leccionisme de tot tipus. \nLa Fira del Cop d’Ull és una gran oportunitat per conèixer la cultura i les tradicions locals de Banyoles\, tot gaudint d’un ambient festiu i alegre. Col·leccionistes i entusiastes de la història podran trobar objectes únics com monedes\, segells\, llibres antics\, joguines\, mobles\, joies\, art i altres peces de valor històric i cultural. \nOrganitzada per la secció de Filatèlia i Numismàtica del Centre Excursionista de Banyoles\, aquesta fira és una cita ineludible per als amants del col·leccionisme i la història.
URL:https://staging.catalunyaturisme.cat/esdeveniment/87a-fira-del-cop-dull/
LOCATION:Passeig Dalmau\, Banyoles\, Espanya
CATEGORIES:Fires
ATTACH;FMTTYPE=image/jpeg:https://staging.catalunyaturisme.cat/wp-content/uploads/fira-cop-ull-a-banyoles.jpg
ORGANIZER;CN="Ajuntament de Banyoles":MAILTO:oac@ajbanyoles.org
END:VEVENT
BEGIN:VEVENT
DTSTART;VALUE=DATE:20240824
DTEND;VALUE=DATE:20240826
DTSTAMP:20260422T052402
CREATED:20240822T174004Z
LAST-MODIFIED:20240822T191115Z
UID:10003379-1724457600-1724630399@staging.catalunyaturisme.cat
SUMMARY:Fira del Formatge de Pastor de Taüll
DESCRIPTION:La Fira del Formatge de Pastor de Taüll és un esdeveniment anual que es celebra a finals d’agost a Taüll\, un encantador poble situat a la Vall de Boí. Aquesta fira està dedicada a la promoció dels formatges artesans elaborats per pastors i pastores dels Països Catalans\, destacant aquells que utilitzen la llet del propi ramat pasturat a la zona. \nOrganitzada per l’Ajuntament de la Vall de Boí en col·laboració amb l’Associació de pastors i pastores formatgers\, la fira no només ofereix una àmplia varietat de formatges\, sinó que també inclou parades amb altres productes artesans i agroalimentaris locals. Els visitants tenen l’oportunitat de conèixer de prop els processos tradicionals d’elaboració del formatge i adquirir productes de gran qualitat directament dels productors. \nUn dels punts forts de l’esdeveniment són les xerrades programades\, on els formatgers comparteixen les seves històries personals\, experiències i detalls dels seus projectes. Aquestes sessions permeten entendre millor la dedicació i l’esforç que hi ha darrere de cada formatge\, a més de valorar el segell distintiu que certifica els productes elaborats seguint aquestes pràctiques tradicionals.
URL:https://staging.catalunyaturisme.cat/esdeveniment/fira-del-formatge-de-pastor-de-taull/
LOCATION:Taull\, Taull\, Espanya
CATEGORIES:Fires
ATTACH;FMTTYPE=image/jpeg:https://staging.catalunyaturisme.cat/wp-content/uploads/fira-del-formatge-de-taull.jpg
END:VEVENT
BEGIN:VEVENT
DTSTART;VALUE=DATE:20240824
DTEND;VALUE=DATE:20240826
DTSTAMP:20260422T052402
CREATED:20240822T181900Z
LAST-MODIFIED:20240822T181900Z
UID:10003389-1724457600-1724630399@staging.catalunyaturisme.cat
SUMMARY:Fireta de la Llana a Castellar de n'Hug
DESCRIPTION:La Fireta de la Llana\, que se celebra a Castellar de n’Hug\, és una cita anual que posa en valor la riquesa de la llana i els seus artesans\, tot destacant la importància de custodiar el territori a través d’aquesta tradició mil·lenària. Aquest esdeveniment és una oportunitat única per als habitants i visitants d’immersar-se en l’univers de la llana\, descobrint tant el procés de producció com els productes derivats d’aquest material. \nDurant la Fireta\, els assistents podreu participar en diversos tallers pràctics on aprendreu habilitats com el teixit i el filat\, així com altres tècniques tradicionals que han passat de generació en generació. A més\, podreu gaudir de demostracions en viu que mostren el treball artesanal amb la llana\, des de la seva extracció fins a la seva transformació en productes finals. Aquestes activitats no només permeten conèixer de prop l’artesania local\, sinó que també ofereixen una experiència interactiva i educativa per a totes les edats.
URL:https://staging.catalunyaturisme.cat/esdeveniment/fireta-de-la-llana-a-castellar-de-nhug/
LOCATION:Castellar de n’Hug\, Castellar de n'Hug\, 08696\, Espanya
CATEGORIES:Fires
ATTACH;FMTTYPE=image/jpeg:https://staging.catalunyaturisme.cat/wp-content/uploads/fireta-dartesans-de-la-llana-a-castellar-de-nhug.jpg
END:VEVENT
BEGIN:VEVENT
DTSTART;VALUE=DATE:20240830
DTEND;VALUE=DATE:20240902
DTSTAMP:20260422T052402
CREATED:20240824T155353Z
LAST-MODIFIED:20240824T155917Z
UID:10003423-1724976000-1725235199@staging.catalunyaturisme.cat
SUMMARY:Fira del Gran Boc a Cervera
DESCRIPTION:La Fira del Gran Boc és un esdeveniment únic que se celebra a Cervera\, a la comarca de la Segarra\, dedicat al fascinant món de l’esoterisme\, la màgia i les tradicions misterioses. Aquesta fira\, que atrau visitants de tot arreu\, és el lloc ideal per a aquells que volen submergir-se en l’univers dels secrets ocults i les pràctiques esotèriques. \nDurant la fira\, els carrers i espais de Cervera es transformen en un mercat ple de vida\, amb més de 90 parades que ofereixen una àmplia gamma de productes artesanals\, articles de màgia\, amulets\, pedres i elements rituals. A més\, podreu trobar professionals de disciplines esotèriques que us oferiran serveis com lectures de tarot\, astrologia\, reiki\, entre altres teràpies alternatives. \nLa programació inclou nombroses activitats que captiven tant a grans com a petits. Entre elles\, destaquen les conferències i tallers impartits per experts en temes esotèrics\, on podreu aprendre sobre diferents aspectes del món de la màgia i el misteri. També hi haurà actuacions en viu de música i dansa\, així com espectacles de màgia que donaran un toc especial a la fira. \nAquest esdeveniment es realitza en el marc de la festa de l’Aquelarre de Cervera\, la qual cosa contribueix a crear una atmosfera única i mística. Amb una àmplia oferta d’activitats i productes\, la Fira del Gran Boc s’ha consolidat com una cita ineludible en el calendari de fires esotèriques de Catalunya\, oferint una experiència enriquidora i plena de màgia en un entorn autèntic i històric.
URL:https://staging.catalunyaturisme.cat/esdeveniment/fira-del-gran-boc/
CATEGORIES:Fires
ATTACH;FMTTYPE=image/jpeg:https://staging.catalunyaturisme.cat/wp-content/uploads/fira-boc-cervera-3-1.jpg
END:VEVENT
BEGIN:VEVENT
DTSTART;VALUE=DATE:20240830
DTEND;VALUE=DATE:20240902
DTSTAMP:20260422T052402
CREATED:20240824T161022Z
LAST-MODIFIED:20240824T161023Z
UID:10003427-1724976000-1725235199@staging.catalunyaturisme.cat
SUMMARY:Besalú Medieval
DESCRIPTION:Besalú Medieval és un esdeveniment anual que transforma aquest pintoresc poble de la Garrotxa en un autèntic escenari de l’edat mitjana. Durant un cap de setmana\, els carrers empedrats de Besalú s’omplen d’activitats que recreen la vida i els costums medievals amb gran detall i autenticitat. \nEls visitants poden passejar per un mercat medieval ple de paradetes d’artesania\, productes locals i gastronomia tradicional\, on es poden descobrir sabors i aromes d’altres temps. A més\, la fira ofereix un ampli ventall d’espectacles\, amb música i dansa medieval\, tornejos de cavallers i representacions teatrals que captiven a petits i grans. També podreu gaudir de demostracions d’antics oficis com els de ferrers\, teixidors i ceramistes\, i fins i tot participar en tallers interactius que permeten viure de primera mà l’experiència d’aquella època. \nCelebrada en un entorn tan emblemàtic com és Besalú\, amb el seu famós pont romànic i el seu ric patrimoni històric\, la fira es converteix en una oportunitat única per submergir-se en el passat.
URL:https://staging.catalunyaturisme.cat/esdeveniment/besalu-medieval/
LOCATION:Besalu\, Besalú\, Espanya
CATEGORIES:Fires
ATTACH;FMTTYPE=image/jpeg:https://staging.catalunyaturisme.cat/wp-content/uploads/besalu-festa.jpg
END:VEVENT
END:VCALENDAR