BEGIN:VCALENDAR
VERSION:2.0
PRODID:-//Catalunya Turisme - ECPv6.5.1.5//NONSGML v1.0//EN
CALSCALE:GREGORIAN
METHOD:PUBLISH
X-WR-CALNAME:Catalunya Turisme
X-ORIGINAL-URL:https://staging.catalunyaturisme.cat
X-WR-CALDESC:Events for Catalunya Turisme
REFRESH-INTERVAL;VALUE=DURATION:PT1H
X-Robots-Tag:noindex
X-PUBLISHED-TTL:PT1H
BEGIN:VTIMEZONE
TZID:Europe/Madrid
BEGIN:DAYLIGHT
TZOFFSETFROM:+0100
TZOFFSETTO:+0200
TZNAME:CEST
DTSTART:20240331T010000
END:DAYLIGHT
BEGIN:STANDARD
TZOFFSETFROM:+0200
TZOFFSETTO:+0100
TZNAME:CET
DTSTART:20241027T010000
END:STANDARD
END:VTIMEZONE
BEGIN:VEVENT
DTSTART;VALUE=DATE:20240601
DTEND;VALUE=DATE:20240602
DTSTAMP:20260422T084655
CREATED:20240220T112111Z
LAST-MODIFIED:20240220T112111Z
UID:10000219-1717228800-1717261200@staging.catalunyaturisme.cat
SUMMARY:Tastets de formatge a Les Llosses
DESCRIPTION:Us convidem a endinsar-vos en l’univers dels formatges del Ripollès amb l’experiència “Som Formatgers“. El Ripollès és reconegut com a terra de formatges\, i aquesta iniciativa\, sorgida d’aquesta mateixa comarca\, té com a missió principal fomentar el consum de formatges catalans de primera qualitat i donar visibilitat al treball artesanal de les formatgeries locals. \nMitjançant els tastets de formatge que us proposem\, podreu explorar set formatgeries catalanes i deleitar-vos amb els seus productes en un entorn incomparable: una masia del Ripollès reconvertida en restaurant. Aquesta experiència gastronòmica és perfecta per a parelles\, famílies o grups d’amics que desitgin descobrir els secrets dels millors formatges de la regió. I per completar l’experiència\, teniu l’opció de gaudir d’un deliciós àpat al mateix restaurant. \nEl preu d’aquesta immersió sensorial varia segons la beguda escollida (aigua\, cervesa o vi).
URL:https://staging.catalunyaturisme.cat/esdeveniment/tastets-de-formatge-a-les-llosses/2024-06-01/
LOCATION:Restaurant Dachs
CATEGORIES:Fires,Gastronomia
ATTACH;FMTTYPE=image/jpeg:https://staging.catalunyaturisme.cat/wp-content/uploads/tastets-de-formatge-a-les-llosses.jpeg
ORGANIZER;CN="Tastets de formatge":MAILTO:info@tastetsdeformatge.cat
END:VEVENT
BEGIN:VEVENT
DTSTART;VALUE=DATE:20240607
DTEND;VALUE=DATE:20240610
DTSTAMP:20260422T084655
CREATED:20240606T072747Z
LAST-MODIFIED:20240606T072747Z
UID:10000429-1717718400-1717977599@staging.catalunyaturisme.cat
SUMMARY:Fira del Mar a Calafell
DESCRIPTION:A la primavera\, Calafell retrocedeix en el temps fins al Calafell mariner dels nostres avantpassats amb la celebració de la Fira del Mar. \nAquest esdeveniment té com a objectiu valorar i difondre el patrimoni marítim català\, promovent una relació sostenible amb el medi marí a través de la implicació ciutadana. \nLa Fira del Mar\, que se celebra anualment\, està dedicada a la difusió del patrimoni i les tradicions marineres de la Mediterrània\, amb l’objectiu de preservar aquest llegat i projectar-lo cap al futur. \nAdreçada a un públic ampli\, la fira ofereix activitats per a tots els gustos\, incloent representacions teatrals\, tallers infantils\, exposicions temporals\, degustacions gastronòmiques i molt més.
URL:https://staging.catalunyaturisme.cat/esdeveniment/fira-del-mar-a-calafell/
LOCATION:Calafell\, Calafell\, Tarragona\, 43820
CATEGORIES:Fires
ATTACH;FMTTYPE=image/jpeg:https://staging.catalunyaturisme.cat/wp-content/uploads/fira-del-mar-de-calafell.jpg
END:VEVENT
BEGIN:VEVENT
DTSTART;VALUE=DATE:20240608
DTEND;VALUE=DATE:20240610
DTSTAMP:20260422T084655
CREATED:20240606T071847Z
LAST-MODIFIED:20240606T071847Z
UID:10000427-1717804800-1717977599@staging.catalunyaturisme.cat
SUMMARY:Brickània\, Festival de Construccions Lego a Montblanc
DESCRIPTION:Brickània\, el Festival de Construccions Lego de Montblanc\, torna un any més! \nAquest esdeveniment està adreçat tant als aficionats i col·leccionistes de peces Lego com al públic en general. Tots els participants tindran l’oportunitat d’endinsar-se en el món Lego. \nEls visitants de Brickània podran gaudir d’una dotzena de diorames exposats\, comprar peces de Lego i participar en diversos tallers de robòtica. A més\, els més creatius tindran l’oportunitat de fer els seus propis muntatges en un espai dedicat i de participar en el concurs de creativitat amb bricks. El festival també inclou un joc de pistes i un espai lúdic amb tallers creatius amb peces Lego\, completant així una oferta variada i divertida.
URL:https://staging.catalunyaturisme.cat/esdeveniment/brickania-festival-de-construccions-lego-a-montblanc/
LOCATION:Antiga església de Sant Francesc\, Montblanc\, Tarragona\, Espanya
CATEGORIES:Fires
ATTACH;FMTTYPE=image/jpeg:https://staging.catalunyaturisme.cat/wp-content/uploads/brickania-el-festival-de-construccions-lego-de-montblanc.jpg
END:VEVENT
BEGIN:VEVENT
DTSTART;VALUE=DATE:20240608
DTEND;VALUE=DATE:20240610
DTSTAMP:20260422T084655
CREATED:20240606T072456Z
LAST-MODIFIED:20240606T072518Z
UID:10000428-1717804800-1717977599@staging.catalunyaturisme.cat
SUMMARY:Pinellart\, la Fira d'artesania del Pinell de Brai
DESCRIPTION:S’acosta una nova edició de Pinellart\, la Fira d’artesania del Pinell de Brai\, amb un cap de setmana dedicat a la recuperació d’antigues tradicions i mètodes de treball artesanals. \nAquest esdeveniment reuneix artesans de diverses disciplines que exposen les seves obres mestres i comparteixen les seves habilitats amb el públic. Els visitants podran passejar entre estands plens de productes únics\, fets a mà amb passió i dedicació. Des de ceràmiques delicades i joies espectaculars fins a teixits artesanals i treballs en cuir i fusta\, cada peça reflecteix l’essència de la tradició artesanal. \nA més\, la fira comptarà amb una programació variada d’activitats culturals i d’oci\, incloent desfilades de capgrossos\, espectacles de foc\, música en viu i ballades tradicionals\, oferint entreteniment per a totes les edats.
URL:https://staging.catalunyaturisme.cat/esdeveniment/pinellart-la-fira-dartesania-del-pinell-de-brai/
LOCATION:Pinell de Brai\, Pinell de Brai\, Espanya
CATEGORIES:Fires
ATTACH;FMTTYPE=image/jpeg:https://staging.catalunyaturisme.cat/wp-content/uploads/fira-d-artesania-pinellart-a-el-pinell-de-brai.jpg
END:VEVENT
BEGIN:VEVENT
DTSTART;VALUE=DATE:20240614
DTEND;VALUE=DATE:20240617
DTSTAMP:20260422T084655
CREATED:20240610T094339Z
LAST-MODIFIED:20240610T094339Z
UID:10000468-1718323200-1718582399@staging.catalunyaturisme.cat
SUMMARY:7a Fira del Tap i el Suro
DESCRIPTION:La Fira del Tap i el Suro és un esdeveniment destacat\, amb una temàtica específica que captiva l’atenció a nivell internacional. Durant un cap de setmana\, posa en valor el suro\, un producte profundament enraïmat en els municipis dels voltants de les Gavarres\, especialment a Palafrugell i Cassà de la Selva. \nAquest esdeveniment fusiona el suro amb la indústria i la gastronomia\, oferint una experiència completa que connecta els paisatges de les Gavarres amb les taules dels restaurants locals i internacionals. La Fira del Tap i el Suro ofereix una programació variada\, que inclou tastos de vins\, concerts\, xerrades sobre el món del suro\, demostracions d’antics tapers\, tallers infantils i un mercat de productes elaborats amb suro. Reserveu les vostres entrades ara per no perdre-us aquest esdeveniment únic.
URL:https://staging.catalunyaturisme.cat/esdeveniment/7a-fira-del-tap-i-el-suro/
LOCATION:Cassa de la Selva\, Cassà de la Selva\, Girona\, Espanya
CATEGORIES:Fires
ATTACH;FMTTYPE=image/jpeg:https://staging.catalunyaturisme.cat/wp-content/uploads/tickets.jpg
ORGANIZER;CN="Ajuntament de Cass%C3%A0 de la Selva":MAILTO:ajuntament@cassa.cat
END:VEVENT
BEGIN:VEVENT
DTSTART;VALUE=DATE:20240614
DTEND;VALUE=DATE:20240617
DTSTAMP:20260422T084655
CREATED:20240610T154728Z
LAST-MODIFIED:20240610T154728Z
UID:10000699-1718323200-1718582399@staging.catalunyaturisme.cat
SUMMARY:Fira dels Americanos de Lloret de Mar
DESCRIPTION:La Fira dels Americanos de Lloret de Mar\, en el seu esdeveniment del 2024\, ofereix una experiència completa amb un ventall divers d’activitats. Des de cercaviles animades fins a conferències inspiradores\, sessions de ball enèrgiques\, un mercat indià vibrant\, concerts emocionants\, cantades d’havaneres\, i moltes altres activitats per a tots els gustos i edats. Amb una oferta tan variada\, la fira promet captivar i entretenir a tots els visitants\, oferint una experiència memorable i plena de diversió.
URL:https://staging.catalunyaturisme.cat/esdeveniment/fira-dels-americanos-de-lloret-de-mar/
LOCATION:Lloret de Mar\, Lloret de Mar\, Girona\, Espanya
CATEGORIES:Fires
ATTACH;FMTTYPE=image/jpeg:https://staging.catalunyaturisme.cat/wp-content/uploads/cq5dam.web_.1280.1280.jpeg
END:VEVENT
BEGIN:VEVENT
DTSTART;VALUE=DATE:20240615
DTEND;VALUE=DATE:20240616
DTSTAMP:20260422T084655
CREATED:20240610T091336Z
LAST-MODIFIED:20240610T091336Z
UID:10000449-1718409600-1718495999@staging.catalunyaturisme.cat
SUMMARY:Fira de les Herbes i Flors de Muntanya
DESCRIPTION:Un any més\, Setcases celebra la Fira de les Herbes i Flors de Muntanya! \nDurant una jornada completa\, s’han organitzat diversos actes dedicats a les herbes i flors d’alta muntanya. A la fira mercat\, podreu trobar herbolaris i professionals que treballen amb plantes per elaborar productes com ungüents\, olis\, sabons\, cremes i plantes medicinals. A més\, hi haurà parades d’artesans que oferiran productes alimentaris\, exposicions de plantes i flors seques\, i molt més. \nSetcases\, amb el seu entorn típicament pirinenc i paisatges espectaculars d’alta muntanya\, és el lloc perfecte per aquesta fira. Aquest poble ha aconseguit preservar l’aire rural i tradicional dels temps passats\, oferint una experiència única i autèntica als visitants.
URL:https://staging.catalunyaturisme.cat/esdeveniment/fira-de-les-herbes-i-flors-de-muntanya/
LOCATION:Sala dels estudis\, Setcases\, Girona\, Espanya
CATEGORIES:Fires
ATTACH;FMTTYPE=image/jpeg:https://staging.catalunyaturisme.cat/wp-content/uploads/fira-de-les-herbes-de-setcases.jpg
ORGANIZER;CN="Ajuntament de Setcases":MAILTO:info@setcases.cat
END:VEVENT
BEGIN:VEVENT
DTSTART;VALUE=DATE:20240615
DTEND;VALUE=DATE:20240616
DTSTAMP:20260422T084655
CREATED:20240610T091824Z
LAST-MODIFIED:20240610T091824Z
UID:10000450-1718409600-1718495999@staging.catalunyaturisme.cat
SUMMARY:Fira Tastavins a Juneda
DESCRIPTION:Un any més\, Juneda celebra una nova edició de la Fira Tastavins! \nLa fira comptarà amb la participació de diversos cellers i oferirà una àmplia gamma d’activitats\, com ara jornades tècniques\, concurs de tast a cegues per parelles\, música\, degustacions i molt més! \nEls visitants podran explorar una gran varietat de vins\, des dels clàssics fins a les últimes tendències\, i aprendre sobre les diferents regions vitivinícoles\, les tècniques de producció i les característiques de cada vi. \nEls tasts de vins ofereixen una oportunitat única per educar-se i desenvolupar el paladar\, a més de gaudir d’una experiència sensorial inoblidable.
URL:https://staging.catalunyaturisme.cat/esdeveniment/fira-tastavins-a-juneda/
CATEGORIES:Fires
ATTACH;FMTTYPE=image/jpeg:https://staging.catalunyaturisme.cat/wp-content/uploads/48087417_281798652477205_6626264806850560000_n.jpg
END:VEVENT
BEGIN:VEVENT
DTSTART;VALUE=DATE:20240615
DTEND;VALUE=DATE:20240617
DTSTAMP:20260422T084655
CREATED:20240610T093821Z
LAST-MODIFIED:20240610T093821Z
UID:10000467-1718409600-1718582399@staging.catalunyaturisme.cat
SUMMARY:Fira de les Esquelles al Montseny
DESCRIPTION:Un any més arriba la Fira de les Esquelles al Montseny\, un esdeveniment que destaca els oficis tradicionals vinculats a la ramaderia\, especialment al bestiar oví. A més de les exposicions\, els visitants poden gaudir de visites guiades al Museu de les Esquelles d’en Jaume\, un tresor cultural a Montseny. \n“Les esquelles d’en Jaume” és una col·lecció única que inclou prop de mil esquelles recopilades al llarg de la vida del matrimoni Jaume Traveria i Montserrat Garriga. Aquestes esquelles\, amb la seva diversitat i qualitat\, evocen vívidament els sons i les experiències de la vida pastoral\, que ha modelat els paisatges i la cultura del Montseny i de Catalunya durant segles. \nLa Fira de les Esquelles no només celebra la riquesa cultural i històrica del Montseny\, sinó també posa en relleu la importància del patrimoni ramader i la seva influència en la vida local i en la identitat de la regió.
URL:https://staging.catalunyaturisme.cat/esdeveniment/fira-de-les-esquelles-al-montseny/
CATEGORIES:Fires
ATTACH;FMTTYPE=image/jpeg:https://staging.catalunyaturisme.cat/wp-content/uploads/fira-de-les-esquelles-al-montseny.jpg
END:VEVENT
END:VCALENDAR