BEGIN:VCALENDAR
VERSION:2.0
PRODID:-//Catalunya Turisme - ECPv6.5.1.5//NONSGML v1.0//EN
CALSCALE:GREGORIAN
METHOD:PUBLISH
X-WR-CALNAME:Catalunya Turisme
X-ORIGINAL-URL:https://staging.catalunyaturisme.cat
X-WR-CALDESC:Events for Catalunya Turisme
REFRESH-INTERVAL;VALUE=DURATION:PT1H
X-Robots-Tag:noindex
X-PUBLISHED-TTL:PT1H
BEGIN:VTIMEZONE
TZID:Europe/Madrid
BEGIN:DAYLIGHT
TZOFFSETFROM:+0100
TZOFFSETTO:+0200
TZNAME:CEST
DTSTART:20240331T010000
END:DAYLIGHT
BEGIN:STANDARD
TZOFFSETFROM:+0200
TZOFFSETTO:+0100
TZNAME:CET
DTSTART:20241027T010000
END:STANDARD
END:VTIMEZONE
BEGIN:VEVENT
DTSTART;VALUE=DATE:20240302
DTEND;VALUE=DATE:20240304
DTSTAMP:20260422T134623
CREATED:20240219T122134Z
LAST-MODIFIED:20240219T122134Z
UID:10000202-1709337600-1709510399@staging.catalunyaturisme.cat
SUMMARY:20a Fira del Trumfo i la Tòfona de Catalunya
DESCRIPTION:La Fira del Trumfo i la Tòfona de Catalunya a Solsona és una celebració que reuneix productors i recol·lectors d’aquests dos aliments tradicionals de la comarca. Durant un cap de setmana\, hi haurà una gran varietat d’activitats gastronòmiques i lúdiques per a tots els gustos i edats. \nA més de descobrir els secrets del trumfo i la tòfona\, també podràs gaudir de la Festa del Vi de Solsona\, on es podran tastar vins de cada denominació d’origen i productes locals. No deixis passar l’oportunitat d’immersir-te en aquest món deliciós i descobrir els sabors únics de la regió!
URL:https://staging.catalunyaturisme.cat/esdeveniment/20a-fira-del-trumfo-i-la-tofona-de-catalunya/
LOCATION:Solsona
CATEGORIES:Fires
ATTACH;FMTTYPE=image/jpeg:https://staging.catalunyaturisme.cat/wp-content/uploads/fira-del-trumfo-i-la-tofona-de-catalunya-a-solsona_page-0001.jpg
END:VEVENT
BEGIN:VEVENT
DTSTART;VALUE=DATE:20240302
DTEND;VALUE=DATE:20240304
DTSTAMP:20260422T134623
CREATED:20240219T130450Z
LAST-MODIFIED:20240219T130450Z
UID:10000211-1709337600-1709510399@staging.catalunyaturisme.cat
SUMMARY:Fira de la botifarra a la Garriga
DESCRIPTION:Una nova edició de la Fira de la botifarra a la Garriga està de tornada! \nAquest esdeveniment té com a objectiu destacar la botifarra com a producte distintiu de la Garriga i promoure la seva producció local\, convertint-se en una fira centrada en l’agroalimentació i els productes de proximitat. \nLa Fira de la Botifarra ocuparà diversos espais al cor del poble i ofereixerà una àmplia gamma d’activitats per a tota la família. \nEls visitants tindran l’oportunitat de degustar els deliciosos plats del ButiTast\, un espai gastronòmic gestionat per l’entitat Projecte Mexla’t\, on es podran provar una gran varietat de tapes i platets amb botifarra preparats pels establiments locals.
URL:https://staging.catalunyaturisme.cat/esdeveniment/fira-de-la-botifarra-a-la-garriga/
LOCATION:Garriga
CATEGORIES:Fires
ATTACH;FMTTYPE=image/jpeg:https://staging.catalunyaturisme.cat/wp-content/uploads/4.3.2023-FIRA-BOTIFARRA-001-1I6A1044br.jpg
END:VEVENT
BEGIN:VEVENT
DTSTART;VALUE=DATE:20240303
DTEND;VALUE=DATE:20240304
DTSTAMP:20260422T134623
CREATED:20240220T102839Z
LAST-MODIFIED:20240220T102917Z
UID:10000212-1709424000-1709510399@staging.catalunyaturisme.cat
SUMMARY:11a Fira de Serrateix
DESCRIPTION:Descobreix una experiència única a la Plaça Monestir de Serrateix amb la flamant edició de la Fira Serrateix! Enamora’t amb la diversitat de productes agrícoles\, artesanals i de proximitat que ompliran els nostres estands. \nNo et perdis les emocionants visites guiades al Monestir de Santa Maria\, un veritable tresor amb elements preromànics\, romànics i d’altres èpoques\, que converteixen aquest conjunt en una joia única al llarg de l’eix del Llobregat i del Cardener. Des del privilegiat altiplà on es troba Serrateix\, gaudeix d’unes vistes panoràmiques que abracen des de Cabrera (Osona) fins al Montsec\, passant per Montserrat\, el Montseny i els majestuosos Pirineus.
URL:https://staging.catalunyaturisme.cat/esdeveniment/11a-fira-de-serrateix/
LOCATION:Plaça Monestir Serrateix
CATEGORIES:Fires
ATTACH;FMTTYPE=image/jpeg:https://staging.catalunyaturisme.cat/wp-content/uploads/fira-de-serrateix.jpeg
END:VEVENT
BEGIN:VEVENT
DTSTART;TZID=Europe/Madrid:20240303T080000
DTEND;TZID=Europe/Madrid:20240306T170000
DTSTAMP:20260422T134623
CREATED:20240219T125913Z
LAST-MODIFIED:20240219T125913Z
UID:10000210-1709452800-1709744400@staging.catalunyaturisme.cat
SUMMARY:Fira de la Passió de Catalunya
DESCRIPTION:La Fira de Festa Major d’Hivern d’Esparreguera es transforma en la Fira de la Passió de Catalunya per potenciar el comerç local\, reforçar els llaços amb les entitats de cultura popular i difondre el ric patrimoni teatral i cultural de la vila. \nL’esdeveniment mantindrà el mateix esquema que en les edicions anteriors\, amb un espai de fira comercial als carrers dels Arbres\, plaça de la Pagesia\, Taquígraf Garriga\, plaça de Santa Eulàlia\, Gran\, plaça de l’Ajuntament\, de l’Hospital i plaça de la Constitució\, on s’instal·laran parades d’artesans\, oficis i comerciants locals. \nA més\, els assistents podran gaudir d’espectacles itinerants a càrrec dels actors de La Passió\, que inclouran cercaviles com La Quitxalla\, el Calvari i La Festa de la Llum\, així com altres activitats com la desfilada dels Armats de Manresa\, la presentació del llibre Petita Història de La Passió d’Esparreguera de Pilarín Bayés\, l’espectacle de Xarop de Canya i la programació de la Barraka Alternativa\, amb la popular Crucificades World Race\, entre altres propostes.
URL:https://staging.catalunyaturisme.cat/esdeveniment/fira-de-la-passio-de-catalunya/
LOCATION:Esparreguera
CATEGORIES:Fires
ATTACH;FMTTYPE=image/jpeg:https://staging.catalunyaturisme.cat/wp-content/uploads/Cartell-FiraPassio-2023.jpeg
END:VEVENT
BEGIN:VEVENT
DTSTART;VALUE=DATE:20240309
DTEND;VALUE=DATE:20240310
DTSTAMP:20260422T134623
CREATED:20240220T104511Z
LAST-MODIFIED:20240220T104511Z
UID:10000213-1709942400-1710028799@staging.catalunyaturisme.cat
SUMMARY:V Fira de la Cervesa Artesana d'Ullastret
DESCRIPTION:La Fira de la Cervesa Artesana a Ullastrell és una celebració dedicada als entusiastes de la cervesa de primera qualitat. \nAnualment el poble d’Ullastret es converteix el poble en un veritable paradís per als amants de la cervesa\, amb una ampla varietat de cerveses artesanes que posen de manifest el talent i la creativitat dels cervesers locals i de la comarca. \nEls estands de cervesa artesana ofereixen als visitants l’oportunitat de degustar una àmplia gamma de cerveses úniques i sorprenents\, des de les varietats més convencionals fins a les més innovadores. \nLes cerveseries artesanals presenten les seves creacions\, compartint informació sobre el procés de producció i els ingredients emprats\, per tal que els visitants puguin conèixer millor aquest món apassionant.
URL:https://staging.catalunyaturisme.cat/esdeveniment/v-fira-de-la-cervesa-artesana-dullastret/
LOCATION:Ullastret
CATEGORIES:Fires
ATTACH;FMTTYPE=image/jpeg:https://staging.catalunyaturisme.cat/wp-content/uploads/428691450_693357339675435_82710278311155509_n.jpeg
END:VEVENT
BEGIN:VEVENT
DTSTART;VALUE=DATE:20240311
DTEND;VALUE=DATE:20240314
DTSTAMP:20260422T134623
CREATED:20240220T110136Z
LAST-MODIFIED:20240220T110542Z
UID:10000215-1710115200-1710374399@staging.catalunyaturisme.cat
SUMMARY:Fòrum Gastronòmic Girona 2024
DESCRIPTION:La ciutat de Girona acull anualment el Fòrum Gastronòmic\, el congrés internacional de gastronomia. L’edició d’enguany\, el Fòrum Gastronòmic Girona 2024\, oferirà un programa molt complet.  \nAquesta edició se centrarà en els sabors del mar i la muntanya\, amb especial atenció a la cuina de reaprofitament i la sostenibilitat. Es comptarà amb la presència de petits productors i professionals del territori\, que posaran en valor el producte de proximitat. \nAquest esdeveniment inclou una fira d’expositors\, showcookings\, ponències i altres activitats per a professionals i amants de la cuina. Enguany\, es realitzaran diverses activitats al centre de la ciutat per apropar la gastronomia a tots els públics i integrar els productors i aficionats.
URL:https://staging.catalunyaturisme.cat/esdeveniment/forum-gastronomic-girona-2024/
LOCATION:Palau de Fires i la Devesa
CATEGORIES:Fires,Gastronomia
ATTACH;FMTTYPE=image/jpeg:https://staging.catalunyaturisme.cat/wp-content/uploads/Forum-Gi-2023-D1-176-scaled.jpg
END:VEVENT
BEGIN:VEVENT
DTSTART;VALUE=DATE:20240316
DTEND;VALUE=DATE:20240317
DTSTAMP:20260422T134623
CREATED:20240220T112111Z
LAST-MODIFIED:20240220T112111Z
UID:10000216-1710547200-1710633599@staging.catalunyaturisme.cat
SUMMARY:Tastets de formatge a Les Llosses
DESCRIPTION:Us convidem a endinsar-vos en l’univers dels formatges del Ripollès amb l’experiència “Som Formatgers“. El Ripollès és reconegut com a terra de formatges\, i aquesta iniciativa\, sorgida d’aquesta mateixa comarca\, té com a missió principal fomentar el consum de formatges catalans de primera qualitat i donar visibilitat al treball artesanal de les formatgeries locals. \nMitjançant els tastets de formatge que us proposem\, podreu explorar set formatgeries catalanes i deleitar-vos amb els seus productes en un entorn incomparable: una masia del Ripollès reconvertida en restaurant. Aquesta experiència gastronòmica és perfecta per a parelles\, famílies o grups d’amics que desitgin descobrir els secrets dels millors formatges de la regió. I per completar l’experiència\, teniu l’opció de gaudir d’un deliciós àpat al mateix restaurant. \nEl preu d’aquesta immersió sensorial varia segons la beguda escollida (aigua\, cervesa o vi).
URL:https://staging.catalunyaturisme.cat/esdeveniment/tastets-de-formatge-a-les-llosses/2024-03-16/
LOCATION:Restaurant Dachs
CATEGORIES:Fires,Gastronomia
ATTACH;FMTTYPE=image/jpeg:https://staging.catalunyaturisme.cat/wp-content/uploads/tastets-de-formatge-a-les-llosses.jpeg
ORGANIZER;CN="Tastets de formatge":MAILTO:info@tastetsdeformatge.cat
END:VEVENT
BEGIN:VEVENT
DTSTART;TZID=Europe/Madrid:20240323T100000
DTEND;TZID=Europe/Madrid:20240328T190000
DTSTAMP:20260422T134623
CREATED:20240325T084908Z
LAST-MODIFIED:20240325T084908Z
UID:10000225-1711188000-1711652400@staging.catalunyaturisme.cat
SUMMARY:Fira del Col·leccionisme Playmobil i Lego a Calafell
DESCRIPTION:Durant la Setmana Santa\, Calafell es converteix en el epicentre del col·leccionisme i l’entreteniment familiar a la comarca\, amb l’arribada d’una nova edició de la Fira del Col·leccionisme Playmobil i Lego. \nAquest esdeveniment ofereix una impressionant exposició de diorames de Playmobil i Lego\, creada pels principals especialistes del moment\, que recrearan una àmplia varietat de temàtiques de fantasia. A més\, els visitants podran gaudir d’una àrea infantil plena de jocs\, tallers de construcció de Lego i moltes altres activitats emocionants. \nPer a tots els aficionats i col·leccionistes de Playmobil i Lego\, aquesta fira és una oportunitat que no es pot deixar passar. Prepareu-vos per viure una experiència inoblidable! \nUs esperem a Calafell per a una jornada plena de diversió i sorpreses!
URL:https://staging.catalunyaturisme.cat/esdeveniment/fira-del-colleccionisme-playmobil-i-lego-a-calafell/
LOCATION:Centre Civic Cinema Iris\, Calafell\, Catalunya\, Espanya
CATEGORIES:Fires
ATTACH;FMTTYPE=image/jpeg:https://staging.catalunyaturisme.cat/wp-content/uploads/fira-colleccionista-playmobil-i-lego-a-calafell.jpeg
END:VEVENT
BEGIN:VEVENT
DTSTART;TZID=Europe/Madrid:20240323T180000
DTEND;TZID=Europe/Madrid:20240324T003000
DTSTAMP:20260422T134623
CREATED:20240321T135124Z
LAST-MODIFIED:20240321T135124Z
UID:10000220-1711216800-1711240200@staging.catalunyaturisme.cat
SUMMARY:Fira de Cervesa Artesana al Pla de Santa Maria
DESCRIPTION:El Pla de Santa Maria brinda una nova ocasió per celebrar la cultura de la cervesa artesana amb una renovada edició de la seva Fira de Cervesa Artesana! \nAquest esdeveniment ofereix una àmplia gamma de cerveses artesanes elaborades per productors locals\, acompanyades de deliciosos pinxos\, entrepans i música en directe per al gaudi dels assistents. \nL’esdeveniment comença a les 18 fins al tard amb DJ. A més a més\, la gent que arribi abans de les 19 entra en un sorteig d’un lot de cerveses.
URL:https://staging.catalunyaturisme.cat/esdeveniment/fira-de-cervesa-artesana-al-pla-de-santa-maria/
LOCATION:Centre Cívic i Cultural La Fàbrica
CATEGORIES:Fires
ATTACH;FMTTYPE=image/jpeg:https://staging.catalunyaturisme.cat/wp-content/uploads/fira-de-cervesa-artesana-al-pla-de-santa-maria.jpeg
END:VEVENT
BEGIN:VEVENT
DTSTART;VALUE=DATE:20240329
DTEND;VALUE=DATE:20240401
DTSTAMP:20260422T134623
CREATED:20240325T094046Z
LAST-MODIFIED:20240325T094046Z
UID:10000237-1711670400-1711929599@staging.catalunyaturisme.cat
SUMMARY:21ª Fira de l'Oli i la Pedra de Vinaixa
DESCRIPTION:Una nova edició de la Fira de l’Oli i la Pedra arriba a Vinaixa\, plena d’activitats per a tots els gustos! \nAquesta fira és una oportunitat única per promoure els dos tresors més preuats i reconeguts del municipi: l’Oli d’Oliva Verge Extra i la Pedra Natural. Aquests dos productes s’acompanyen de la Pedra Seca\, reconeguda com a Patrimoni Cultural Immaterial per la UNESCO\, formant una tríada única que simbolitza la riquesa i la tradició de Vinaixa. \nLa Fira també ofereix una finestra a altres aspectes interessants de Vinaixa\, amb exposicions diverses\, rutes sobre la història local\, tallers\, actes culturals i parades amb productes locals. Sense oblidar l’esmorzar popular\, que convida a tots els visitants a gaudir d’un moment de convivència i intercanvi. \nAquest esdeveniment va néixer de la col·laboració entre empreses i entitats locals\, que van unir esforços per crear una celebració que reflecteixi l’essència de Vinaixa. La creació d’una comissió integrada per associacions\, empresaris\, autònoms\, interessats i voluntaris ha ajudat a reorientar i enriquir la fira\, garantint la seva continuïtat i creixement.
URL:https://staging.catalunyaturisme.cat/esdeveniment/21a-fira-de-loli-i-la-pedra-de-vinaixa/
CATEGORIES:Fires
ATTACH;FMTTYPE=image/jpeg:https://staging.catalunyaturisme.cat/wp-content/uploads/fira-de-loli-i-la-pedra-de-vinaixa.jpeg
END:VEVENT
BEGIN:VEVENT
DTSTART;TZID=Europe/Madrid:20240329T100000
DTEND;TZID=Europe/Madrid:20240329T170000
DTSTAMP:20260422T134623
CREATED:20240325T090020Z
LAST-MODIFIED:20240325T090209Z
UID:10000226-1711706400-1711731600@staging.catalunyaturisme.cat
SUMMARY:Fira del Griu a Peramola
DESCRIPTION:Torna un any més la esperada Fira del Griu a Peramola! \nAquest esdeveniment\, que se celebra el Divendres Sant\, ofereix una combinació perfecta d’artesania\, gastronomia i negocis locals en un ambient festiu i animat. Des de contes populars fins al tradicional Ball del Griu i els impressionants Gegants de Peramola\, passant pel dinàmic Ball de Bastons i el taller de ceràmica de Ceràmica Logama\, l’oferta d’activitats és variada i emocionant. \nA més\, no et perdis l’exposició fotogràfica de Jordi Pozo a l’Ajuntament\, així com el concert en directe del Grup Quins Notes. \nLa Fira està dedicada al Griu\, una figura mítica que forma part del bestiari de Peramola. Aquesta criatura\, ferotge i perillosa\, posseeix el cap i les urpes davanteres d’un ocell rapaç gegant\, amb plomes daurades\, urpes afilades i un bec corbat. Les seves robustes potes posteriors i la cua són pròpies d’un lleó.
URL:https://staging.catalunyaturisme.cat/esdeveniment/fira-del-griu-a-peramola/
CATEGORIES:Fires,Gastronomia
ATTACH;FMTTYPE=image/jpeg:https://staging.catalunyaturisme.cat/wp-content/uploads/fira-del-griu-a-peramola.jpeg
END:VEVENT
BEGIN:VEVENT
DTSTART;TZID=Europe/Madrid:20240329T130000
DTEND;TZID=Europe/Madrid:20240329T160000
DTSTAMP:20260422T134623
CREATED:20240325T083748Z
LAST-MODIFIED:20240325T083748Z
UID:10000222-1711717200-1711728000@staging.catalunyaturisme.cat
SUMMARY:Fira Medieval 2024 a Hostalric
DESCRIPTION:Aproxima’t a una de les celebracions més esperades de l’any: la Fira Medieval 2024 a Hostalric. Del 29 al 31 de març\, aquest encantador poble es transformarà en un escenari d’època\, immers en la màgia i la tradició medieval. \nAprofitant aquesta atmosfera única\, el restaurant Quatre vents 4.0 convida a tots els visitants a reservar una taula i gaudir d’un Menú Gourmet especial\, pensat per satisfer els paladars més exigents\, i tot això a un preu immillorable. \nReuneix la família i els amics per viure una experiència gastronòmica inoblidable enmig d’un ambient medieval fascinant. No deixis passar aquesta oportunitat de tastar la història i els sabors en un sol lloc.
URL:https://staging.catalunyaturisme.cat/esdeveniment/fira-medieval-2024-a-hostalric/2024-03-29/
CATEGORIES:Fires,Gastronomia
ATTACH;FMTTYPE=image/png:https://staging.catalunyaturisme.cat/wp-content/uploads/unnamed.png
END:VEVENT
BEGIN:VEVENT
DTSTART;TZID=Europe/Madrid:20240330T130000
DTEND;TZID=Europe/Madrid:20240330T160000
DTSTAMP:20260422T134623
CREATED:20240325T083748Z
LAST-MODIFIED:20240325T083748Z
UID:10000223-1711803600-1711814400@staging.catalunyaturisme.cat
SUMMARY:Fira Medieval 2024 a Hostalric
DESCRIPTION:Aproxima’t a una de les celebracions més esperades de l’any: la Fira Medieval 2024 a Hostalric. Del 29 al 31 de març\, aquest encantador poble es transformarà en un escenari d’època\, immers en la màgia i la tradició medieval. \nAprofitant aquesta atmosfera única\, el restaurant Quatre vents 4.0 convida a tots els visitants a reservar una taula i gaudir d’un Menú Gourmet especial\, pensat per satisfer els paladars més exigents\, i tot això a un preu immillorable. \nReuneix la família i els amics per viure una experiència gastronòmica inoblidable enmig d’un ambient medieval fascinant. No deixis passar aquesta oportunitat de tastar la història i els sabors en un sol lloc.
URL:https://staging.catalunyaturisme.cat/esdeveniment/fira-medieval-2024-a-hostalric/2024-03-30/
CATEGORIES:Fires,Gastronomia
ATTACH;FMTTYPE=image/png:https://staging.catalunyaturisme.cat/wp-content/uploads/unnamed.png
END:VEVENT
BEGIN:VEVENT
DTSTART;TZID=Europe/Madrid:20240331T130000
DTEND;TZID=Europe/Madrid:20240331T160000
DTSTAMP:20260422T134623
CREATED:20240325T083748Z
LAST-MODIFIED:20240325T083748Z
UID:10000224-1711890000-1711900800@staging.catalunyaturisme.cat
SUMMARY:Fira Medieval 2024 a Hostalric
DESCRIPTION:Aproxima’t a una de les celebracions més esperades de l’any: la Fira Medieval 2024 a Hostalric. Del 29 al 31 de març\, aquest encantador poble es transformarà en un escenari d’època\, immers en la màgia i la tradició medieval. \nAprofitant aquesta atmosfera única\, el restaurant Quatre vents 4.0 convida a tots els visitants a reservar una taula i gaudir d’un Menú Gourmet especial\, pensat per satisfer els paladars més exigents\, i tot això a un preu immillorable. \nReuneix la família i els amics per viure una experiència gastronòmica inoblidable enmig d’un ambient medieval fascinant. No deixis passar aquesta oportunitat de tastar la història i els sabors en un sol lloc.
URL:https://staging.catalunyaturisme.cat/esdeveniment/fira-medieval-2024-a-hostalric/2024-03-31/
CATEGORIES:Fires,Gastronomia
ATTACH;FMTTYPE=image/png:https://staging.catalunyaturisme.cat/wp-content/uploads/unnamed.png
END:VEVENT
END:VCALENDAR