BEGIN:VCALENDAR
VERSION:2.0
PRODID:-//Catalunya Turisme - ECPv6.5.1.5//NONSGML v1.0//EN
CALSCALE:GREGORIAN
METHOD:PUBLISH
X-WR-CALNAME:Catalunya Turisme
X-ORIGINAL-URL:https://staging.catalunyaturisme.cat
X-WR-CALDESC:Events for Catalunya Turisme
REFRESH-INTERVAL;VALUE=DURATION:PT1H
X-Robots-Tag:noindex
X-PUBLISHED-TTL:PT1H
BEGIN:VTIMEZONE
TZID:Europe/Madrid
BEGIN:DAYLIGHT
TZOFFSETFROM:+0100
TZOFFSETTO:+0200
TZNAME:CEST
DTSTART:20230326T010000
END:DAYLIGHT
BEGIN:STANDARD
TZOFFSETFROM:+0200
TZOFFSETTO:+0100
TZNAME:CET
DTSTART:20231029T010000
END:STANDARD
BEGIN:DAYLIGHT
TZOFFSETFROM:+0100
TZOFFSETTO:+0200
TZNAME:CEST
DTSTART:20240331T010000
END:DAYLIGHT
BEGIN:STANDARD
TZOFFSETFROM:+0200
TZOFFSETTO:+0100
TZNAME:CET
DTSTART:20241027T010000
END:STANDARD
END:VTIMEZONE
BEGIN:VEVENT
DTSTART;VALUE=DATE:20231125
DTEND;VALUE=DATE:20240106
DTSTAMP:20260422T172325
CREATED:20231204T212458Z
LAST-MODIFIED:20231204T232043Z
UID:10000051-1700870400-1704499199@staging.catalunyaturisme.cat
SUMMARY:Mercat de Nadal de Girona
DESCRIPTION:El Mercat de Nadal de Girona dona un any més el tret de sortida a les festes nadalenques. Enguany durant més d’un mes: del vespre del 24 de novembre al 5 de gener\, a la icònica Plaça de la Independència de la capital gironina. Estarà obert de 10:30 h a 21 h\, cada dia excepte els festius nadalencs 25 i 26 de desembre i 1 de gener. \nLa fira compta amb una vintena de paradetes de fusta amb tota mena de productes artesanals\, on es prioritzen que siguin locals. Es poden trobar des d’articles de Nadal com avets\, tions\, garlandes i llums de nadal\, a joguines treballades amb fusta i regals com tèxtils\, peces de joieria\, ceràmiques artesanes i ornaments de vidre o fusta. També hi ha productes d’alimentació com embotits i formatges artesans\, i dolços per Nadal: torrons\, neules… \nAquest mercat és el més popular i el més llarg dels que s’organitzen a la ciutat de Girona\, però no és l’únic. Podeu consultar totes les activitats d’aquestes festes al programa de l’Ajuntament.
URL:https://staging.catalunyaturisme.cat/esdeveniment/mercat-de-nadal-de-girona/
LOCATION:Girona\, Plaça de la Independència
CATEGORIES:Fires,Nadal
ATTACH;FMTTYPE=image/png:https://staging.catalunyaturisme.cat/wp-content/uploads/Captura-de-pantalla-2023-12-04-222418.png
END:VEVENT
BEGIN:VEVENT
DTSTART;TZID=Europe/Madrid:20231216T183000
DTEND;TZID=Europe/Madrid:20240104T200000
DTSTAMP:20260422T172325
CREATED:20231229T093506Z
LAST-MODIFIED:20231229T093506Z
UID:10000053-1702751400-1704398400@staging.catalunyaturisme.cat
SUMMARY:IV Mercat solidari d'art de Tortosa
DESCRIPTION:En el IV Mercat solidari d’art de Tortosa podreu veure una exposició d’obres d’art i peces de petit format d’artistes del territori de diferents disciplines: pintura\, fotografia\, poemes manuscrits i diferents edicions de llibres\, entre altres. I a més\, una part dels beneficis es destina a la lluita contra el càncer.
URL:https://staging.catalunyaturisme.cat/esdeveniment/iv-mercat-solidari-dart-de-tortosa/
CATEGORIES:Fires
ATTACH;FMTTYPE=image/jpeg:https://staging.catalunyaturisme.cat/wp-content/uploads/mercat-dart-solidari-tortosa-400.jpg
END:VEVENT
BEGIN:VEVENT
DTSTART;VALUE=DATE:20240119
DTEND;VALUE=DATE:20240122
DTSTAMP:20260422T172325
CREATED:20240119T224709Z
LAST-MODIFIED:20240119T230621Z
UID:10000163-1705622400-1705881599@staging.catalunyaturisme.cat
SUMMARY:Fira de l'Oli Qualitat Verge Extra a les Borges Blanques i Les Garrigues
DESCRIPTION:Les Borges Blanques serà el punt de trobada d’expositors de productes agroalimentaris en la nova 61a edició de la Fira de l’Oli Qualitat Verge Extra a les Borges Blanques i Les Garrigues. Aquesta inclou\, a més de l’espai de l’expositor\, de jornades tècniques i activitats que brindaran als assistents major coneixement del producte que es produeix en la comarca de les Garrigues. S’ha organitzat un programa en què també són protagonistes els fruits secs\, que representen un dels pilars de l’agricultura de la zona.
URL:https://staging.catalunyaturisme.cat/esdeveniment/27a-fira-de-loli/
LOCATION:Pavelló de l’oli
CATEGORIES:Fires
ATTACH;FMTTYPE=image/jpeg:https://staging.catalunyaturisme.cat/wp-content/uploads/fira-oli-garrigues.jpeg
END:VEVENT
BEGIN:VEVENT
DTSTART;VALUE=DATE:20240119
DTEND;VALUE=DATE:20240128
DTSTAMP:20260422T172325
CREATED:20240119T223523Z
LAST-MODIFIED:20240119T224026Z
UID:10000161-1705622400-1706399999@staging.catalunyaturisme.cat
SUMMARY:XXIII Mostra de Muntanya i Aventura de Figueres
DESCRIPTION:La XXIII Mostra de Muntanya i Aventura de Figueres aplega projeccions\, presentacions i conferències amb l’objectiu de conèixer i aprofundir en el món de l’aventura i la muntanya. Hi haurà ponents reconeguts i passis de pel·lícules de renom.
URL:https://staging.catalunyaturisme.cat/esdeveniment/xxiii-mostra-de-muntanya-i-aventura-de-figueres/
LOCATION:Sala La Cate\, CatCinemes i Cercle Sport Figuerenc
CATEGORIES:Fires
ATTACH;FMTTYPE=image/jpeg:https://staging.catalunyaturisme.cat/wp-content/uploads/1a5lamostra2024final.jpg-600x600-1.jpg
END:VEVENT
BEGIN:VEVENT
DTSTART;TZID=Europe/Madrid:20240119T090000
DTEND;TZID=Europe/Madrid:20240121T190000
DTSTAMP:20260422T172325
CREATED:20240115T121853Z
LAST-MODIFIED:20240115T121853Z
UID:10000147-1705654800-1705863600@staging.catalunyaturisme.cat
SUMMARY:La Corrida de Puig-reig
DESCRIPTION:La Corrida de Puig-reig és una festa tradicional que se celebra cada any per Sant Antoni a Puig-reig\, com a patró dels animals domèstics i dels traginers. Aquesta festa es celebra des de fa més de 150 anys i està relacionada amb el món dels cavalls\, els carros\, l’embotit artesà i els productes elaborats del porc. \nLa festa comença amb un esmorzar popular al voltant de les brases\, on convidats\, genets\, cavallistes\, pagesos i gent del poble es reuneixen per gaudir d’un esmorzar amb productes de la terra. \nA la tarda\, les curses de cavalls\, rucs i ponis són l’element que dona nom a la festa.
URL:https://staging.catalunyaturisme.cat/esdeveniment/la-corrida-de-puig-reig/
LOCATION:Puig-reig
CATEGORIES:Cultura,Fires
ATTACH;FMTTYPE=image/jpeg:https://staging.catalunyaturisme.cat/wp-content/uploads/programa_lacorrida_2023_01.jpeg
END:VEVENT
BEGIN:VEVENT
DTSTART;VALUE=DATE:20240121
DTEND;VALUE=DATE:20240122
DTSTAMP:20260422T172325
CREATED:20231229T104234Z
LAST-MODIFIED:20231229T104300Z
UID:10000059-1705795200-1705881599@staging.catalunyaturisme.cat
SUMMARY:La Fira del Fesol a Santa Pau
DESCRIPTION:La Fira del Fesol o Fira de Sant Antoni a Santa Pau\, la Garrotxa\, tindrà lloc aquest 2024 el dissabte 21 de gener. \nLa fira aplega parades d’artesania\, espectacles populars\, activitats familiars\, el lliurament del Fesol d’Or 2024 i la popular Fesolada\, una degustació de diferents plats elaborats amb fesols de Santa Pau\, a la plaça major. \nHi ha activitats programades també per al vespre del divendres 20 de gener\, vigília de la fira\, amb un sopar i actuació musical (15 €).
URL:https://staging.catalunyaturisme.cat/esdeveniment/la-fira-del-fesol/
LOCATION:Santa Pau
CATEGORIES:Fires
ATTACH;FMTTYPE=image/jpeg:https://staging.catalunyaturisme.cat/wp-content/uploads/FiraFesol2024_Cartell_page-0001.jpg
END:VEVENT
BEGIN:VEVENT
DTSTART;VALUE=DATE:20240121
DTEND;VALUE=DATE:20240122
DTSTAMP:20260422T172325
CREATED:20231229T105423Z
LAST-MODIFIED:20231229T105423Z
UID:10000061-1705795200-1705881599@staging.catalunyaturisme.cat
SUMMARY:XXVII Fira de l'Oli i l'Olivera d'Espolla
DESCRIPTION:La XXVII Fira de l’Oli i l’Olivera d’Espolla aplega diferents activitats en aquesta localitat de l’Alt Empordà. Entre elles: la mostra i venda de planter\, productes\, eines i maquinària referents a l’oli i l’olivera\, fira d’artesans i elaboradors de productes del paratge de l’Albera. \nHi ha també activitats programades per al dissabte 20 de gener.
URL:https://staging.catalunyaturisme.cat/esdeveniment/xxvii-fira-de-loli-i-lolivera-despolla/
LOCATION:Espolla
CATEGORIES:Fires
ATTACH;FMTTYPE=image/jpeg:https://staging.catalunyaturisme.cat/wp-content/uploads/Portada_27aFira-WEB.jpg
END:VEVENT
BEGIN:VEVENT
DTSTART;TZID=Europe/Madrid:20240126T170000
DTEND;TZID=Europe/Madrid:20240126T203000
DTSTAMP:20260422T172325
CREATED:20240123T090215Z
LAST-MODIFIED:20240123T090215Z
UID:10000166-1706288400-1706301000@staging.catalunyaturisme.cat
SUMMARY:Firestoc\, la fira de les rebaixes de Banyoles i comarca
DESCRIPTION:Banyoles acull un any més el Firestoc\, la fira de rebaixes de Banyoles i de la comarca. Aquesta iniciativa\, organitzada per l’Ajuntament de Banyoles i l’Associació de Comerciants Banyoles Comerç i Turisme\, fa anys que es duu a terme per donar tancament a les rebaixes d’hivern. \nEn el gran pavelló de la Draga hi trobareu moda\, calçat\, complements i molts més productes a preus econòmics. A més a més\, hi haurà diverses activitats i zones pels més petits de la família. \nL’entrada al recinte i l’aparcament són gratuïts.
URL:https://staging.catalunyaturisme.cat/esdeveniment/firestoc-la-fira-de-les-rebaixes-de-banyoles-i-comarca/2024-01-26/
LOCATION:Pavello de la Draga\, Passeig de la Draga\, s/n\, Banyoles\, 17820
CATEGORIES:Fires
ATTACH;FMTTYPE=image/jpeg:https://staging.catalunyaturisme.cat/wp-content/uploads/firestoc-banyoles.jpeg
ORGANIZER;CN="Ajuntament de Banyoles":MAILTO:oac@ajbanyoles.org
END:VEVENT
BEGIN:VEVENT
DTSTART;TZID=Europe/Madrid:20240127T100000
DTEND;TZID=Europe/Madrid:20240127T203000
DTSTAMP:20260422T172325
CREATED:20240123T090215Z
LAST-MODIFIED:20240123T090215Z
UID:10000167-1706349600-1706387400@staging.catalunyaturisme.cat
SUMMARY:Firestoc\, la fira de les rebaixes de Banyoles i comarca
DESCRIPTION:Banyoles acull un any més el Firestoc\, la fira de rebaixes de Banyoles i de la comarca. Aquesta iniciativa\, organitzada per l’Ajuntament de Banyoles i l’Associació de Comerciants Banyoles Comerç i Turisme\, fa anys que es duu a terme per donar tancament a les rebaixes d’hivern. \nEn el gran pavelló de la Draga hi trobareu moda\, calçat\, complements i molts més productes a preus econòmics. A més a més\, hi haurà diverses activitats i zones pels més petits de la família. \nL’entrada al recinte i l’aparcament són gratuïts.
URL:https://staging.catalunyaturisme.cat/esdeveniment/firestoc-la-fira-de-les-rebaixes-de-banyoles-i-comarca/2024-01-27/
LOCATION:Pavello de la Draga\, Passeig de la Draga\, s/n\, Banyoles\, 17820
CATEGORIES:Fires
ATTACH;FMTTYPE=image/jpeg:https://staging.catalunyaturisme.cat/wp-content/uploads/firestoc-banyoles.jpeg
ORGANIZER;CN="Ajuntament de Banyoles":MAILTO:oac@ajbanyoles.org
END:VEVENT
BEGIN:VEVENT
DTSTART;TZID=Europe/Madrid:20240128T100000
DTEND;TZID=Europe/Madrid:20240128T190000
DTSTAMP:20260422T172325
CREATED:20240123T090215Z
LAST-MODIFIED:20240123T090215Z
UID:10000168-1706436000-1706468400@staging.catalunyaturisme.cat
SUMMARY:Firestoc\, la fira de les rebaixes de Banyoles i comarca
DESCRIPTION:Banyoles acull un any més el Firestoc\, la fira de rebaixes de Banyoles i de la comarca. Aquesta iniciativa\, organitzada per l’Ajuntament de Banyoles i l’Associació de Comerciants Banyoles Comerç i Turisme\, fa anys que es duu a terme per donar tancament a les rebaixes d’hivern. \nEn el gran pavelló de la Draga hi trobareu moda\, calçat\, complements i molts més productes a preus econòmics. A més a més\, hi haurà diverses activitats i zones pels més petits de la família. \nL’entrada al recinte i l’aparcament són gratuïts.
URL:https://staging.catalunyaturisme.cat/esdeveniment/firestoc-la-fira-de-les-rebaixes-de-banyoles-i-comarca/2024-01-28/
LOCATION:Pavello de la Draga\, Passeig de la Draga\, s/n\, Banyoles\, 17820
CATEGORIES:Fires
ATTACH;FMTTYPE=image/jpeg:https://staging.catalunyaturisme.cat/wp-content/uploads/firestoc-banyoles.jpeg
ORGANIZER;CN="Ajuntament de Banyoles":MAILTO:oac@ajbanyoles.org
END:VEVENT
END:VCALENDAR