BEGIN:VCALENDAR
VERSION:2.0
PRODID:-//Catalunya Turisme - ECPv6.5.1.5//NONSGML v1.0//EN
CALSCALE:GREGORIAN
METHOD:PUBLISH
X-WR-CALNAME:Catalunya Turisme
X-ORIGINAL-URL:https://staging.catalunyaturisme.cat
X-WR-CALDESC:Events for Catalunya Turisme
REFRESH-INTERVAL;VALUE=DURATION:PT1H
X-Robots-Tag:noindex
X-PUBLISHED-TTL:PT1H
BEGIN:VTIMEZONE
TZID:Europe/Madrid
BEGIN:DAYLIGHT
TZOFFSETFROM:+0100
TZOFFSETTO:+0200
TZNAME:CEST
DTSTART:20240331T010000
END:DAYLIGHT
BEGIN:STANDARD
TZOFFSETFROM:+0200
TZOFFSETTO:+0100
TZNAME:CET
DTSTART:20241027T010000
END:STANDARD
END:VTIMEZONE
BEGIN:VEVENT
DTSTART;VALUE=DATE:20241003
DTEND;VALUE=DATE:20241014
DTSTAMP:20260420T193359
CREATED:20241009T155652Z
LAST-MODIFIED:20241009T155652Z
UID:10003671-1727913600-1728863999@staging.catalunyaturisme.cat
SUMMARY:SITGES – Festival Internacional de Cinema Fantàstic de Catalunya
DESCRIPTION:El SITGES – Festival Internacional de Cinema Fantàstic de Catalunya és el festival de cinema fantàstic més prestigiós del món i l’esdeveniment cultural amb major ressò mediàtic de Catalunya. Des de la seva fundació el 1968 com la 1a Setmana Internacional de Cinema Fantàstic i de Terror\, ha evolucionat fins a convertir-se en una cita ineludible per als amants del gènere\, oferint un espai únic per a l’exhibició\, presentació i projecció del cinema fantàstic global. \nCada any\, Sitges es transforma en l’epicentre del cinema fantàstic\, reunint milers de cinèfils\, professionals de la indústria i membres de la premsa. El festival no només projecta les pel·lícules de gènere més recents i innovadores\, sinó que també ret homenatge a clàssics que han deixat empremta en la història del cinema fantàstic. Així mateix\, compta amb presència d’importants figures cinematogràfiques que han tingut una relació especial amb aquest gènere\, oferint retrospectius\, homenatges i trobades amb el públic. \nA més de les projeccions\, el festival inclou activitats paral·leles com masterclasses\, conferències\, exposicions i presentacions de llibres\, que contribueixen a enriquir l’experiència i a fomentar el diàleg sobre el futur del cinema i les noves tecnologies audiovisuals. Amb el pas dels anys\, el Festival de Sitges s’ha consolidat com un punt de trobada essencial per a conèixer les últimes tendències i les innovacions més impactants en el món del cinema fantàstic.
URL:https://staging.catalunyaturisme.cat/esdeveniment/sitges-festival-internacional-de-cinema-fantastic-de-catalunya/
LOCATION:Sitges\, Sitges\, 08870\, España
CATEGORIES:Cinema
ATTACH;FMTTYPE=image/jpeg:https://staging.catalunyaturisme.cat/wp-content/uploads/Melia.jpeg
END:VEVENT
END:VCALENDAR