BEGIN:VCALENDAR
VERSION:2.0
PRODID:-//Catalunya Turisme - ECPv6.5.1.5//NONSGML v1.0//EN
CALSCALE:GREGORIAN
METHOD:PUBLISH
X-ORIGINAL-URL:https://staging.catalunyaturisme.cat
X-WR-CALDESC:Events for Catalunya Turisme
REFRESH-INTERVAL;VALUE=DURATION:PT1H
X-Robots-Tag:noindex
X-PUBLISHED-TTL:PT1H
BEGIN:VTIMEZONE
TZID:Europe/Madrid
BEGIN:DAYLIGHT
TZOFFSETFROM:+0100
TZOFFSETTO:+0200
TZNAME:CEST
DTSTART:20240331T010000
END:DAYLIGHT
BEGIN:STANDARD
TZOFFSETFROM:+0200
TZOFFSETTO:+0100
TZNAME:CET
DTSTART:20241027T010000
END:STANDARD
END:VTIMEZONE
BEGIN:VEVENT
DTSTART;VALUE=DATE:20240831
DTEND;VALUE=DATE:20240902
DTSTAMP:20260420T212235
CREATED:20240822T185746Z
LAST-MODIFIED:20240822T185746Z
UID:10003397-1725062400-1725235199@staging.catalunyaturisme.cat
SUMMARY:Festival de Curtmetratges de Medi Ambient i Sostenibilitat a Viladrau
DESCRIPTION:Viladrau acull una nova edició del Festival de Curtmetratges de Medi Ambient i Sostenibilitat “Parc Natural i Reserva de la Biosfera del Montseny”\, un esdeveniment que s’ha consolidat com una plataforma essencial per a la sensibilització ambiental. Des de la seva creació l’any 2020\, aquest certamen s’ha dedicat a difondre produccions audiovisuals que aborden temes relacionats amb la sostenibilitat i la crisi ecològica\, buscant fomentar el debat\, la denúncia i la conscienciació sobre els desafiaments ambientals globals i locals. \nDurant el festival\, podreu gaudir de la projecció d’una selecció de curtmetratges que\, amb creativitat i compromís\, posen en relleu problemàtiques ambientals d’arreu del món. A més\, el programa inclou l’entrega de premis als millors treballs\, reconeixent l’esforç i la dedicació dels cineastes que contribueixen a aquest important diàleg. \nAquest esdeveniment no és només una oportunitat per descobrir el talent emergent en el camp de l’audiovisual\, sinó també per connectar amb la natura i formar part activa del canvi positiu que el món necessita. A Viladrau\, en ple cor del Montseny\, tindreu l’ocasió de reflexionar i actuar en favor d’un futur més sostenible.
URL:https://staging.catalunyaturisme.cat/esdeveniment/festival-de-curtmetratges-de-medi-ambient-i-sostenibilitat-a-viladrau/
LOCATION:Viladrau\, Viladrau\, 17406\, Espanya
CATEGORIES:Cinema
ATTACH;FMTTYPE=image/jpeg:https://staging.catalunyaturisme.cat/wp-content/uploads/festival-de-curtmetratges-a-viladrau.jpg
END:VEVENT
END:VCALENDAR