BEGIN:VCALENDAR
VERSION:2.0
PRODID:-//Catalunya Turisme - ECPv6.5.1.5//NONSGML v1.0//EN
CALSCALE:GREGORIAN
METHOD:PUBLISH
X-ORIGINAL-URL:https://staging.catalunyaturisme.cat
X-WR-CALDESC:Events for Catalunya Turisme
REFRESH-INTERVAL;VALUE=DURATION:PT1H
X-Robots-Tag:noindex
X-PUBLISHED-TTL:PT1H
BEGIN:VTIMEZONE
TZID:Europe/Madrid
BEGIN:DAYLIGHT
TZOFFSETFROM:+0100
TZOFFSETTO:+0200
TZNAME:CEST
DTSTART:20240331T010000
END:DAYLIGHT
BEGIN:STANDARD
TZOFFSETFROM:+0200
TZOFFSETTO:+0100
TZNAME:CET
DTSTART:20241027T010000
END:STANDARD
END:VTIMEZONE
BEGIN:VEVENT
DTSTART;TZID=Europe/Madrid:20240202T200000
DTEND;TZID=Europe/Madrid:20240204T190000
DTSTAMP:20260421T090035
CREATED:20240130T091446Z
LAST-MODIFIED:20240130T091446Z
UID:10000177-1706904000-1707073200@staging.catalunyaturisme.cat
SUMMARY:24 edició de MACCA\, Mostra d'Animació i Curtmetratges de Cassà de la Selva
DESCRIPTION:La MACCA\, la Mostra d’Animació i Curtmetratges de Cassà de la Selva\, arriba a la seva 24a edició amb una programació per a tots els públics. La mostra\, organitzada pel Cineclub Vuitimig des de l’any 2000\, es basa en els curtmetratges\, un format difícil de trobar en els circuits comercials. \nA més de projeccions\, la MACCA ofereix tallers\, exposicions i altres activitats per a tots els públics. \nLa MACCA és una mostra amb vocació popular\, didàctica i pluridisciplinar. El seu objectiu és acostar el cinema i el món del curtmetratge a tothom.
URL:https://staging.catalunyaturisme.cat/esdeveniment/24-edicio-de-macca-mostra-danimacio-i-curtmetratges-de-cassa-de-la-selva/
CATEGORIES:Cinema,Cultura
ATTACH;FMTTYPE=image/jpeg:https://staging.catalunyaturisme.cat/wp-content/uploads/mostra-danimacio-i-curtmetratges-de-cassa-de-la-selva_page-0001.jpg
END:VEVENT
BEGIN:VEVENT
DTSTART;TZID=Europe/Madrid:20240220T200000
DTEND;TZID=Europe/Madrid:20240220T220000
DTSTAMP:20260421T090035
CREATED:20240219T104239Z
LAST-MODIFIED:20240219T104239Z
UID:10000194-1708459200-1708466400@staging.catalunyaturisme.cat
SUMMARY:VOC\, Festival Òmnium de curtmetratges a Borges Blanques
DESCRIPTION:Les Borges Blanques acullen el festival de curtmetratges VOC\, una iniciativa promoguda per Òmnium Cultural! \nEl VOC\, Festival Òmnium de Curtmetratges\, representa un esforç de dinamització de la producció cinematogràfica en català\, impulsant la creació de curtmetratges de gran qualitat i obrint-los a un públic més àmpli. \nAquest esdeveniment es distingeix per la seva amplitud\, amb més de 90 sales participants a tots els Països Catalans durant els mesos de febrer i març. És una cita imprescindible per a creadors\, amants del cinema i professionals del sector\, una oportunitat única per immersar-se en la riquesa del cinema en català. \n 
URL:https://staging.catalunyaturisme.cat/esdeveniment/voc-festival-omnium-de-curtmetratges-a-borges-blanques/2024-02-20/
LOCATION:Sala Maria Lois\, Passeig del Terrall\, Borges Blanques\, Espanya
CATEGORIES:Cinema
ATTACH;FMTTYPE=image/jpeg:https://staging.catalunyaturisme.cat/wp-content/uploads/voc-festival-omnium-de-curtmetratges-a-les-borges-blanques_page-0001-scaled.jpg
END:VEVENT
BEGIN:VEVENT
DTSTART;TZID=Europe/Madrid:20240227T200000
DTEND;TZID=Europe/Madrid:20240227T220000
DTSTAMP:20260421T090035
CREATED:20240219T104239Z
LAST-MODIFIED:20240219T104239Z
UID:10000195-1709064000-1709071200@staging.catalunyaturisme.cat
SUMMARY:VOC\, Festival Òmnium de curtmetratges a Borges Blanques
DESCRIPTION:Les Borges Blanques acullen el festival de curtmetratges VOC\, una iniciativa promoguda per Òmnium Cultural! \nEl VOC\, Festival Òmnium de Curtmetratges\, representa un esforç de dinamització de la producció cinematogràfica en català\, impulsant la creació de curtmetratges de gran qualitat i obrint-los a un públic més àmpli. \nAquest esdeveniment es distingeix per la seva amplitud\, amb més de 90 sales participants a tots els Països Catalans durant els mesos de febrer i març. És una cita imprescindible per a creadors\, amants del cinema i professionals del sector\, una oportunitat única per immersar-se en la riquesa del cinema en català. \n 
URL:https://staging.catalunyaturisme.cat/esdeveniment/voc-festival-omnium-de-curtmetratges-a-borges-blanques/2024-02-27/
LOCATION:Sala Maria Lois\, Passeig del Terrall\, Borges Blanques\, Espanya
CATEGORIES:Cinema
ATTACH;FMTTYPE=image/jpeg:https://staging.catalunyaturisme.cat/wp-content/uploads/voc-festival-omnium-de-curtmetratges-a-les-borges-blanques_page-0001-scaled.jpg
END:VEVENT
END:VCALENDAR