BEGIN:VCALENDAR
VERSION:2.0
PRODID:-//Catalunya Turisme - ECPv6.5.1.5//NONSGML v1.0//EN
CALSCALE:GREGORIAN
METHOD:PUBLISH
X-ORIGINAL-URL:http://staging.catalunyaturisme.cat/es/
X-WR-CALDESC:Events for Catalunya Turisme
REFRESH-INTERVAL;VALUE=DURATION:PT1H
X-Robots-Tag:noindex
X-PUBLISHED-TTL:PT1H
BEGIN:VTIMEZONE
TZID:Europe/Madrid
BEGIN:DAYLIGHT
TZOFFSETFROM:+0100
TZOFFSETTO:+0200
TZNAME:CEST
DTSTART:20240331T010000
END:DAYLIGHT
BEGIN:STANDARD
TZOFFSETFROM:+0200
TZOFFSETTO:+0100
TZNAME:CET
DTSTART:20241027T010000
END:STANDARD
END:VTIMEZONE
BEGIN:VEVENT
DTSTART;VALUE=DATE:20241125
DTEND;VALUE=DATE:20241202
DTSTAMP:20260420T091938
CREATED:20241111T191339Z
LAST-MODIFIED:20241111T191541Z
UID:10003800-1732492800-1733097599@staging.catalunyaturisme.cat
SUMMARY:Fantàstik Granollers Film Festival
DESCRIPTION:El Fantàstik Granollers Film Festival es el referente del cine fantástico y de terror en la ciudad de Granollers desde el año 2012. Con una programación que incluye una selección exclusiva de películas innovadoras dentro del género\, este evento se ha consolidado como una cita imprescindible para los amantes del cine fantástico y de terror\, donde los espectadores pueden disfrutar de producciones inéditas\, experiencias inmersivas y propuestas creativas que exploran los límites de la fantasía y el miedo. \nAdemás de la proyección de películas\, el festival ofrece actividades paralelas que promueven la cultura cinematográfica de este género. Un ejemplo destacado son las sesiones del Jueves Fantástik\, programadas a lo largo del año\, que brindan un espacio de encuentro para los aficionados. En estas sesiones\, se proyecta una cuidada selección de películas que va desde clásicos del terror hasta las últimas novedades del género\, manteniendo viva la pasión por el cine fantástico durante todo el año y creando una fiel comunidad de seguidores. \nEl evento tiene lugar en diferentes espacios de Granollers\, una ciudad que se ha convertido en un punto de referencia para los amantes del cine fantástico en Cataluña.
URL:http://staging.catalunyaturisme.cat/es/esdeveniment/fantastik-granollers-film-festival/
LOCATION:Granollers\, Granollers\, Espanya
CATEGORIES:Cinema
ATTACH;FMTTYPE=image/jpeg:http://staging.catalunyaturisme.cat/wp-content/uploads/fantastik-granollers-film-festival.jpg
END:VEVENT
END:VCALENDAR