BEGIN:VCALENDAR
VERSION:2.0
PRODID:-//Catalunya Turisme - ECPv6.5.1.5//NONSGML v1.0//EN
CALSCALE:GREGORIAN
METHOD:PUBLISH
X-WR-CALNAME:Catalunya Turisme
X-ORIGINAL-URL:http://staging.catalunyaturisme.cat/es/
X-WR-CALDESC:Events for Catalunya Turisme
REFRESH-INTERVAL;VALUE=DURATION:PT1H
X-Robots-Tag:noindex
X-PUBLISHED-TTL:PT1H
BEGIN:VTIMEZONE
TZID:Europe/Madrid
BEGIN:DAYLIGHT
TZOFFSETFROM:+0100
TZOFFSETTO:+0200
TZNAME:CEST
DTSTART:20240331T010000
END:DAYLIGHT
BEGIN:STANDARD
TZOFFSETFROM:+0200
TZOFFSETTO:+0100
TZNAME:CET
DTSTART:20241027T010000
END:STANDARD
END:VTIMEZONE
BEGIN:VEVENT
DTSTART;VALUE=DATE:20241003
DTEND;VALUE=DATE:20241014
DTSTAMP:20260422T131250
CREATED:20241009T155652Z
LAST-MODIFIED:20241009T155840Z
UID:10003672-1727913600-1728863999@staging.catalunyaturisme.cat
SUMMARY:SITGES – Festival Internacional de Cine Fantástico de Cataluña
DESCRIPTION:El SITGES – Festival Internacional de Cine Fantástico de Cataluña es el festival de cine fantástico más prestigioso del mundo y el evento cultural con mayor repercusión mediática de Cataluña. Desde su creación en 1968 como la 1ª Semana Internacional de Cine Fantástico y de Terror\, ha evolucionado hasta convertirse en una cita imprescindible para los amantes del género\, ofreciendo un espacio único para la exhibición\, presentación y proyección del cine fantástico global. \nCada año\, Sitges se transforma en el epicentro del cine fantástico\, reuniendo a miles de cinéfilos\, profesionales de la industria y miembros de la prensa. El festival no solo proyecta las películas de género más recientes e innovadoras\, sino que también rinde homenaje a clásicos que han dejado huella en la historia del cine fantástico. Asimismo\, cuenta con la presencia de importantes figuras cinematográficas que han tenido una relación especial con este género\, ofreciendo retrospectivas\, homenajes y encuentros con el público. \nAdemás de las proyecciones\, el festival incluye actividades paralelas como masterclasses\, conferencias\, exposiciones y presentaciones de libros\, que enriquecen la experiencia y fomentan el diálogo sobre el futuro del cine y las nuevas tecnologías audiovisuales. Con los años\, el Festival de Sitges se ha consolidado como un punto de encuentro esencial para conocer las últimas tendencias y las innovaciones más impactantes en el mundo del cine fantástico.
URL:http://staging.catalunyaturisme.cat/es/esdeveniment/sitges-festival-internacional-de-cine-fantastico-de-cataluna/
LOCATION:Sitges\, Sitges\, 08870\, España
CATEGORIES:Cinema
ATTACH;FMTTYPE=image/jpeg:http://staging.catalunyaturisme.cat/wp-content/uploads/Melia.jpeg
END:VEVENT
END:VCALENDAR