BEGIN:VCALENDAR
VERSION:2.0
PRODID:-//Catalunya Turisme - ECPv6.5.1.5//NONSGML v1.0//EN
CALSCALE:GREGORIAN
METHOD:PUBLISH
X-ORIGINAL-URL:http://staging.catalunyaturisme.cat/es/
X-WR-CALDESC:Events for Catalunya Turisme
REFRESH-INTERVAL;VALUE=DURATION:PT1H
X-Robots-Tag:noindex
X-PUBLISHED-TTL:PT1H
BEGIN:VTIMEZONE
TZID:Europe/Madrid
BEGIN:DAYLIGHT
TZOFFSETFROM:+0100
TZOFFSETTO:+0200
TZNAME:CEST
DTSTART:20240331T010000
END:DAYLIGHT
BEGIN:STANDARD
TZOFFSETFROM:+0200
TZOFFSETTO:+0100
TZNAME:CET
DTSTART:20241027T010000
END:STANDARD
END:VTIMEZONE
BEGIN:VEVENT
DTSTART;VALUE=DATE:20240730
DTEND;VALUE=DATE:20240731
DTSTAMP:20260422T182559
CREATED:20240723T103154Z
LAST-MODIFIED:20240723T103641Z
UID:10003311-1722297600-1722383999@staging.catalunyaturisme.cat
SUMMARY:Festival de Cine en el Valle de Boí
DESCRIPTION:Por primera vez\, llega al Valle de Boí el festival de cine de outdoor más grande de Europa\, el European Outdoor Film Tour (EOFT). Este evento promete ofrecer inspiración a los aventureros y entusiastas del deporte al aire libre\, presentando historias únicas\, protagonistas apasionantes y paisajes espectaculares de los rincones más salvajes de nuestro planeta. \nEl programa de 2023\, que se extiende también a 2024\, incluye varios documentales con una duración total aproximada de 120 minutos\, ofreciendo una experiencia llena de contrastes y emociones. El estreno mundial del festival tiene lugar cada año en octubre en Múnich\, Alemania\, y luego se presenta en más de 500 eventos en 26 países de todo el mundo\, incluyendo esta nueva parada en el Valle de Boí. \nUno de los momentos más esperados del festival será la presentación especial de Oriol Baró\, alpinista de prestigio originario del Valle de Boí. Con su amplia experiencia y conocimiento del mundo del alpinismo\, Oriol Baró aportará una visión única y enriquecedora\, conectando directamente con el público asistente y compartiendo sus vivencias en las montañas más desafiantes. \nEl festival se realizará en varios espacios emblemáticos del Valle de Boí\, permitiendo a los visitantes disfrutar no solo del cine de calidad\, sino también del entorno natural y cultural de esta región pirenaica. Este evento es una oportunidad única para descubrir historias increíbles e inspiradoras\, mientras se disfruta de un fin de semana rodeado de la belleza de la naturaleza.
URL:http://staging.catalunyaturisme.cat/es/esdeveniment/festival-de-cine-en-el-valle-de-boi/
LOCATION:Vall de Boí\, Vall de Boí\, 25199\, España
CATEGORIES:Cinema
ATTACH;FMTTYPE=image/jpeg:http://staging.catalunyaturisme.cat/wp-content/uploads/festival-de-cinema-a-vall-de-boi.jpg
END:VEVENT
END:VCALENDAR